BEGIN:VCALENDAR
VERSION:2.0
PRODID:-//Homosexuelle Initiative (HOSI) Wien - ECPv5.16.4//NONSGML v1.0//EN
CALSCALE:GREGORIAN
METHOD:PUBLISH
X-ORIGINAL-URL:https://archiv.hosiwien.at
X-WR-CALDESC:Events for Homosexuelle Initiative (HOSI) Wien
REFRESH-INTERVAL;VALUE=DURATION:PT1H
X-Robots-Tag:noindex
X-PUBLISHED-TTL:PT1H
BEGIN:VTIMEZONE
TZID:Europe/Vienna
BEGIN:DAYLIGHT
TZOFFSETFROM:+0100
TZOFFSETTO:+0200
TZNAME:CEST
DTSTART:20140330T010000
END:DAYLIGHT
BEGIN:STANDARD
TZOFFSETFROM:+0200
TZOFFSETTO:+0100
TZNAME:CET
DTSTART:20141026T010000
END:STANDARD
END:VTIMEZONE
BEGIN:VEVENT
DTSTART;TZID=Europe/Vienna:20141213T120000
DTEND;TZID=Europe/Vienna:20141213T180000
DTSTAMP:20260425T221529
CREATED:20140804T185128Z
LAST-MODIFIED:20141128T161231Z
UID:30423-1418472000-1418493600@archiv.hosiwien.at
SUMMARY:Methodentraining peerconnexion
DESCRIPTION:
URL:https://archiv.hosiwien.at/event/kompetenztraining-peerconnexion/
LOCATION:Gugg\, Heumühlgasse 14\, Wien\, 1040
CATEGORIES:queerconnexion
GEO:48.1961598;16.3617969
X-APPLE-STRUCTURED-LOCATION;VALUE=URI;X-ADDRESS=Gugg Heumühlgasse 14 Wien 1040;X-APPLE-RADIUS=500;X-TITLE=Heumühlgasse 14:geo:16.3617969,48.1961598
END:VEVENT
BEGIN:VEVENT
DTSTART;TZID=Europe/Vienna:20141213T180000
DTEND;TZID=Europe/Vienna:20141214T010000
DTSTAMP:20260425T221529
CREATED:20131112T160216Z
LAST-MODIFIED:20150915T174952Z
UID:27746-1418493600-1418518800@archiv.hosiwien.at
SUMMARY:Café-Betrieb
DESCRIPTION:Das Gugg bietet nicht nur Veranstaltungen und Gruppentreffen den passenden Raum\, sondern ist natürlich auch ein gemütlicher Ort zum Verweilen und Plaudern. Die genauen Öffnungszeiten kannst du hier nachlesen. Wir freuen uns auf deinen Besuch!
URL:https://archiv.hosiwien.at/event/caf-betrieb-3-2/2014-12-13/
LOCATION:Gugg\, Heumühlgasse 14\, Wien\, 1040
CATEGORIES:Café-Betrieb
GEO:48.1961598;16.3617969
X-APPLE-STRUCTURED-LOCATION;VALUE=URI;X-ADDRESS=Gugg Heumühlgasse 14 Wien 1040;X-APPLE-RADIUS=500;X-TITLE=Heumühlgasse 14:geo:16.3617969,48.1961598
END:VEVENT
BEGIN:VEVENT
DTSTART;TZID=Europe/Vienna:20141213T190000
DTEND;TZID=Europe/Vienna:20141214T010000
DTSTAMP:20260425T221529
CREATED:20140804T185252Z
LAST-MODIFIED:20141202T124830Z
UID:30424-1418497200-1418518800@archiv.hosiwien.at
SUMMARY:Weihnachtsfeier der HOSI Wien
DESCRIPTION:Gemütliches Zusammensein bei weihnachtlichem Buffet und stimmungsvoller Musik.
URL:https://archiv.hosiwien.at/event/weihnachtsfeier-der-hosi-wien/
LOCATION:Gugg\, Heumühlgasse 14\, Wien\, 1040
CATEGORIES:Party
ATTACH;FMTTYPE=image/jpeg:https://archiv.hosiwien.at/img/flyer_weihnachten2014.jpg
GEO:48.1961598;16.3617969
X-APPLE-STRUCTURED-LOCATION;VALUE=URI;X-ADDRESS=Gugg Heumühlgasse 14 Wien 1040;X-APPLE-RADIUS=500;X-TITLE=Heumühlgasse 14:geo:16.3617969,48.1961598
END:VEVENT
END:VCALENDAR