BEGIN:VCALENDAR
VERSION:2.0
PRODID:-//Homosexuelle Initiative (HOSI) Wien - ECPv5.16.4//NONSGML v1.0//EN
CALSCALE:GREGORIAN
METHOD:PUBLISH
X-WR-CALNAME:Homosexuelle Initiative (HOSI) Wien
X-ORIGINAL-URL:https://archiv.hosiwien.at
X-WR-CALDESC:Events for Homosexuelle Initiative (HOSI) Wien
REFRESH-INTERVAL;VALUE=DURATION:PT1H
X-Robots-Tag:noindex
X-PUBLISHED-TTL:PT1H
BEGIN:VTIMEZONE
TZID:Europe/Vienna
BEGIN:DAYLIGHT
TZOFFSETFROM:+0100
TZOFFSETTO:+0200
TZNAME:CEST
DTSTART:20140330T010000
END:DAYLIGHT
BEGIN:STANDARD
TZOFFSETFROM:+0200
TZOFFSETTO:+0100
TZNAME:CET
DTSTART:20141026T010000
END:STANDARD
END:VTIMEZONE
BEGIN:VEVENT
DTSTART;TZID=Europe/Vienna:20141226T100000
DTEND;TZID=Europe/Vienna:20141226T160000
DTSTAMP:20260425T012843
CREATED:20141215T145541Z
LAST-MODIFIED:20160419T222143Z
UID:32845-1419588000-1419609600@archiv.hosiwien.at
SUMMARY:Büro geschlossen
DESCRIPTION:Das Büro ist heute leider geschlossen. \nDie generellen Bürozeiten sind:\nMontag 12-16 Uhr\nDienstag 10-16 Uhr\nFreitag 10-16 Uhr. \nGerne kannst du unter der Tel. 0660-216 66 05 eine Nachricht hinterlassen. Du wirst sobald wie möglich bzgl. deines Anliegens zurückgerufen.
URL:https://archiv.hosiwien.at/event/buero-geschlossen-27/
LOCATION:Gugg\, Heumühlgasse 14\, Wien\, 1040
CATEGORIES:Bürozeiten,Sperre
GEO:48.1961598;16.3617969
X-APPLE-STRUCTURED-LOCATION;VALUE=URI;X-ADDRESS=Gugg Heumühlgasse 14 Wien 1040;X-APPLE-RADIUS=500;X-TITLE=Heumühlgasse 14:geo:16.3617969,48.1961598
END:VEVENT
BEGIN:VEVENT
DTSTART;TZID=Europe/Vienna:20141226T180000
DTEND;TZID=Europe/Vienna:20141226T220000
DTSTAMP:20260425T012843
CREATED:20141216T141300Z
LAST-MODIFIED:20160419T222143Z
UID:32864-1419616800-1419631200@archiv.hosiwien.at
SUMMARY:Gugg geschlossen
DESCRIPTION:Wir haben von 24. bis 28. Dezember geschlossen.
URL:https://archiv.hosiwien.at/event/gugg-geschlossen-20/2014-12-26/
LOCATION:Gugg\, Heumühlgasse 14\, Wien\, 1040
CATEGORIES:Café-Betrieb,Sperre
GEO:48.1961598;16.3617969
X-APPLE-STRUCTURED-LOCATION;VALUE=URI;X-ADDRESS=Gugg Heumühlgasse 14 Wien 1040;X-APPLE-RADIUS=500;X-TITLE=Heumühlgasse 14:geo:16.3617969,48.1961598
END:VEVENT
END:VCALENDAR