BEGIN:VCALENDAR
VERSION:2.0
PRODID:-//Homosexuelle Initiative (HOSI) Wien - ECPv5.16.4//NONSGML v1.0//EN
CALSCALE:GREGORIAN
METHOD:PUBLISH
X-WR-CALNAME:Homosexuelle Initiative (HOSI) Wien
X-ORIGINAL-URL:https://archiv.hosiwien.at
X-WR-CALDESC:Events for Homosexuelle Initiative (HOSI) Wien
REFRESH-INTERVAL;VALUE=DURATION:PT1H
X-Robots-Tag:noindex
X-PUBLISHED-TTL:PT1H
BEGIN:VTIMEZONE
TZID:Europe/Vienna
BEGIN:DAYLIGHT
TZOFFSETFROM:+0100
TZOFFSETTO:+0200
TZNAME:CEST
DTSTART:20150329T010000
END:DAYLIGHT
BEGIN:STANDARD
TZOFFSETFROM:+0200
TZOFFSETTO:+0100
TZNAME:CET
DTSTART:20151025T010000
END:STANDARD
END:VTIMEZONE
BEGIN:VEVENT
DTSTART;TZID=Europe/Vienna:20150113T100000
DTEND;TZID=Europe/Vienna:20150113T160000
DTSTAMP:20260424T223221
CREATED:20141114T181312Z
LAST-MODIFIED:20150915T161237Z
UID:32552-1421143200-1421164800@archiv.hosiwien.at
SUMMARY:Bürozeiten der HOSI Wien
DESCRIPTION:Während der Bürozeiten kannst du in unserem Vereinszentrum und -lokal\, dem Gugg\, vorbeikommen und dich über die HOSI Wien informieren\, generell Infomaterial über die LSBT-Szene in Wien erhalten\, Dringendes besprechen oder Mitglied werden und sofort deine Mitgliedskarte erhalten. \nDie Bürozeiten sind: \nMontag 12 – 16 Uhr \nDienstag 10 – 16 Uhr \nFreitag 10 – 16 Uhr \nUnsere Mitarbeiterin Anna Szutt ist während der Bürozeiten unter 0660/216 66 05 telefonisch erreichbar.
URL:https://archiv.hosiwien.at/event/buerozeiten-der-hosi-wien-16/2015-01-13/
LOCATION:Gugg\, Heumühlgasse 14\, Wien\, 1040
CATEGORIES:Bürozeiten
GEO:48.1961598;16.3617969
X-APPLE-STRUCTURED-LOCATION;VALUE=URI;X-ADDRESS=Gugg Heumühlgasse 14 Wien 1040;X-APPLE-RADIUS=500;X-TITLE=Heumühlgasse 14:geo:16.3617969,48.1961598
END:VEVENT
BEGIN:VEVENT
DTSTART;TZID=Europe/Vienna:20150113T183000
DTEND;TZID=Europe/Vienna:20150113T220000
DTSTAMP:20260424T223221
CREATED:20140716T144953Z
LAST-MODIFIED:20150320T115420Z
UID:30188-1421173800-1421186400@archiv.hosiwien.at
SUMMARY:Orga-Teamsitzung
DESCRIPTION:Die Teamsitzung findet im Veranstaltungsraum statt.
URL:https://archiv.hosiwien.at/event/orga-team-sitzung-5/2015-01-13/
LOCATION:Gugg\, Heumühlgasse 14\, Wien\, 1040
CATEGORIES:Intern
ATTACH;FMTTYPE=image/jpeg:https://archiv.hosiwien.at/img/parade_ball.jpg
GEO:48.1961598;16.3617969
X-APPLE-STRUCTURED-LOCATION;VALUE=URI;X-ADDRESS=Gugg Heumühlgasse 14 Wien 1040;X-APPLE-RADIUS=500;X-TITLE=Heumühlgasse 14:geo:16.3617969,48.1961598
END:VEVENT
BEGIN:VEVENT
DTSTART;TZID=Europe/Vienna:20150113T190000
DTEND;TZID=Europe/Vienna:20150113T190000
DTSTAMP:20260424T223221
CREATED:20140929T163421Z
LAST-MODIFIED:20140929T163421Z
UID:31639-1421175600-1421175600@archiv.hosiwien.at
SUMMARY:Rainbow Scouting Austria - Stammtisch
DESCRIPTION:Einmal im Monat – genauer gesagt am zweiten Dienstag im Monat – treffen sich die Rainbow Scouts bei uns im Gugg. Die Rainbow Scouts\, das sind in diesem Fall nicht nur lesbische und schwule PfadfinderInnen. Bei ihnen sind LeiterInnen\, Jugendliche\, UnterstützerInnen – kurz: sie sind ein recht bunter Haufen. Ein Thema steht immer im Vordergrund und soll Diskussionen anregen (z.B. Homosexualität im Profi-Sport)\, es bleibt aber genug Raum für Erfahrung\, persönliche Geschichten\, Zuhören oder einfach nur ausgiebiges Herumalbern. Und das alles in einer entspannten und offenen Atmosphäre: bei den Rainbow Scouts muss sich keine/r komisch oder als AußenseiterIn fühlen. Sie freuen sich immer über „neue“ Gesichter. \nAlle Infos unter www.rainbowscouting.at \nDas Gugg hat bereits ab 18 Uhr geöffnet!
URL:https://archiv.hosiwien.at/event/rainbow-scouting-austria-stammtisch/2015-01-13/
LOCATION:Gugg\, Heumühlgasse 14\, Wien\, 1040
CATEGORIES:Gruppen
ATTACH;FMTTYPE=image/png:https://archiv.hosiwien.at/img/rainbow-scouting-austria.png
GEO:48.1961598;16.3617969
X-APPLE-STRUCTURED-LOCATION;VALUE=URI;X-ADDRESS=Gugg Heumühlgasse 14 Wien 1040;X-APPLE-RADIUS=500;X-TITLE=Heumühlgasse 14:geo:16.3617969,48.1961598
END:VEVENT
END:VCALENDAR