BEGIN:VCALENDAR
VERSION:2.0
PRODID:-//Homosexuelle Initiative (HOSI) Wien - ECPv5.16.4//NONSGML v1.0//EN
CALSCALE:GREGORIAN
METHOD:PUBLISH
X-ORIGINAL-URL:https://archiv.hosiwien.at
X-WR-CALDESC:Events for Homosexuelle Initiative (HOSI) Wien
REFRESH-INTERVAL;VALUE=DURATION:PT1H
X-Robots-Tag:noindex
X-PUBLISHED-TTL:PT1H
BEGIN:VTIMEZONE
TZID:Europe/Vienna
BEGIN:DAYLIGHT
TZOFFSETFROM:+0100
TZOFFSETTO:+0200
TZNAME:CEST
DTSTART:20150329T010000
END:DAYLIGHT
BEGIN:STANDARD
TZOFFSETFROM:+0200
TZOFFSETTO:+0100
TZNAME:CET
DTSTART:20151025T010000
END:STANDARD
END:VTIMEZONE
BEGIN:VEVENT
DTSTART;TZID=Europe/Vienna:20150114T183000
DTEND;TZID=Europe/Vienna:20150114T183000
DTSTAMP:20260424T201450
CREATED:20141114T162756Z
LAST-MODIFIED:20150112T194119Z
UID:32486-1421260200-1421260200@archiv.hosiwien.at
SUMMARY:Ausstellungseröffnung „Lala Life“
DESCRIPTION:Gemeinsam mit der Österreichischen Liga für Menschenrechte präsentiert QWIEN – Zentrum für schwul/lesbische Kultur und Geschichte im Vorfeld des Queer History Day 2015 am 14. Jänner 2015 die Fotoausstellung „Lala Life – ein Report über Liebe zwischen Resignation und Protest“ mit Bildern von Fabian Weiß. Die einfühlsame Fotoreportage über lesbisches Leben in China wurde mit dem CNN Journalist Award 2013 prämiert. Die Ausstellungseröffnung wird durch die Vizepräsidentin der Liga für Menschenrechte Mag.a Therezija Stoisits erfolgen.\nLala Life – ein Report über Liebe zwischen Resignation und Protest \nNoch immer sind im modernen China Lesben und bisexuelle Frauen mit ungleich schwereren Lebensbedingungen konfrontiert. Seit 1997 steht Homosexualität nicht mehr unter Strafe\, 2001 strich das Gesundheitsministerium Homosexualität von der Liste der psychischen Erkrankungen. Doch trotz lockerer Einschränkungen und zunehmenden Einfluss liberalerer Werte\, findet in China das Leben homosexueller Menschen vorwiegend im Geheimen statt. Lesbische und bisexuelle Frauen leben ihre Homo- bzw. Bisexualität noch verborgener aus als Männer und haben auch weniger Treffpunkte als diese. Als wäre das nicht genug\, werden die Erwartungen an Kinder bezüglich einer Heirat immer größer. \nGleichzeitig gibt es mehr Möglichkeiten denn je sich zu treffen und auszutauschen. Online-Platformen für Homosexuelle schießen wie Pilze aus dem Boden und neue Lebenskonzepte entstehen. Um den Druck des Sich-verheiraten-müssens zu entgehen\, sind Scheinehen zwischen Schwulen und Lesben keine Seltenheit und bieten den so einen gewissen Grand an Freiheit. Aufgrund der enorm hohen Wohnungspreise in den größeren Städten\, werden Frauen\, die gemeinsam leben\, immer mehr toleriert. Das hat natürlich seinen Preis: weder wird Vortäuschen und Verstecken in naher Zukunft eine Änderung in den Köpfen der Menschen bewirken\, noch ist das Sich-nach-außen-verleugnen für die betroffenen Personen angenehm. \nDie Fotoreportage Lala Life wurde 2013 mit dem CNN Journalist Award 2013 in der Kategorie Foto prämiert. Die Jury nannte die Bilder\, die Einblicke in das Leben der Frauen des LaLa Shalongs\, einem Treffpunkt für homosexuelle Frauen in Peking\, gewähren „poetisch\, ausdrucksstark und sehr authentisch“. Die Jury argumentiert weiter\, dass es beeindruckend ist\, „dass er [Weiß] es geschafft hat\, das Vertrauen der Frauen zu gewinnen und ihnen so nahe zu kommen\, dass auch der/die BetrachterIn sich nah fühlt“.\nFabian Weiß \nFabian Weiß ist freischaffender Fotograf für nationale und internationale Publikationen. Schon seit seinem Fotografiestudium in Wien\, Dänemark und London erforscht er mit seinen Fotostrecken kulturelle Veränderungen in persönlichen Strukturen. Intime\, filmische Bilder zeigen nuancierte und feinfühlig beobachtete Porträts im Kontext der jeweiligen Kultur. \nFabian’s Werk wurde international vielfach ausgezeichnet: u.a. mit dem CNN Journalist Award\, dem BFF Förderpreis\, dem Getty Images Emerging Talent Grant\, dem Pride Photo Award sowie dem österreichischen Objektiv Fotopreis. Zudem wurde er Finalist des European Publishers Award\, des Deutsche Bank Award in Photography\, des Fotovisura Spotlight Grant\, des Ian Parry Scholarship und nominiert für die PDN 30 New and Emerging Photographers to Watch sowie die Joop Swart Masterclass. \nSeine fotografischen Essays wurden in zahlreichen Medien wie GEO\, DIE ZEIT\, Sunday Times Magazine und LeMonde veröffentlicht und in vielen Ländern Europas ausgestellt. Fabian Weiß lebt in Estland und Deutschland und arbeitet in Europa und ostwärts. \nEintritt ist frei! \nDie Ausstellung ist bis inklusive dem 08.02.2015 zu den Öffnungszeiten im Gugg zu sehen.
URL:https://archiv.hosiwien.at/event/la-la-life-ausstellungseroeffnung/
LOCATION:Gugg\, Heumühlgasse 14\, Wien\, 1040
CATEGORIES:kulturelle Veranstaltung
GEO:48.1961598;16.3617969
X-APPLE-STRUCTURED-LOCATION;VALUE=URI;X-ADDRESS=Gugg Heumühlgasse 14 Wien 1040;X-APPLE-RADIUS=500;X-TITLE=Heumühlgasse 14:geo:16.3617969,48.1961598
END:VEVENT
BEGIN:VEVENT
DTSTART;TZID=Europe/Vienna:20150114T190000
DTEND;TZID=Europe/Vienna:20150114T230000
DTSTAMP:20260424T201450
CREATED:20140703T143402Z
LAST-MODIFIED:20151102T144911Z
UID:29651-1421262000-1421276400@archiv.hosiwien.at
SUMMARY:Lesbenabend
DESCRIPTION:Seit über 30 Jahren bietet die HOSI Wien jeden Mittwoch einen Raum für Frauen. Wir sind eine Gruppe aus den verschiedensten Berufen und mit den unterschiedlichsten Interessen\, doch eines ist uns allen gemeinsam: Wir sind lesbisch. \nDie Lesbengruppe wurde 1981 innerhalb der HOSI Wien von einigen Frauen gegründet\, und seit dieser Zeit trifft sie sich jeden Mittwoch ab 19 Uhr im HOSI-Zentrum. Austausch\, Kennenlernen und Kontakt zu Gleichgesinnten ist uns besonders wichtig. \nHINWEIS: Das umfangreiche Serviceangebot der HOSI Wien wird durch ehrenamtliches Engagement erbracht. Wie du die wichtige Arbeit des Vereins durch Spende oder Mitgliedschaft unterstützen kannst\, erfährst du unter archiv.hosiwien.at/mitgliedschaft.
URL:https://archiv.hosiwien.at/event/lesbenabend-6/2015-01-14/
LOCATION:Gugg\, Heumühlgasse 14\, Wien\, 1040
CATEGORIES:Gruppen
ATTACH;FMTTYPE=image/png:https://archiv.hosiwien.at/img/lesben-frauen.png
GEO:48.1961598;16.3617969
X-APPLE-STRUCTURED-LOCATION;VALUE=URI;X-ADDRESS=Gugg Heumühlgasse 14 Wien 1040;X-APPLE-RADIUS=500;X-TITLE=Heumühlgasse 14:geo:16.3617969,48.1961598
END:VEVENT
END:VCALENDAR