BEGIN:VCALENDAR
VERSION:2.0
PRODID:-//Homosexuelle Initiative (HOSI) Wien - ECPv5.16.4//NONSGML v1.0//EN
CALSCALE:GREGORIAN
METHOD:PUBLISH
X-ORIGINAL-URL:https://archiv.hosiwien.at
X-WR-CALDESC:Events for Homosexuelle Initiative (HOSI) Wien
REFRESH-INTERVAL;VALUE=DURATION:PT1H
X-Robots-Tag:noindex
X-PUBLISHED-TTL:PT1H
BEGIN:VTIMEZONE
TZID:Europe/Vienna
BEGIN:DAYLIGHT
TZOFFSETFROM:+0100
TZOFFSETTO:+0200
TZNAME:CEST
DTSTART:20150329T010000
END:DAYLIGHT
BEGIN:STANDARD
TZOFFSETFROM:+0200
TZOFFSETTO:+0100
TZNAME:CET
DTSTART:20151025T010000
END:STANDARD
END:VTIMEZONE
BEGIN:VEVENT
DTSTART;TZID=Europe/Vienna:20150224T100000
DTEND;TZID=Europe/Vienna:20150224T160000
DTSTAMP:20260424T212938
CREATED:20141114T181312Z
LAST-MODIFIED:20150915T161238Z
UID:32558-1424772000-1424793600@archiv.hosiwien.at
SUMMARY:Bürozeiten der HOSI Wien
DESCRIPTION:Während der Bürozeiten kannst du in unserem Vereinszentrum und -lokal\, dem Gugg\, vorbeikommen und dich über die HOSI Wien informieren\, generell Infomaterial über die LSBT-Szene in Wien erhalten\, Dringendes besprechen oder Mitglied werden und sofort deine Mitgliedskarte erhalten. \nDie Bürozeiten sind: \nMontag 12 – 16 Uhr \nDienstag 10 – 16 Uhr \nFreitag 10 – 16 Uhr \nUnsere Mitarbeiterin Anna Szutt ist während der Bürozeiten unter 0660/216 66 05 telefonisch erreichbar.
URL:https://archiv.hosiwien.at/event/buerozeiten-der-hosi-wien-16/2015-02-24/
LOCATION:Gugg\, Heumühlgasse 14\, Wien\, 1040
CATEGORIES:Bürozeiten
GEO:48.1961598;16.3617969
X-APPLE-STRUCTURED-LOCATION;VALUE=URI;X-ADDRESS=Gugg Heumühlgasse 14 Wien 1040;X-APPLE-RADIUS=500;X-TITLE=Heumühlgasse 14:geo:16.3617969,48.1961598
END:VEVENT
BEGIN:VEVENT
DTSTART;TZID=Europe/Vienna:20150224T193000
DTEND;TZID=Europe/Vienna:20150224T220000
DTSTAMP:20260424T212938
CREATED:20150206T134330Z
LAST-MODIFIED:20150218T164042Z
UID:33603-1424806200-1424815200@archiv.hosiwien.at
SUMMARY:Community Talk: Asylpolitik
DESCRIPTION:Der Mord an Hande Öncü\, die vor Gewalt gegen Trans-Frauen und SexarbeiterInnen in der Türkei nach Österreich geflüchtet ist\, wirft viele Fragen auf. Welche Erfahrungen machen Lesben\, Schwule\, Bisexuelle\, trans- und intersexuelle Menschen im österreichischen Asylwesen? Gibt es ausreichend Schutz vor trans- und homophob motivierter Gewalt? Wie stehen die Chancen für die Gewährung von Asyl\, und welche Formen von Unterstützung können Community-Organisationen anbieten? Über diese und viele weitere Fragen wollen wir gemeinsam mit euch diskutieren. \nKommt vorbei\, informiert euch und diskutiert mit! \nBeginn: 19.30 Uhr \nFacebook: Community Talk
URL:https://archiv.hosiwien.at/event/peerconnexion-3/
LOCATION:Gugg\, Heumühlgasse 14\, Wien\, 1040
CATEGORIES:kulturelle Veranstaltung
ATTACH;FMTTYPE=image/jpeg:https://archiv.hosiwien.at/img/QUEERtalk-Asylpolitik_2.jpg
GEO:48.1961598;16.3617969
X-APPLE-STRUCTURED-LOCATION;VALUE=URI;X-ADDRESS=Gugg Heumühlgasse 14 Wien 1040;X-APPLE-RADIUS=500;X-TITLE=Heumühlgasse 14:geo:16.3617969,48.1961598
END:VEVENT
END:VCALENDAR