BEGIN:VCALENDAR
VERSION:2.0
PRODID:-//Homosexuelle Initiative (HOSI) Wien - ECPv5.16.4//NONSGML v1.0//EN
CALSCALE:GREGORIAN
METHOD:PUBLISH
X-WR-CALNAME:Homosexuelle Initiative (HOSI) Wien
X-ORIGINAL-URL:https://archiv.hosiwien.at
X-WR-CALDESC:Events for Homosexuelle Initiative (HOSI) Wien
REFRESH-INTERVAL;VALUE=DURATION:PT1H
X-Robots-Tag:noindex
X-PUBLISHED-TTL:PT1H
BEGIN:VTIMEZONE
TZID:Europe/Vienna
BEGIN:DAYLIGHT
TZOFFSETFROM:+0100
TZOFFSETTO:+0200
TZNAME:CEST
DTSTART:20150329T010000
END:DAYLIGHT
BEGIN:STANDARD
TZOFFSETFROM:+0200
TZOFFSETTO:+0100
TZNAME:CET
DTSTART:20151025T010000
END:STANDARD
END:VTIMEZONE
BEGIN:VEVENT
DTSTART;TZID=Europe/Vienna:20150411T150000
DTEND;TZID=Europe/Vienna:20150411T180000
DTSTAMP:20260424T134235
CREATED:20141021T155431Z
LAST-MODIFIED:20141021T155512Z
UID:32168-1428764400-1428775200@archiv.hosiwien.at
SUMMARY:Resis.danse - Rock I
DESCRIPTION:Boogie & Jive für Anfängerinnen! \nTermine: Sa\, 11. & So\, 12. April 2015\, 15-18 Uhr \nUKB: € 50\,00
URL:https://archiv.hosiwien.at/event/resis-danse-rock-i-2/2015-04-11/
LOCATION:Gugg\, Heumühlgasse 14\, Wien\, 1040
CATEGORIES:Gruppen
ATTACH;FMTTYPE=image/jpeg:https://archiv.hosiwien.at/img/resisdanse1.jpg
GEO:48.1961598;16.3617969
X-APPLE-STRUCTURED-LOCATION;VALUE=URI;X-ADDRESS=Gugg Heumühlgasse 14 Wien 1040;X-APPLE-RADIUS=500;X-TITLE=Heumühlgasse 14:geo:16.3617969,48.1961598
END:VEVENT
BEGIN:VEVENT
DTSTART;TZID=Europe/Vienna:20150411T160000
DTEND;TZID=Europe/Vienna:20150411T180000
DTSTAMP:20260424T134235
CREATED:20150404T203551Z
LAST-MODIFIED:20150915T173529Z
UID:34738-1428768000-1428775200@archiv.hosiwien.at
SUMMARY:TeilnehmerInnen-Treffen Parade
DESCRIPTION:Die Regenbogenparade rückt näher\, die Motivation steigt\, und du willst dich mit einem kreativen Beitrag beteiligen? Dann komm’ zu unseren TeilnehmerInnen-Treffen! Hier kannst du alle Fragen rund um deine Teilnahme klären und von der Erfahrung langjähriger HOSI-Wien-AktivistInnen sowie anderer anwesender TeilnehmerInnen profitieren. \nIn erster Linie geht es darum\, Gruppen und Personen\, die nicht mehr bzw. noch nicht an der Parade teilnehmen\, zu unterstützen. Wir wollen mit euch in Austausch treten! Denn gemeinsam können wir Barrieren\, die einer Teilnahme im Wege stehen\, überwinden und nach Lösungen sowie Unterstützungsmöglichkeiten suchen. Auch wenn ihr bisher keine Parade verpasst habt\, freuen wir uns\, wenn ihr vorbeischaut und Feedback gebt.\nDu hast tolle Ideen\, aber weißt nicht\, mit wem du sie umsetzen kannst? Auch dann bist du bei uns richtig!
URL:https://archiv.hosiwien.at/event/teilnehmerinnen-treffen-parade-12/
LOCATION:Gugg\, Heumühlgasse 14\, Wien\, 1040
CATEGORIES:Gruppen
ATTACH;FMTTYPE=image/jpeg:https://archiv.hosiwien.at/img/regenbogenparade2015_quadratisch.jpg
ORGANIZER;CN="Martina%20Fink%2C%20Karl%20Kreipel":MAILTO:martina.fink@archiv.hosiwien.at
GEO:48.1961598;16.3617969
X-APPLE-STRUCTURED-LOCATION;VALUE=URI;X-ADDRESS=Gugg Heumühlgasse 14 Wien 1040;X-APPLE-RADIUS=500;X-TITLE=Heumühlgasse 14:geo:16.3617969,48.1961598
END:VEVENT
BEGIN:VEVENT
DTSTART;TZID=Europe/Vienna:20150411T180000
DTEND;TZID=Europe/Vienna:20150412T010000
DTSTAMP:20260424T134235
CREATED:20140703T145855Z
LAST-MODIFIED:20170428T164147Z
UID:29822-1428775200-1428800400@archiv.hosiwien.at
SUMMARY:Café-Betrieb
DESCRIPTION:Das Gugg bietet nicht nur Veranstaltungen und Gruppentreffen den passenden Raum\, sondern ist natürlich auch ein gemütlicher Ort zum Verweilen und Plaudern. Wir freuen uns auf deinen Besuch während der Öffnungszeiten!
URL:https://archiv.hosiwien.at/event/cafe-betrieb-13-2015-05-30-2015-01-17/2015-04-11/
LOCATION:Gugg\, Heumühlgasse 14\, Wien\, 1040
CATEGORIES:Café-Betrieb
ATTACH;FMTTYPE=image/jpeg:https://archiv.hosiwien.at/img/image/2011/gugg_logo2011.jpg
GEO:48.1961598;16.3617969
X-APPLE-STRUCTURED-LOCATION;VALUE=URI;X-ADDRESS=Gugg Heumühlgasse 14 Wien 1040;X-APPLE-RADIUS=500;X-TITLE=Heumühlgasse 14:geo:16.3617969,48.1961598
END:VEVENT
BEGIN:VEVENT
DTSTART;TZID=Europe/Vienna:20150411T200000
DTEND;TZID=Europe/Vienna:20150412T010000
DTSTAMP:20260424T134235
CREATED:20150304T100602Z
LAST-MODIFIED:20150403T203356Z
UID:34018-1428782400-1428800400@archiv.hosiwien.at
SUMMARY:Happy Gathering! Lesbisch\, cool\, 40+
DESCRIPTION:Spring Break – Am 11. April ist es wieder soweit – it’s Happy-Gathering-Time! Werft euch in euren feinsten Zwirn\, onduliert euch die Haare und dann ab ins Gugg.\nWie üblich haben wir die Tore für euch ab 20 Uhr geöffnet und erwarten euch in bester Partylaune mit kühlen Drinks und heißer Musik.\nCécile & Kathleen! \nEintritt frei!
URL:https://archiv.hosiwien.at/event/happy-gathering-lesbisch-cool-40-10/
LOCATION:Gugg\, Heumühlgasse 14\, Wien\, 1040
CATEGORIES:kulturelle Veranstaltung
ATTACH;FMTTYPE=image/jpeg:https://archiv.hosiwien.at/img/happygathering_apr2015_event.jpg
GEO:48.1961598;16.3617969
X-APPLE-STRUCTURED-LOCATION;VALUE=URI;X-ADDRESS=Gugg Heumühlgasse 14 Wien 1040;X-APPLE-RADIUS=500;X-TITLE=Heumühlgasse 14:geo:16.3617969,48.1961598
END:VEVENT
END:VCALENDAR