BEGIN:VCALENDAR
VERSION:2.0
PRODID:-//Homosexuelle Initiative (HOSI) Wien - ECPv5.16.4//NONSGML v1.0//EN
CALSCALE:GREGORIAN
METHOD:PUBLISH
X-ORIGINAL-URL:https://archiv.hosiwien.at
X-WR-CALDESC:Events for Homosexuelle Initiative (HOSI) Wien
REFRESH-INTERVAL;VALUE=DURATION:PT1H
X-Robots-Tag:noindex
X-PUBLISHED-TTL:PT1H
BEGIN:VTIMEZONE
TZID:Europe/Vienna
BEGIN:DAYLIGHT
TZOFFSETFROM:+0100
TZOFFSETTO:+0200
TZNAME:CEST
DTSTART:20150329T010000
END:DAYLIGHT
BEGIN:STANDARD
TZOFFSETFROM:+0200
TZOFFSETTO:+0100
TZNAME:CET
DTSTART:20151025T010000
END:STANDARD
END:VTIMEZONE
BEGIN:VEVENT
DTSTART;TZID=Europe/Vienna:20150425T133000
DTEND;TZID=Europe/Vienna:20150425T133000
DTSTAMP:20260424T162008
CREATED:20150126T173851Z
LAST-MODIFIED:20150414T145910Z
UID:33475-1429968600-1429968600@archiv.hosiwien.at
SUMMARY:HOSI Wien – Generalversammlung
DESCRIPTION:Am 25. April 2015 wird die 36. ordentliche Generalversammlung der Homosexuellen Initiative (HOSI) Wien stattfinden. Wir rufen alle Mitglieder auf ihre Stimme abzugeben. Neben der Wahl eines neuen Vorstands steht die Neugestaltung unserer Statuten sowie unserer Ziele auf dem Programm.
URL:https://archiv.hosiwien.at/event/hosi-wien-generalversammlung-2/
LOCATION:Gugg\, Heumühlgasse 14\, Wien\, 1040
CATEGORIES:Intern
ATTACH;FMTTYPE=image/jpeg:https://archiv.hosiwien.at/img/hosi_rbp.jpg
GEO:48.1961598;16.3617969
X-APPLE-STRUCTURED-LOCATION;VALUE=URI;X-ADDRESS=Gugg Heumühlgasse 14 Wien 1040;X-APPLE-RADIUS=500;X-TITLE=Heumühlgasse 14:geo:16.3617969,48.1961598
END:VEVENT
BEGIN:VEVENT
DTSTART;TZID=Europe/Vienna:20150425T180000
DTEND;TZID=Europe/Vienna:20150426T010000
DTSTAMP:20260424T162008
CREATED:20140703T145855Z
LAST-MODIFIED:20170428T164148Z
UID:29824-1429984800-1430010000@archiv.hosiwien.at
SUMMARY:Café-Betrieb
DESCRIPTION:Das Gugg bietet nicht nur Veranstaltungen und Gruppentreffen den passenden Raum\, sondern ist natürlich auch ein gemütlicher Ort zum Verweilen und Plaudern. Wir freuen uns auf deinen Besuch während der Öffnungszeiten!
URL:https://archiv.hosiwien.at/event/cafe-betrieb-13-2015-05-30-2015-01-17/2015-04-25/
LOCATION:Gugg\, Heumühlgasse 14\, Wien\, 1040
CATEGORIES:Café-Betrieb
ATTACH;FMTTYPE=image/jpeg:https://archiv.hosiwien.at/img/image/2011/gugg_logo2011.jpg
GEO:48.1961598;16.3617969
X-APPLE-STRUCTURED-LOCATION;VALUE=URI;X-ADDRESS=Gugg Heumühlgasse 14 Wien 1040;X-APPLE-RADIUS=500;X-TITLE=Heumühlgasse 14:geo:16.3617969,48.1961598
END:VEVENT
BEGIN:VEVENT
DTSTART;TZID=Europe/Vienna:20150425T190000
DTEND;TZID=Europe/Vienna:20150425T190000
DTSTAMP:20260424T162008
CREATED:20150213T114235Z
LAST-MODIFIED:20150915T203423Z
UID:33774-1429988400-1429988400@archiv.hosiwien.at
SUMMARY:Eurovision-Song-Contest-Prevoting 2015
DESCRIPTION:Jedes Jahr warten Europas BuchmacherInnen\, JournalistInnen\, KünstlerInnen und viele andere gespannt auf die Wertungen der einzelnen Eurovision-Song-Contest-Fanclubs. Du willst Deine Stimme ebenfalls abgeben? Dann nutze deine Chance! Am 25. April lädt OGAE (Organisation générale des amateurs de l’Eurovision) Austria zum Prevoting ins Gugg.  \nWie stimmt die österreichische Fangemeinde ab?\nAb 19 Uhr werden alle offiziellen Videoclips der 40 heuer teilnehmenden Nationen vorgestellt und gemeinsam im Gugg bewertet. Jede/r vor Ort ist teil- und wahlberechtigt. Abgestimmt wird in Grand-Prix-Manier\, d. h.\, der 1. Platz bekommt zwölf Punkte\, der 2. Platz zehn\, der 3. Platz acht – und der 10. Platz bekommt immerhin noch einen Punkt von euch. Das Ergebnis aller abgegebenen Stimmen ergibt dann die österreichische OGAE-Wertung. \nEs würde uns sehr freuen\, wenn viele Leute kommen\, um ein repräsentatives Ergebnis zu ermitteln. \nEverybody’s welcome. Jede/r ist stimmberechtigt! \nEine Veranstaltung des Eurovision-Song-Contest-Fan-Klubs OGAE (Organisation générale des amateurs de l’Eurovision) Austria. \nModeration: Mario R. Lackner & Karin Pointner \nEintritt: Freiwillige Spende \n 
URL:https://archiv.hosiwien.at/event/eurovision-song-contest-prevoting-2015-am-25-april/
LOCATION:Gugg\, Heumühlgasse 14\, Wien\, 1040
CATEGORIES:kulturelle Veranstaltung
ATTACH;FMTTYPE=image/png:https://archiv.hosiwien.at/img/image/2015/esc2015_logo.png
GEO:48.1961598;16.3617969
X-APPLE-STRUCTURED-LOCATION;VALUE=URI;X-ADDRESS=Gugg Heumühlgasse 14 Wien 1040;X-APPLE-RADIUS=500;X-TITLE=Heumühlgasse 14:geo:16.3617969,48.1961598
END:VEVENT
END:VCALENDAR