BEGIN:VCALENDAR
VERSION:2.0
PRODID:-//Homosexuelle Initiative (HOSI) Wien - ECPv5.16.4//NONSGML v1.0//EN
CALSCALE:GREGORIAN
METHOD:PUBLISH
X-ORIGINAL-URL:https://archiv.hosiwien.at
X-WR-CALDESC:Events for Homosexuelle Initiative (HOSI) Wien
REFRESH-INTERVAL;VALUE=DURATION:PT1H
X-Robots-Tag:noindex
X-PUBLISHED-TTL:PT1H
BEGIN:VTIMEZONE
TZID:Europe/Vienna
BEGIN:DAYLIGHT
TZOFFSETFROM:+0100
TZOFFSETTO:+0200
TZNAME:CEST
DTSTART:20150329T010000
END:DAYLIGHT
BEGIN:STANDARD
TZOFFSETFROM:+0200
TZOFFSETTO:+0100
TZNAME:CET
DTSTART:20151025T010000
END:STANDARD
END:VTIMEZONE
BEGIN:VEVENT
DTSTART;TZID=Europe/Vienna:20150430T160000
DTEND;TZID=Europe/Vienna:20150430T173000
DTSTAMP:20260424T192032
CREATED:20150119T182212Z
LAST-MODIFIED:20150915T200518Z
UID:33392-1430409600-1430415000@archiv.hosiwien.at
SUMMARY:Queerfix-Kennenlern-Treffen
DESCRIPTION:Wow\, so viele Workshops wie momentan hatte die queerconnexion (vormals peerconnexion) noch nie! Deshalb sucht das Schulbesuchsprojekt der HOSI Wien neue ehrenamtliche MitarbeiterInnen. Du hast Interesse\, bei der queerconnexion mitzumachen oder möchtest dich einfach einmal informieren? Dann komm’ zu einem Kennenlern-Treffen am Donnerstag\, den 30. April ins Gugg! \nAnschließend an das Kennenlern-Treffen findet der queerfix\, die monatliche Team-Besprechung der Gruppe\, statt\, an der du gerne auch teilnehmen kannst. \nVielfalt wird groß geschrieben! Deshalb freut sich die queerconnexion insbesondere über Menschen mit Migrationshintergrund und/oder trans- und intersexuelle Personen. Da derzeit mehr Frauen als Männer im Team sind\, freut sich die Gruppe auch ganz besonders über männliche „Neuzugänge“.
URL:https://archiv.hosiwien.at/event/peerfix-20/
LOCATION:Gugg\, Heumühlgasse 14\, Wien\, 1040
CATEGORIES:queerconnexion
ATTACH;FMTTYPE=image/jpeg:https://archiv.hosiwien.at/img/education.jpg
GEO:48.1961598;16.3617969
X-APPLE-STRUCTURED-LOCATION;VALUE=URI;X-ADDRESS=Gugg Heumühlgasse 14 Wien 1040;X-APPLE-RADIUS=500;X-TITLE=Heumühlgasse 14:geo:16.3617969,48.1961598
END:VEVENT
BEGIN:VEVENT
DTSTART;TZID=Europe/Vienna:20150430T173000
DTEND;TZID=Europe/Vienna:20150501T000000
DTSTAMP:20260424T192032
CREATED:20140703T143151Z
LAST-MODIFIED:20150915T174918Z
UID:34985-1430415000-1430438400@archiv.hosiwien.at
SUMMARY:Jugendabend
DESCRIPTION:Wir sind für Jugendliche da\, die Infos und Unterstützung brauchen oder einfach nur einen Ort suchen\, wo man mit Gleichgesinnten zusammensitzen und bei einem Getränk plaudern kann. Bei uns geht es locker und ungezwungen zu. \nWeitere Infos \nHINWEIS: Das umfangreiche Serviceangebot der HOSI Wien wird durch ehrenamtliches Engagement erbracht. Wie du die wichtige Arbeit des Vereins durch Spende oder Mitgliedschaft unterstützen kannst\, erfährst du unter archiv.hosiwien.at/mitgliedschaft.
URL:https://archiv.hosiwien.at/event/jugendabend-3/2015-04-30/
LOCATION:Gugg\, Heumühlgasse 14\, Wien\, 1040
CATEGORIES:Gruppen
ATTACH;FMTTYPE=image/jpeg:https://archiv.hosiwien.at/img/hosijugend.jpg
GEO:48.1961598;16.3617969
X-APPLE-STRUCTURED-LOCATION;VALUE=URI;X-ADDRESS=Gugg Heumühlgasse 14 Wien 1040;X-APPLE-RADIUS=500;X-TITLE=Heumühlgasse 14:geo:16.3617969,48.1961598
END:VEVENT
END:VCALENDAR