BEGIN:VCALENDAR
VERSION:2.0
PRODID:-//Homosexuelle Initiative (HOSI) Wien - ECPv5.16.4//NONSGML v1.0//EN
CALSCALE:GREGORIAN
METHOD:PUBLISH
X-ORIGINAL-URL:https://archiv.hosiwien.at
X-WR-CALDESC:Events for Homosexuelle Initiative (HOSI) Wien
REFRESH-INTERVAL;VALUE=DURATION:PT1H
X-Robots-Tag:noindex
X-PUBLISHED-TTL:PT1H
BEGIN:VTIMEZONE
TZID:Europe/Vienna
BEGIN:DAYLIGHT
TZOFFSETFROM:+0100
TZOFFSETTO:+0200
TZNAME:CEST
DTSTART:20150329T010000
END:DAYLIGHT
BEGIN:STANDARD
TZOFFSETFROM:+0200
TZOFFSETTO:+0100
TZNAME:CET
DTSTART:20151025T010000
END:STANDARD
END:VTIMEZONE
BEGIN:VEVENT
DTSTART;TZID=Europe/Vienna:20150517T180000
DTEND;TZID=Europe/Vienna:20150517T220000
DTSTAMP:20260424T111718
CREATED:20140703T145933Z
LAST-MODIFIED:20160329T113617Z
UID:29877-1431885600-1431900000@archiv.hosiwien.at
SUMMARY:Café-Betrieb
DESCRIPTION:Das Gugg bietet nicht nur Veranstaltungen und Gruppentreffen den passenden Raum\, sondern ist natürlich auch ein gemütlicher Ort zum Verweilen und Plaudern. Wir freuen uns auf deinen Besuch während der Öffnungszeiten!
URL:https://archiv.hosiwien.at/event/cafe-betrieb-14-2015-05-31/2015-05-17/
LOCATION:Gugg\, Heumühlgasse 14\, Wien\, 1040
CATEGORIES:Café-Betrieb
ATTACH;FMTTYPE=image/jpeg:https://archiv.hosiwien.at/img/image/2011/gugg_logo2011.jpg
GEO:48.1961598;16.3617969
X-APPLE-STRUCTURED-LOCATION;VALUE=URI;X-ADDRESS=Gugg Heumühlgasse 14 Wien 1040;X-APPLE-RADIUS=500;X-TITLE=Heumühlgasse 14:geo:16.3617969,48.1961598
END:VEVENT
BEGIN:VEVENT
DTSTART;TZID=Europe/Vienna:20150517T190000
DTEND;TZID=Europe/Vienna:20150517T210000
DTSTAMP:20260424T111718
CREATED:20141021T152543Z
LAST-MODIFIED:20150915T155518Z
UID:32164-1431889200-1431896400@archiv.hosiwien.at
SUMMARY:Resis.danse Aufbau IV
DESCRIPTION:Ab Aufbau III.\n \nAlle Termine: 7x sonntags\, jeweils 19 – 21 Uhr\n22.\, 29.\, März 2015\n12.\, 19.\, 26. April 2015\n10.\, 17. Mai 2015 \nUKB/Person: € 92\,00 \nHOSI-Wien-Mitglieder erhalten Ermäßigungen auf alle Tanzkurse! \n\n\nVorbereitung 18 Uhr! Tanzworkshopbeginn 19 Uhr! \n ACHTUNG am 22. und am 29. März findet der Workshop an einem anderen Ort statt\, dieser wird separat bekannt gegeben!
URL:https://archiv.hosiwien.at/event/resis-danse-aufbau-iv/2015-05-17/
LOCATION:Gugg\, Heumühlgasse 14\, Wien\, 1040
CATEGORIES:Gruppen
ATTACH;FMTTYPE=image/jpeg:https://archiv.hosiwien.at/img/resisdanse1.jpg
GEO:48.1961598;16.3617969
X-APPLE-STRUCTURED-LOCATION;VALUE=URI;X-ADDRESS=Gugg Heumühlgasse 14 Wien 1040;X-APPLE-RADIUS=500;X-TITLE=Heumühlgasse 14:geo:16.3617969,48.1961598
END:VEVENT
END:VCALENDAR