BEGIN:VCALENDAR
VERSION:2.0
PRODID:-//Homosexuelle Initiative (HOSI) Wien - ECPv5.16.4//NONSGML v1.0//EN
CALSCALE:GREGORIAN
METHOD:PUBLISH
X-WR-CALNAME:Homosexuelle Initiative (HOSI) Wien
X-ORIGINAL-URL:https://archiv.hosiwien.at
X-WR-CALDESC:Events for Homosexuelle Initiative (HOSI) Wien
REFRESH-INTERVAL;VALUE=DURATION:PT1H
X-Robots-Tag:noindex
X-PUBLISHED-TTL:PT1H
BEGIN:VTIMEZONE
TZID:Europe/Vienna
BEGIN:DAYLIGHT
TZOFFSETFROM:+0100
TZOFFSETTO:+0200
TZNAME:CEST
DTSTART:20150329T010000
END:DAYLIGHT
BEGIN:STANDARD
TZOFFSETFROM:+0200
TZOFFSETTO:+0100
TZNAME:CET
DTSTART:20151025T010000
END:STANDARD
END:VTIMEZONE
BEGIN:VEVENT
DTSTART;TZID=Europe/Vienna:20150519T100000
DTEND;TZID=Europe/Vienna:20150519T160000
DTSTAMP:20260424T230635
CREATED:20141114T181312Z
LAST-MODIFIED:20150915T161238Z
UID:32570-1432029600-1432051200@archiv.hosiwien.at
SUMMARY:Bürozeiten der HOSI Wien
DESCRIPTION:Während der Bürozeiten kannst du in unserem Vereinszentrum und -lokal\, dem Gugg\, vorbeikommen und dich über die HOSI Wien informieren\, generell Infomaterial über die LSBT-Szene in Wien erhalten\, Dringendes besprechen oder Mitglied werden und sofort deine Mitgliedskarte erhalten. \nDie Bürozeiten sind: \nMontag 12 – 16 Uhr \nDienstag 10 – 16 Uhr \nFreitag 10 – 16 Uhr \nUnsere Mitarbeiterin Anna Szutt ist während der Bürozeiten unter 0660/216 66 05 telefonisch erreichbar.
URL:https://archiv.hosiwien.at/event/buerozeiten-der-hosi-wien-16/2015-05-19/
LOCATION:Gugg\, Heumühlgasse 14\, Wien\, 1040
CATEGORIES:Bürozeiten
GEO:48.1961598;16.3617969
X-APPLE-STRUCTURED-LOCATION;VALUE=URI;X-ADDRESS=Gugg Heumühlgasse 14 Wien 1040;X-APPLE-RADIUS=500;X-TITLE=Heumühlgasse 14:geo:16.3617969,48.1961598
END:VEVENT
BEGIN:VEVENT
DTSTART;TZID=Europe/Vienna:20150519T180000
DTEND;TZID=Europe/Vienna:20150519T220000
DTSTAMP:20260424T230635
CREATED:20150424T120034Z
LAST-MODIFIED:20150915T175500Z
UID:35628-1432058400-1432072800@archiv.hosiwien.at
SUMMARY:50+ Prime Timers
DESCRIPTION:Die 50+ Prime Timers sind eine Gruppe speziell für Menschen über 50 Jahren. Du suchst Anschluss oder möchtest dich in der gemütlichen Atmosphäre des Guggs mit anderen austauschen? Dann komm’ doch einfach zum Treffen der Prime Timers\, die sich jeden 3. Dienstag im Monat ab 18 Uhr im Gugg treffen. \nDas Treffen findet im Barbereich statt. \nHINWEIS: Das umfangreiche Serviceangebot der HOSI Wien wird durch ehrenamtliches Engagement erbracht. Wie du die wichtige Arbeit des Vereins durch Spende oder Mitgliedschaft unterstützen kannst\, erfährst du unter archiv.hosiwien.at/mitgliedschaft.
URL:https://archiv.hosiwien.at/event/50-prime-timers-14/
LOCATION:Gugg\, Heumühlgasse 14\, Wien\, 1040
CATEGORIES:Gruppen
ATTACH;FMTTYPE=image/jpeg:https://archiv.hosiwien.at/img/50+.jpg
GEO:48.1961598;16.3617969
X-APPLE-STRUCTURED-LOCATION;VALUE=URI;X-ADDRESS=Gugg Heumühlgasse 14 Wien 1040;X-APPLE-RADIUS=500;X-TITLE=Heumühlgasse 14:geo:16.3617969,48.1961598
END:VEVENT
BEGIN:VEVENT
DTSTART;TZID=Europe/Vienna:20150519T180000
DTEND;TZID=Europe/Vienna:20150519T220000
DTSTAMP:20260424T230635
CREATED:20150812T071716Z
LAST-MODIFIED:20150915T175013Z
UID:29724-1432058400-1432072800@archiv.hosiwien.at
SUMMARY:Café-Betrieb
DESCRIPTION:Das Gugg bietet nicht nur Veranstaltungen und Gruppentreffen den passenden Raum\, sondern ist natürlich auch ein gemütlicher Ort zum Verweilen und Plaudern. Wir freuen uns auf deinen Besuch während der Öffnungszeiten!
URL:https://archiv.hosiwien.at/event/cafe-betrieb-2015-03-17/2015-05-19/
LOCATION:Gugg\, Heumühlgasse 14\, Wien\, 1040
CATEGORIES:Café-Betrieb
ATTACH;FMTTYPE=image/jpeg:https://archiv.hosiwien.at/img/image/2011/gugg_logo2011.jpg
GEO:48.1961598;16.3617969
X-APPLE-STRUCTURED-LOCATION;VALUE=URI;X-ADDRESS=Gugg Heumühlgasse 14 Wien 1040;X-APPLE-RADIUS=500;X-TITLE=Heumühlgasse 14:geo:16.3617969,48.1961598
END:VEVENT
BEGIN:VEVENT
DTSTART;TZID=Europe/Vienna:20150519T200000
DTEND;TZID=Europe/Vienna:20150519T200000
DTSTAMP:20260424T230635
CREATED:20141114T161018Z
LAST-MODIFIED:20150915T173529Z
UID:32478-1432065600-1432065600@archiv.hosiwien.at
SUMMARY:Eurovision Song Contest-Halbfinale 1
DESCRIPTION:Durch ihren Sieg beim Eurovision Song Contest im Vorjahr in Kopenhagen hat Conchita Wurst die 60. Auflage dieses europäischen Gesangswettbewerbs nach Wien geholt. Wer keine Karte für eines der Halbfinale oder das Finale ergattert hat\, kann der ESC-Manie im Gugg frönen: Beide Halbfinale sowie natürlich das Finale werden auf zwei Leinwänden live übertragen. \nFür gute Stimmung wird an allen Abenden gesorgt sein – um wilde Kostüme\, Schulterpölster und geeignete Vorbereitungsrituale musst du dich selbst kümmern. Sei dabei – schau dir die Übertragungen auf der großen Leinwand an und fiebere mit Freundinnen und Freunden! \nIm Vorfeld der Übertragung am 19. Mai zeigen wir euch auch den Kurzfilm „12 Points“ zum Song Contest mit Christoph Grissemann in der Hauptrolle. Der Film beschäftigt sich mit der durch Conchita Wursts Sieg ausgelösten Toleranzdebatte. \nUnd übrigens: Nicht nur der Eurovision Song Contest feiert 2015 ein rundes Jubiläum. Einen Monat nach dem ESC wird am 20. Juni die Regenbogenparade bereits zum 20. Mal über die Wiener Ringstraße ziehen. Dieses Mal unter den ans erste Paradenmotto angelehnten Slogan „Sichtbar 2015“. \nDatum/Uhrzeit:\nDienstag\, 19. Mai. 2015\, ab 20 Uhr (das Gugg hat bereits ab 18 Uhr geöffnet)\nDonnerstag\, 21. Mai. 2015\, ab 20 Uhr (das Gugg hat bereits ab 18 Uhr geöffnet)\nSamstag\, 23. Mai 2015\, ab 20 Uhr (das Gugg hat bereits ab 18 Uhr geöffnet)\nOrt: Gugg\, Heumühlgasse 14\, 1040 Wien \nEintritt natürlich frei.
URL:https://archiv.hosiwien.at/event/eurovision-song-contest-halbfinale-1/
LOCATION:Gugg\, Heumühlgasse 14\, Wien\, 1040
CATEGORIES:kulturelle Veranstaltung
ATTACH;FMTTYPE=image/png:https://archiv.hosiwien.at/img/image/2015/esc2015_logo.png
GEO:48.1961598;16.3617969
X-APPLE-STRUCTURED-LOCATION;VALUE=URI;X-ADDRESS=Gugg Heumühlgasse 14 Wien 1040;X-APPLE-RADIUS=500;X-TITLE=Heumühlgasse 14:geo:16.3617969,48.1961598
END:VEVENT
END:VCALENDAR