BEGIN:VCALENDAR
VERSION:2.0
PRODID:-//Homosexuelle Initiative (HOSI) Wien - ECPv5.16.4//NONSGML v1.0//EN
CALSCALE:GREGORIAN
METHOD:PUBLISH
X-WR-CALNAME:Homosexuelle Initiative (HOSI) Wien
X-ORIGINAL-URL:https://archiv.hosiwien.at
X-WR-CALDESC:Events for Homosexuelle Initiative (HOSI) Wien
REFRESH-INTERVAL;VALUE=DURATION:PT1H
X-Robots-Tag:noindex
X-PUBLISHED-TTL:PT1H
BEGIN:VTIMEZONE
TZID:Europe/Vienna
BEGIN:DAYLIGHT
TZOFFSETFROM:+0100
TZOFFSETTO:+0200
TZNAME:CEST
DTSTART:20150329T010000
END:DAYLIGHT
BEGIN:STANDARD
TZOFFSETFROM:+0200
TZOFFSETTO:+0100
TZNAME:CET
DTSTART:20151025T010000
END:STANDARD
END:VTIMEZONE
BEGIN:VEVENT
DTSTART;TZID=Europe/Vienna:20150521T173000
DTEND;TZID=Europe/Vienna:20150522T000000
DTSTAMP:20260424T111500
CREATED:20140703T143151Z
LAST-MODIFIED:20150915T174918Z
UID:34988-1432229400-1432252800@archiv.hosiwien.at
SUMMARY:Jugendabend
DESCRIPTION:Wir sind für Jugendliche da\, die Infos und Unterstützung brauchen oder einfach nur einen Ort suchen\, wo man mit Gleichgesinnten zusammensitzen und bei einem Getränk plaudern kann. Bei uns geht es locker und ungezwungen zu. \nWeitere Infos \nHINWEIS: Das umfangreiche Serviceangebot der HOSI Wien wird durch ehrenamtliches Engagement erbracht. Wie du die wichtige Arbeit des Vereins durch Spende oder Mitgliedschaft unterstützen kannst\, erfährst du unter archiv.hosiwien.at/mitgliedschaft.
URL:https://archiv.hosiwien.at/event/jugendabend-3/2015-05-21/
LOCATION:Gugg\, Heumühlgasse 14\, Wien\, 1040
CATEGORIES:Gruppen
ATTACH;FMTTYPE=image/jpeg:https://archiv.hosiwien.at/img/hosijugend.jpg
GEO:48.1961598;16.3617969
X-APPLE-STRUCTURED-LOCATION;VALUE=URI;X-ADDRESS=Gugg Heumühlgasse 14 Wien 1040;X-APPLE-RADIUS=500;X-TITLE=Heumühlgasse 14:geo:16.3617969,48.1961598
END:VEVENT
BEGIN:VEVENT
DTSTART;TZID=Europe/Vienna:20150521T200000
DTEND;TZID=Europe/Vienna:20150521T200000
DTSTAMP:20260424T111500
CREATED:20141114T161126Z
LAST-MODIFIED:20150915T173529Z
UID:32482-1432238400-1432238400@archiv.hosiwien.at
SUMMARY:Eurovision Song Contest-Halbfinale 2
DESCRIPTION:Durch ihren Sieg beim Eurovision Song Contest im Vorjahr in Kopenhagen hat Conchita Wurst die 60. Auflage dieses europäischen Gesangswettbewerbs nach Wien geholt. Wer keine Karte für eines der Halbfinale oder das Finale ergattert hat\, kann der ESC-Manie im Gugg frönen: Beide Halbfinale sowie natürlich das Finale werden auf zwei Leinwänden live übertragen. \nFür gute Stimmung wird an allen Abenden gesorgt sein – um wilde Kostüme\, Schulterpölster und geeignete Vorbereitungsrituale musst du dich selbst kümmern. Sei dabei – schau dir die Übertragungen auf der großen Leinwand an und fiebere mit Freundinnen und Freunden! \nIm Vorfeld der Übertragung am 19. Mai zeigen wir euch auch den Kurzfilm „12 Points“ zum Song Contest mit Christoph Grissemann in der Hauptrolle. Der Film beschäftigt sich mit der durch Conchita Wursts Sieg ausgelösten Toleranzdebatte. \nUnd übrigens: Nicht nur der Eurovision Song Contest feiert 2015 ein rundes Jubiläum. Einen Monat nach dem ESC wird am 20. Juni die Regenbogenparade bereits zum 20. Mal über die Wiener Ringstraße ziehen. Dieses Mal unter den ans erste Paradenmotto angelehnten Slogan „Sichtbar 2015“. \nDatum/Uhrzeit:\nDienstag\, 19. Mai. 2015\, ab 20 Uhr (das Gugg hat bereits ab 18 Uhr geöffnet)\nDonnerstag\, 21. Mai. 2015\, ab 20 Uhr (das Gugg hat bereits ab 18 Uhr geöffnet)\nSamstag\, 23. Mai 2015\, ab 20 Uhr (das Gugg hat bereits ab 18 Uhr geöffnet)\nOrt: Gugg\, Heumühlgasse 14\, 1040 Wien \nEintritt natürlich frei.
URL:https://archiv.hosiwien.at/event/eurovision-song-contest-halbfinale-2/
LOCATION:Gugg\, Heumühlgasse 14\, Wien\, 1040
CATEGORIES:kulturelle Veranstaltung
ATTACH;FMTTYPE=image/png:https://archiv.hosiwien.at/img/image/2015/esc2015_logo.png
GEO:48.1961598;16.3617969
X-APPLE-STRUCTURED-LOCATION;VALUE=URI;X-ADDRESS=Gugg Heumühlgasse 14 Wien 1040;X-APPLE-RADIUS=500;X-TITLE=Heumühlgasse 14:geo:16.3617969,48.1961598
END:VEVENT
END:VCALENDAR