BEGIN:VCALENDAR
VERSION:2.0
PRODID:-//Homosexuelle Initiative (HOSI) Wien - ECPv5.16.4//NONSGML v1.0//EN
CALSCALE:GREGORIAN
METHOD:PUBLISH
X-WR-CALNAME:Homosexuelle Initiative (HOSI) Wien
X-ORIGINAL-URL:https://archiv.hosiwien.at
X-WR-CALDESC:Events for Homosexuelle Initiative (HOSI) Wien
REFRESH-INTERVAL;VALUE=DURATION:PT1H
X-Robots-Tag:noindex
X-PUBLISHED-TTL:PT1H
BEGIN:VTIMEZONE
TZID:Europe/Vienna
BEGIN:DAYLIGHT
TZOFFSETFROM:+0100
TZOFFSETTO:+0200
TZNAME:CEST
DTSTART:20150329T010000
END:DAYLIGHT
BEGIN:STANDARD
TZOFFSETFROM:+0200
TZOFFSETTO:+0100
TZNAME:CET
DTSTART:20151025T010000
END:STANDARD
END:VTIMEZONE
BEGIN:VEVENT
DTSTART;TZID=Europe/Vienna:20150620T140000
DTEND;TZID=Europe/Vienna:20150620T140000
DTSTAMP:20260422T104547
CREATED:20140621T224834Z
LAST-MODIFIED:20150915T173527Z
UID:29291-1434808800-1434808800@archiv.hosiwien.at
SUMMARY:20. Regenbogenparade
DESCRIPTION:Seit ihrer ersten Durchführung im Jahr 1996 hat sich die Regenbogenparade nicht nur zum wichtigsten Event der Lesben-\, Schwulen- und Transgender-Bewegung entwickelt\, sondern auch zu einem bedeutenden Symbol für eine Kultur der Solidarität\, Akzeptanz und Gleichberechtigung. Die Parade findet in Erinnerung an das erste Aufbegehren von Lesben\, Schwulen und Transgender-Personen gegen polizeiliche Willkür im Juni 1969 in der New Yorker Christopher Street statt – weshalb in vielen Ländern ähnliche Veranstaltungen auch CSD (Christopher Street Day) genannt werden. Die Regenbogenparade\, die als Teil von Vienna Pride stattfindet\, ist eine der größten jährlichen Demonstrationen Österreichs und lockt jedes Jahr über 100.000 Menschen auf die Straße\, um aktiv gegen die Diskriminierung von Lesben\, Schwulen\, Bisexuellen\, Transgender- und intersexuellen Personen Stellung zu beziehen bzw. sich solidarisch mit den Anliegen der Bewegung zu zeigen. Trotz ausgelassener Stimmung ist die Regenbogenparade ein wichtiges politisches Zeichen für die völlige rechtliche Gleichstellung und für die Sichtbarkeit der Vielfalt von Lebensweisen und Liebesformen\, des Spektrums an Geschlechtsidentitäten und der Diversität der Community. Daher ruft die HOSI Wien wieder alle auf\, sich aktiv an der Regenbogenparade zu beteiligen! \nwww.regenbogenparade.at
URL:https://archiv.hosiwien.at/event/20-regenbogenparade/
LOCATION:Ring\, Wien\, 1010\, Österreich
CATEGORIES:kulturelle Veranstaltung
ATTACH;FMTTYPE=image/jpeg:https://archiv.hosiwien.at/img/regenbogenparade2015-slide.jpg
GEO:48.2083556;16.3677601
END:VEVENT
BEGIN:VEVENT
DTSTART;TZID=Europe/Vienna:20150620T140000
DTEND;TZID=Europe/Vienna:20150620T140000
DTSTAMP:20260422T104547
CREATED:20140621T224834Z
LAST-MODIFIED:20150915T174607Z
UID:29292-1434808800-1434808800@archiv.hosiwien.at
SUMMARY:20th Vienna Pride Parade
DESCRIPTION:Since it was first held in 1996\, the Rainbow Parade (German: Regenbogenparade) has not only developed into the most important event for the LSBTI movement\, it has also become an important symbol for a culture of solidarity\, acceptance and equality. \nwww.regenbogenparade.at
URL:https://archiv.hosiwien.at/event/20th-vienna-pride-parade/
LOCATION:Ring\, Wien\, 1010\, Österreich
CATEGORIES:cultural event
ATTACH;FMTTYPE=image/jpeg:https://archiv.hosiwien.at/img/regenbogenparade2015-slide.jpg
GEO:48.2083556;16.3677601
END:VEVENT
BEGIN:VEVENT
DTSTART;TZID=Europe/Vienna:20150620T180000
DTEND;TZID=Europe/Vienna:20150620T220000
DTSTAMP:20260422T104547
CREATED:20141114T162217Z
LAST-MODIFIED:20160419T222115Z
UID:32484-1434823200-1434837600@archiv.hosiwien.at
SUMMARY:Gugg geschlossen
DESCRIPTION:Heute haben wir selbstverständich geschlossen: Wir sind auf der Regenbogenparade!
URL:https://archiv.hosiwien.at/event/gugg-geschlossen-18/
LOCATION:Gugg\, Heumühlgasse 14\, Wien\, 1040
CATEGORIES:Café-Betrieb,Sperre
GEO:48.1961598;16.3617969
X-APPLE-STRUCTURED-LOCATION;VALUE=URI;X-ADDRESS=Gugg Heumühlgasse 14 Wien 1040;X-APPLE-RADIUS=500;X-TITLE=Heumühlgasse 14:geo:16.3617969,48.1961598
END:VEVENT
END:VCALENDAR