BEGIN:VCALENDAR
VERSION:2.0
PRODID:-//Homosexuelle Initiative (HOSI) Wien - ECPv5.16.4//NONSGML v1.0//EN
CALSCALE:GREGORIAN
METHOD:PUBLISH
X-WR-CALNAME:Homosexuelle Initiative (HOSI) Wien
X-ORIGINAL-URL:https://archiv.hosiwien.at
X-WR-CALDESC:Events for Homosexuelle Initiative (HOSI) Wien
REFRESH-INTERVAL;VALUE=DURATION:PT1H
X-Robots-Tag:noindex
X-PUBLISHED-TTL:PT1H
BEGIN:VTIMEZONE
TZID:Europe/Vienna
BEGIN:DAYLIGHT
TZOFFSETFROM:+0100
TZOFFSETTO:+0200
TZNAME:CEST
DTSTART:20150329T010000
END:DAYLIGHT
BEGIN:STANDARD
TZOFFSETFROM:+0200
TZOFFSETTO:+0100
TZNAME:CET
DTSTART:20151025T010000
END:STANDARD
END:VTIMEZONE
BEGIN:VEVENT
DTSTART;TZID=Europe/Vienna:20150707T100000
DTEND;TZID=Europe/Vienna:20150707T160000
DTSTAMP:20260421T123559
CREATED:20141114T181312Z
LAST-MODIFIED:20150915T161238Z
UID:32577-1436263200-1436284800@archiv.hosiwien.at
SUMMARY:Bürozeiten der HOSI Wien
DESCRIPTION:Während der Bürozeiten kannst du in unserem Vereinszentrum und -lokal\, dem Gugg\, vorbeikommen und dich über die HOSI Wien informieren\, generell Infomaterial über die LSBT-Szene in Wien erhalten\, Dringendes besprechen oder Mitglied werden und sofort deine Mitgliedskarte erhalten. \nDie Bürozeiten sind: \nMontag 12 – 16 Uhr \nDienstag 10 – 16 Uhr \nFreitag 10 – 16 Uhr \nUnsere Mitarbeiterin Anna Szutt ist während der Bürozeiten unter 0660/216 66 05 telefonisch erreichbar.
URL:https://archiv.hosiwien.at/event/buerozeiten-der-hosi-wien-16/2015-07-07/
LOCATION:Gugg\, Heumühlgasse 14\, Wien\, 1040
CATEGORIES:Bürozeiten
GEO:48.1961598;16.3617969
X-APPLE-STRUCTURED-LOCATION;VALUE=URI;X-ADDRESS=Gugg Heumühlgasse 14 Wien 1040;X-APPLE-RADIUS=500;X-TITLE=Heumühlgasse 14:geo:16.3617969,48.1961598
END:VEVENT
BEGIN:VEVENT
DTSTART;TZID=Europe/Vienna:20150707T180000
DTEND;TZID=Europe/Vienna:20150707T220000
DTSTAMP:20260421T123559
CREATED:20150812T071716Z
LAST-MODIFIED:20150915T175013Z
UID:29731-1436292000-1436306400@archiv.hosiwien.at
SUMMARY:Café-Betrieb
DESCRIPTION:Das Gugg bietet nicht nur Veranstaltungen und Gruppentreffen den passenden Raum\, sondern ist natürlich auch ein gemütlicher Ort zum Verweilen und Plaudern. Wir freuen uns auf deinen Besuch während der Öffnungszeiten!
URL:https://archiv.hosiwien.at/event/cafe-betrieb-2015-03-17/2015-07-07/
LOCATION:Gugg\, Heumühlgasse 14\, Wien\, 1040
CATEGORIES:Café-Betrieb
ATTACH;FMTTYPE=image/jpeg:https://archiv.hosiwien.at/img/image/2011/gugg_logo2011.jpg
GEO:48.1961598;16.3617969
X-APPLE-STRUCTURED-LOCATION;VALUE=URI;X-ADDRESS=Gugg Heumühlgasse 14 Wien 1040;X-APPLE-RADIUS=500;X-TITLE=Heumühlgasse 14:geo:16.3617969,48.1961598
END:VEVENT
BEGIN:VEVENT
DTSTART;TZID=Europe/Vienna:20150707T190000
DTEND;TZID=Europe/Vienna:20150707T220000
DTSTAMP:20260421T123559
CREATED:20150206T135739Z
LAST-MODIFIED:20150209T223821Z
UID:33617-1436295600-1436306400@archiv.hosiwien.at
SUMMARY:Werwolf-Abend
DESCRIPTION:Liebe DorfbewohnerInnen\, \nes ist etwas ganz Schreckliches passiert: Ein Mitglied unserer Gemeinde wurde vergangene Nacht barbarisch von Werwölfen zerfleischt. Nun gilt es\, die dafür verantwortlichen Bestien zu identifizieren und ihrem Unwesen Einhalt zu gebieten… \nSo oder so ähnlich wird es wieder losgehen\, wenn wir uns zum Werwolf-Abend im Gugg treffen. Das Spiel erfordert keine Vorkenntnisse\, und die Regeln sind nicht kompliziert\, sodass AnfängerInnen sehr herzlich willkommen sind. Wer vielleicht schon einmal „Mafia“ gespielt hat\, hat schon eine Grundidee vom Spielgedanken. Je größer die Spielrunde\, desto interessanter wird das Spiel – daher hoffen wir auf rege Teilnahme. Eine Spielrunde dauert in etwa 30–45 Minuten\, sodass es auch kein Problem ist\, wenn jemand später kommen oder früher gehen möchte… \nWir freuen uns sehr auf einen blutrünstigen Abend! \nAlles Liebe\,\neure Werwölfe vom Düsterwald \nP.S.: Infos zum Spiel unter: http://de.wikipedia.org/wiki/Werwölfe_von_Düsterwald
URL:https://archiv.hosiwien.at/event/werwolf-abend-16/
LOCATION:Gugg\, Heumühlgasse 14\, Wien\, 1040
CATEGORIES:kulturelle Veranstaltung
ATTACH;FMTTYPE=image/jpeg:https://archiv.hosiwien.at/img/werwoelfe_duesterwald.jpg
GEO:48.1961598;16.3617969
X-APPLE-STRUCTURED-LOCATION;VALUE=URI;X-ADDRESS=Gugg Heumühlgasse 14 Wien 1040;X-APPLE-RADIUS=500;X-TITLE=Heumühlgasse 14:geo:16.3617969,48.1961598
END:VEVENT
END:VCALENDAR