BEGIN:VCALENDAR
VERSION:2.0
PRODID:-//Homosexuelle Initiative (HOSI) Wien - ECPv5.16.4//NONSGML v1.0//EN
CALSCALE:GREGORIAN
METHOD:PUBLISH
X-ORIGINAL-URL:https://archiv.hosiwien.at
X-WR-CALDESC:Events for Homosexuelle Initiative (HOSI) Wien
REFRESH-INTERVAL;VALUE=DURATION:PT1H
X-Robots-Tag:noindex
X-PUBLISHED-TTL:PT1H
BEGIN:VTIMEZONE
TZID:Europe/Vienna
BEGIN:DAYLIGHT
TZOFFSETFROM:+0100
TZOFFSETTO:+0200
TZNAME:CEST
DTSTART:20150329T010000
END:DAYLIGHT
BEGIN:STANDARD
TZOFFSETFROM:+0200
TZOFFSETTO:+0100
TZNAME:CET
DTSTART:20151025T010000
END:STANDARD
END:VTIMEZONE
BEGIN:VEVENT
DTSTART;TZID=Europe/Vienna:20150725T180000
DTEND;TZID=Europe/Vienna:20150726T010000
DTSTAMP:20260421T182549
CREATED:20140703T145855Z
LAST-MODIFIED:20170428T164151Z
UID:29837-1437847200-1437872400@archiv.hosiwien.at
SUMMARY:Café-Betrieb
DESCRIPTION:Das Gugg bietet nicht nur Veranstaltungen und Gruppentreffen den passenden Raum\, sondern ist natürlich auch ein gemütlicher Ort zum Verweilen und Plaudern. Wir freuen uns auf deinen Besuch während der Öffnungszeiten!
URL:https://archiv.hosiwien.at/event/cafe-betrieb-13-2015-05-30-2015-01-17/2015-07-25/
LOCATION:Gugg\, Heumühlgasse 14\, Wien\, 1040
CATEGORIES:Café-Betrieb
ATTACH;FMTTYPE=image/jpeg:https://archiv.hosiwien.at/img/image/2011/gugg_logo2011.jpg
GEO:48.1961598;16.3617969
X-APPLE-STRUCTURED-LOCATION;VALUE=URI;X-ADDRESS=Gugg Heumühlgasse 14 Wien 1040;X-APPLE-RADIUS=500;X-TITLE=Heumühlgasse 14:geo:16.3617969,48.1961598
END:VEVENT
BEGIN:VEVENT
DTSTART;TZID=Europe/Vienna:20150725T190000
DTEND;TZID=Europe/Vienna:20150725T190000
DTSTAMP:20260421T182549
CREATED:20150629T185236Z
LAST-MODIFIED:20150723T100641Z
UID:36681-1437850800-1437850800@archiv.hosiwien.at
SUMMARY:Abgesagt: Workshop – Identität und sexuelle Orientierung
DESCRIPTION:Das Gugg ist heute im regulären Barbetrieb geöffnet. Diese Veranstaltung muss wegen Erkrankung einer der Therapeutinnen abgesagt werden. \n  \nWo fühle ich mich gut aufgehoben? Wo fühle ich mich sexuell hingezogen? Was brauche ich? Wie läuft es mit meinem Partner/meiner Partnerin? Wo ist mein Platz im Leben? Anhand von Aufstellungsarbeit und maltherapeutischen Methoden sollen diese und andere Fragen der TeilnehmerInnen bei dem Workshop zum Thema: „Identität und sexuelle Orientierung“ beantwortet werden. Interessierten Personen soll in einem geschützten und wertschätzenden Rahmen\, die Möglichkeit der Selbstfindung geboten werden. Geleitet wird der Workshop von Dipl. Lebens- und Sozialarbeiterin\, Coach\, Astrologin und Energethikerin Sieglinde Bernauer und Dipl. Maltherapeutin und Künstlerin Karin Wessely. \nDer Workshop steht allen Menschen jeglicher sexueller Orientierung offen. Um eine verbindliche Anmeldung wird gebeten bis Donnerstag\, den 23. Juli 2015 an: office@astroluna.at oder telefonisch unter: 0681 2040 0855 \nWebsite: www.astroluna.at\nDatum/Uhrzeit: Samstag\, 25. Juli 2015\, 19 Uhr\nOrt: Gugg\, Heumühlgasse 14\, 1040 Wien \nEintritt: freiwillige Spende
URL:https://archiv.hosiwien.at/event/workshop-identitaet-und-sexuelle-orientierung/
LOCATION:Gugg\, Heumühlgasse 14\, Wien\, 1040
CATEGORIES:Intern
ATTACH;FMTTYPE=image/jpeg:https://archiv.hosiwien.at/img/image/2015/workshop-identität.jpg
GEO:48.1961598;16.3617969
X-APPLE-STRUCTURED-LOCATION;VALUE=URI;X-ADDRESS=Gugg Heumühlgasse 14 Wien 1040;X-APPLE-RADIUS=500;X-TITLE=Heumühlgasse 14:geo:16.3617969,48.1961598
END:VEVENT
END:VCALENDAR