BEGIN:VCALENDAR
VERSION:2.0
PRODID:-//Homosexuelle Initiative (HOSI) Wien - ECPv5.16.4//NONSGML v1.0//EN
CALSCALE:GREGORIAN
METHOD:PUBLISH
X-WR-CALNAME:Homosexuelle Initiative (HOSI) Wien
X-ORIGINAL-URL:https://archiv.hosiwien.at
X-WR-CALDESC:Events for Homosexuelle Initiative (HOSI) Wien
REFRESH-INTERVAL;VALUE=DURATION:PT1H
X-Robots-Tag:noindex
X-PUBLISHED-TTL:PT1H
BEGIN:VTIMEZONE
TZID:Europe/Vienna
BEGIN:DAYLIGHT
TZOFFSETFROM:+0100
TZOFFSETTO:+0200
TZNAME:CEST
DTSTART:20150329T010000
END:DAYLIGHT
BEGIN:STANDARD
TZOFFSETFROM:+0200
TZOFFSETTO:+0100
TZNAME:CET
DTSTART:20151025T010000
END:STANDARD
END:VTIMEZONE
BEGIN:VEVENT
DTSTART;TZID=Europe/Vienna:20150728T100000
DTEND;TZID=Europe/Vienna:20150728T160000
DTSTAMP:20260421T085102
CREATED:20141114T181312Z
LAST-MODIFIED:20160419T222114Z
UID:32580-1438077600-1438099200@archiv.hosiwien.at
SUMMARY:Büro geschlossen
DESCRIPTION:Das Büro ist heute leider geschlossen. \nDie generellen Bürozeiten sind: \nMontag 12 – 16 Uhr \nDienstag 10 – 16 Uhr \nFreitag 10 – 16 Uhr \nUnsere Mitarbeiterin Anna Szutt ist während der Bürozeiten unter 0660/216 66 05 telefonisch erreichbar.
URL:https://archiv.hosiwien.at/event/buerozeiten-der-hosi-wien-16-2015-07-28/
LOCATION:Gugg\, Heumühlgasse 14\, Wien\, 1040
CATEGORIES:Sperre
GEO:48.1961598;16.3617969
X-APPLE-STRUCTURED-LOCATION;VALUE=URI;X-ADDRESS=Gugg Heumühlgasse 14 Wien 1040;X-APPLE-RADIUS=500;X-TITLE=Heumühlgasse 14:geo:16.3617969,48.1961598
END:VEVENT
BEGIN:VEVENT
DTSTART;TZID=Europe/Vienna:20150728T180000
DTEND;TZID=Europe/Vienna:20150728T220000
DTSTAMP:20260421T085102
CREATED:20150812T071716Z
LAST-MODIFIED:20150915T175013Z
UID:29734-1438106400-1438120800@archiv.hosiwien.at
SUMMARY:Café-Betrieb
DESCRIPTION:Das Gugg bietet nicht nur Veranstaltungen und Gruppentreffen den passenden Raum\, sondern ist natürlich auch ein gemütlicher Ort zum Verweilen und Plaudern. Wir freuen uns auf deinen Besuch während der Öffnungszeiten!
URL:https://archiv.hosiwien.at/event/cafe-betrieb-2015-03-17/2015-07-28/
LOCATION:Gugg\, Heumühlgasse 14\, Wien\, 1040
CATEGORIES:Café-Betrieb
ATTACH;FMTTYPE=image/jpeg:https://archiv.hosiwien.at/img/image/2011/gugg_logo2011.jpg
GEO:48.1961598;16.3617969
X-APPLE-STRUCTURED-LOCATION;VALUE=URI;X-ADDRESS=Gugg Heumühlgasse 14 Wien 1040;X-APPLE-RADIUS=500;X-TITLE=Heumühlgasse 14:geo:16.3617969,48.1961598
END:VEVENT
BEGIN:VEVENT
DTSTART;TZID=Europe/Vienna:20150728T190000
DTEND;TZID=Europe/Vienna:20150728T210000
DTSTAMP:20260421T085102
CREATED:20150703T130806Z
LAST-MODIFIED:20150711T131742Z
UID:36746-1438110000-1438117200@archiv.hosiwien.at
SUMMARY:HIV und Adhärenz
DESCRIPTION:Die Adhärenz beschreibt\, in welchem Ausmaß die HIV-Therapie im realen Leben umgesetzt und damit das Therapieziel erreicht werden kann. Aber was bedeutet das genau\, und warum ist die Adhärenz so wichtig? Wie wird sie beeinflußt\, und ist es möglich\, sie selbständig zu optimieren? \nDie AiIDS-Hilfe Wien und das HIV & Your Body-Programm laden ein\, das Thema gemeinsam zu erörtern. In lockerer Atmosphäre beantwortet die Expertin Manuela Teleu (Adherence-Koordination\, OWS Wien) alle Fragen. Moderiert wird dser Abend von Birgit Leichsenring (Med. Info/Doku der AIDS-Hilfen Österreichs). \nZu dem Abend ist keine Anmeldung erforderlich. Jede/r ist herzlich willkommen! Snacks und Getränke werden zur Verfügung gestellt. \nEintritt: Frei!
URL:https://archiv.hosiwien.at/event/hiv-und-adhaerenz/
LOCATION:Gugg\, Heumühlgasse 14\, Wien\, 1040
CATEGORIES:kulturelle Veranstaltung
ATTACH;FMTTYPE=image/jpeg:https://archiv.hosiwien.at/img/image/2015/HIV-ADHÄRENZ.jpg
GEO:48.1961598;16.3617969
X-APPLE-STRUCTURED-LOCATION;VALUE=URI;X-ADDRESS=Gugg Heumühlgasse 14 Wien 1040;X-APPLE-RADIUS=500;X-TITLE=Heumühlgasse 14:geo:16.3617969,48.1961598
END:VEVENT
END:VCALENDAR