BEGIN:VCALENDAR
VERSION:2.0
PRODID:-//Homosexuelle Initiative (HOSI) Wien - ECPv5.16.4//NONSGML v1.0//EN
CALSCALE:GREGORIAN
METHOD:PUBLISH
X-WR-CALNAME:Homosexuelle Initiative (HOSI) Wien
X-ORIGINAL-URL:https://archiv.hosiwien.at
X-WR-CALDESC:Events for Homosexuelle Initiative (HOSI) Wien
REFRESH-INTERVAL;VALUE=DURATION:PT1H
X-Robots-Tag:noindex
X-PUBLISHED-TTL:PT1H
BEGIN:VTIMEZONE
TZID:Europe/Vienna
BEGIN:DAYLIGHT
TZOFFSETFROM:+0100
TZOFFSETTO:+0200
TZNAME:CEST
DTSTART:20150329T010000
END:DAYLIGHT
BEGIN:STANDARD
TZOFFSETFROM:+0200
TZOFFSETTO:+0100
TZNAME:CET
DTSTART:20151025T010000
END:STANDARD
END:VTIMEZONE
BEGIN:VEVENT
DTSTART;TZID=Europe/Vienna:20150811T100000
DTEND;TZID=Europe/Vienna:20150811T160000
DTSTAMP:20260421T103041
CREATED:20141114T181312Z
LAST-MODIFIED:20150915T161238Z
UID:32582-1439287200-1439308800@archiv.hosiwien.at
SUMMARY:Bürozeiten der HOSI Wien
DESCRIPTION:Während der Bürozeiten kannst du in unserem Vereinszentrum und -lokal\, dem Gugg\, vorbeikommen und dich über die HOSI Wien informieren\, generell Infomaterial über die LSBT-Szene in Wien erhalten\, Dringendes besprechen oder Mitglied werden und sofort deine Mitgliedskarte erhalten. \nDie Bürozeiten sind: \nMontag 12 – 16 Uhr \nDienstag 10 – 16 Uhr \nFreitag 10 – 16 Uhr \nUnsere Mitarbeiterin Anna Szutt ist während der Bürozeiten unter 0660/216 66 05 telefonisch erreichbar.
URL:https://archiv.hosiwien.at/event/buerozeiten-der-hosi-wien-16/2015-08-11/
LOCATION:Gugg\, Heumühlgasse 14\, Wien\, 1040
CATEGORIES:Bürozeiten
GEO:48.1961598;16.3617969
X-APPLE-STRUCTURED-LOCATION;VALUE=URI;X-ADDRESS=Gugg Heumühlgasse 14 Wien 1040;X-APPLE-RADIUS=500;X-TITLE=Heumühlgasse 14:geo:16.3617969,48.1961598
END:VEVENT
BEGIN:VEVENT
DTSTART;TZID=Europe/Vienna:20150811T180000
DTEND;TZID=Europe/Vienna:20150811T220000
DTSTAMP:20260421T103041
CREATED:20150812T071716Z
LAST-MODIFIED:20150915T175013Z
UID:29736-1439316000-1439330400@archiv.hosiwien.at
SUMMARY:Café-Betrieb
DESCRIPTION:Das Gugg bietet nicht nur Veranstaltungen und Gruppentreffen den passenden Raum\, sondern ist natürlich auch ein gemütlicher Ort zum Verweilen und Plaudern. Wir freuen uns auf deinen Besuch während der Öffnungszeiten!
URL:https://archiv.hosiwien.at/event/cafe-betrieb-2015-03-17/2015-08-11/
LOCATION:Gugg\, Heumühlgasse 14\, Wien\, 1040
CATEGORIES:Café-Betrieb
ATTACH;FMTTYPE=image/jpeg:https://archiv.hosiwien.at/img/image/2011/gugg_logo2011.jpg
GEO:48.1961598;16.3617969
X-APPLE-STRUCTURED-LOCATION;VALUE=URI;X-ADDRESS=Gugg Heumühlgasse 14 Wien 1040;X-APPLE-RADIUS=500;X-TITLE=Heumühlgasse 14:geo:16.3617969,48.1961598
END:VEVENT
BEGIN:VEVENT
DTSTART;TZID=Europe/Vienna:20150811T190000
DTEND;TZID=Europe/Vienna:20150811T203000
DTSTAMP:20260421T103041
CREATED:20150727T181627Z
LAST-MODIFIED:20150915T155338Z
UID:37058-1439319600-1439325000@archiv.hosiwien.at
SUMMARY:Feedbackrunde der TeilnehmerInnen
DESCRIPTION:Wir möchten nochmals alle Wagenverantwortlichen zu einem persönlichen Kennenlernen und Austausch ins Gugg\, Café und Vereinszentrum der HOSI Wien (1040 Wien\, Heumühlgasse 14)\, einladen. Dieses Treffen findet am Dienstag\, den 11.8.2015 von 19 bis 20 Uhr statt. Bitte nützt diese Möglichkeit des Feedbacks! Wir können dadurch wertvolle Informationen erhalten\, die es uns ermöglichen\, die Organisation weiter zu verbessern. \nWie jedes Jahr haben wir auch eine Umfrage im Netz eingerichtet. Gerne könnt ihr auch diese Möglichkeit des Feedbacks nützen. Der Link zur Umfrage: http://www.regenbogenparade.at/evaluierung . Unter allen (nicht anonymen) Einsendungen\, die bis zum 14.10.2015 einlangen\, werden 1 x 2 Eintrittskarten für den Regenbogenball am 30. Jänner 2016 im Parkhotel Schönbrunn verlost. \nEine Zusammenfassung der Ergebnisse wird es wieder im Herbst/Winter geben.
URL:https://archiv.hosiwien.at/event/feedbackrunde-der-teilnehmerinnen/
LOCATION:Gugg\, Heumühlgasse 14\, Wien\, 1040
CATEGORIES:Regenbogenparade
ORGANIZER;CN="Martina%20Fink":MAILTO:martina.fink@archiv.hosiwien.at
GEO:48.1961598;16.3617969
X-APPLE-STRUCTURED-LOCATION;VALUE=URI;X-ADDRESS=Gugg Heumühlgasse 14 Wien 1040;X-APPLE-RADIUS=500;X-TITLE=Heumühlgasse 14:geo:16.3617969,48.1961598
END:VEVENT
END:VCALENDAR