BEGIN:VCALENDAR
VERSION:2.0
PRODID:-//Homosexuelle Initiative (HOSI) Wien - ECPv5.16.4//NONSGML v1.0//EN
CALSCALE:GREGORIAN
METHOD:PUBLISH
X-WR-CALNAME:Homosexuelle Initiative (HOSI) Wien
X-ORIGINAL-URL:https://archiv.hosiwien.at
X-WR-CALDESC:Events for Homosexuelle Initiative (HOSI) Wien
REFRESH-INTERVAL;VALUE=DURATION:PT1H
X-Robots-Tag:noindex
X-PUBLISHED-TTL:PT1H
BEGIN:VTIMEZONE
TZID:Europe/Vienna
BEGIN:DAYLIGHT
TZOFFSETFROM:+0100
TZOFFSETTO:+0200
TZNAME:CEST
DTSTART:20150329T010000
END:DAYLIGHT
BEGIN:STANDARD
TZOFFSETFROM:+0200
TZOFFSETTO:+0100
TZNAME:CET
DTSTART:20151025T010000
END:STANDARD
END:VTIMEZONE
BEGIN:VEVENT
DTSTART;TZID=Europe/Vienna:20150825T100000
DTEND;TZID=Europe/Vienna:20150825T160000
DTSTAMP:20260421T103026
CREATED:20141114T181312Z
LAST-MODIFIED:20150915T161239Z
UID:32584-1440496800-1440518400@archiv.hosiwien.at
SUMMARY:Bürozeiten der HOSI Wien
DESCRIPTION:Während der Bürozeiten kannst du in unserem Vereinszentrum und -lokal\, dem Gugg\, vorbeikommen und dich über die HOSI Wien informieren\, generell Infomaterial über die LSBT-Szene in Wien erhalten\, Dringendes besprechen oder Mitglied werden und sofort deine Mitgliedskarte erhalten. \nDie Bürozeiten sind: \nMontag 12 – 16 Uhr \nDienstag 10 – 16 Uhr \nFreitag 10 – 16 Uhr \nUnsere Mitarbeiterin Anna Szutt ist während der Bürozeiten unter 0660/216 66 05 telefonisch erreichbar.
URL:https://archiv.hosiwien.at/event/buerozeiten-der-hosi-wien-16/2015-08-25/
LOCATION:Gugg\, Heumühlgasse 14\, Wien\, 1040
CATEGORIES:Bürozeiten
GEO:48.1961598;16.3617969
X-APPLE-STRUCTURED-LOCATION;VALUE=URI;X-ADDRESS=Gugg Heumühlgasse 14 Wien 1040;X-APPLE-RADIUS=500;X-TITLE=Heumühlgasse 14:geo:16.3617969,48.1961598
END:VEVENT
BEGIN:VEVENT
DTSTART;TZID=Europe/Vienna:20150825T180000
DTEND;TZID=Europe/Vienna:20150825T220000
DTSTAMP:20260421T103026
CREATED:20150812T071716Z
LAST-MODIFIED:20150915T175013Z
UID:29738-1440525600-1440540000@archiv.hosiwien.at
SUMMARY:Café-Betrieb
DESCRIPTION:Das Gugg bietet nicht nur Veranstaltungen und Gruppentreffen den passenden Raum\, sondern ist natürlich auch ein gemütlicher Ort zum Verweilen und Plaudern. Wir freuen uns auf deinen Besuch während der Öffnungszeiten!
URL:https://archiv.hosiwien.at/event/cafe-betrieb-2015-03-17/2015-08-25/
LOCATION:Gugg\, Heumühlgasse 14\, Wien\, 1040
CATEGORIES:Café-Betrieb
ATTACH;FMTTYPE=image/jpeg:https://archiv.hosiwien.at/img/image/2011/gugg_logo2011.jpg
GEO:48.1961598;16.3617969
X-APPLE-STRUCTURED-LOCATION;VALUE=URI;X-ADDRESS=Gugg Heumühlgasse 14 Wien 1040;X-APPLE-RADIUS=500;X-TITLE=Heumühlgasse 14:geo:16.3617969,48.1961598
END:VEVENT
BEGIN:VEVENT
DTSTART;TZID=Europe/Vienna:20150825T190000
DTEND;TZID=Europe/Vienna:20150825T190000
DTSTAMP:20260421T103026
CREATED:20150629T185652Z
LAST-MODIFIED:20150825T184611Z
UID:36684-1440529200-1440529200@archiv.hosiwien.at
SUMMARY:visiBİlity Austria
DESCRIPTION:Ja – es gibt sie tatsächlich! Sie sind nicht verwirrt oder entscheidungsschwach\, sie stecken in keiner Phase\, sie sind nicht „halb-homo“ oder „halb-hetero“\, sie verstecken ihre „wahre Homosexualität“ nicht hinter ihren „heterosexuellen Privilegien“\, sie sind auch nicht notorisch untreu oder beziehungsunfähig! Sie sind und bleiben bi – und zwar unabhängig vom Geschlecht ihrer PartnerInnen. Und sie sind stolz auf ihre Identität! \nSo und nicht anders stellt sich visiBİlity Austria auf ihrer Facebook-Seite vor. Wir freuen uns\, nun das allererste Treffen der Gruppe im Gugg ankündigen zu dürfen. VisiBİlity Austria setzt sich zum Ziel\, Netzwerk und Anlaufstelle für Bisexuelle in Österreich zu werden – fernab von den Vorurteilen aus der Hetero- und Homo-Community. Gemeinsam möchten sie gegen Biphobie auftreten und Bisexualität sichtbar machen. \nDas Treffen wird in lockerer Atmosphäre abgehalten. Egal\, ob ihr konkrete Ideen habt\, wie ihr euch einbringen könntet\, oder einfach nur andere Bisexuelle kennenlernen möchtet. Wenn ihr euch angesprochen fühlt\, seid ihr herzlich eingeladen\, vorbeizukommen! \nFacebook: https://www.facebook.com/groups/visiBİlity.austria/
URL:https://archiv.hosiwien.at/event/visibility-austria/
LOCATION:Gugg\, Heumühlgasse 14\, Wien\, 1040
CATEGORIES:Gruppen
ATTACH;FMTTYPE=image/png:https://archiv.hosiwien.at/img/image/2015/visiBIlity1.png
GEO:48.1961598;16.3617969
X-APPLE-STRUCTURED-LOCATION;VALUE=URI;X-ADDRESS=Gugg Heumühlgasse 14 Wien 1040;X-APPLE-RADIUS=500;X-TITLE=Heumühlgasse 14:geo:16.3617969,48.1961598
END:VEVENT
END:VCALENDAR