BEGIN:VCALENDAR
VERSION:2.0
PRODID:-//Homosexuelle Initiative (HOSI) Wien - ECPv5.16.4//NONSGML v1.0//EN
CALSCALE:GREGORIAN
METHOD:PUBLISH
X-WR-CALNAME:Homosexuelle Initiative (HOSI) Wien
X-ORIGINAL-URL:https://archiv.hosiwien.at
X-WR-CALDESC:Events for Homosexuelle Initiative (HOSI) Wien
REFRESH-INTERVAL;VALUE=DURATION:PT1H
X-Robots-Tag:noindex
X-PUBLISHED-TTL:PT1H
BEGIN:VTIMEZONE
TZID:Europe/Vienna
BEGIN:DAYLIGHT
TZOFFSETFROM:+0100
TZOFFSETTO:+0200
TZNAME:CEST
DTSTART:20150329T010000
END:DAYLIGHT
BEGIN:STANDARD
TZOFFSETFROM:+0200
TZOFFSETTO:+0100
TZNAME:CET
DTSTART:20151025T010000
END:STANDARD
END:VTIMEZONE
BEGIN:VEVENT
DTSTART;TZID=Europe/Vienna:20151013T100000
DTEND;TZID=Europe/Vienna:20151013T160000
DTSTAMP:20260421T035700
CREATED:20150330T141003Z
LAST-MODIFIED:20160216T120619Z
UID:34464-1444730400-1444752000@archiv.hosiwien.at
SUMMARY:Bürozeiten der HOSI Wien
DESCRIPTION:Während der Bürozeiten kannst du in unserem Vereinszentrum und -lokal\, dem Gugg\, vorbeikommen und dich über die HOSI Wien informieren\, generell Infomaterial über die LSBT-Szene in Wien erhalten\, Dringendes besprechen oder Mitglied werden und sofort deine Mitgliedskarte erhalten. \nDie Bürozeiten sind: \nMontag 12 – 16 Uhr \nDienstag 10 – 16 Uhr \nFreitag 10 – 16 Uhr \nUnsere Mitarbeiterin Anna Szutt ist während der Bürozeiten unter 0660/216 66 05 telefonisch erreichbar.
URL:https://archiv.hosiwien.at/event/buerozeiten-der-hosi-wien-19/2015-10-13/
LOCATION:Gugg\, Heumühlgasse 14\, Wien\, 1040
CATEGORIES:Bürozeiten
GEO:48.1961598;16.3617969
X-APPLE-STRUCTURED-LOCATION;VALUE=URI;X-ADDRESS=Gugg Heumühlgasse 14 Wien 1040;X-APPLE-RADIUS=500;X-TITLE=Heumühlgasse 14:geo:16.3617969,48.1961598
END:VEVENT
BEGIN:VEVENT
DTSTART;TZID=Europe/Vienna:20151013T180000
DTEND;TZID=Europe/Vienna:20151013T220000
DTSTAMP:20260421T035700
CREATED:20150812T071716Z
LAST-MODIFIED:20150915T175013Z
UID:29745-1444759200-1444773600@archiv.hosiwien.at
SUMMARY:Café-Betrieb
DESCRIPTION:Das Gugg bietet nicht nur Veranstaltungen und Gruppentreffen den passenden Raum\, sondern ist natürlich auch ein gemütlicher Ort zum Verweilen und Plaudern. Wir freuen uns auf deinen Besuch während der Öffnungszeiten!
URL:https://archiv.hosiwien.at/event/cafe-betrieb-2015-03-17/2015-10-13/
LOCATION:Gugg\, Heumühlgasse 14\, Wien\, 1040
CATEGORIES:Café-Betrieb
ATTACH;FMTTYPE=image/jpeg:https://archiv.hosiwien.at/img/image/2011/gugg_logo2011.jpg
GEO:48.1961598;16.3617969
X-APPLE-STRUCTURED-LOCATION;VALUE=URI;X-ADDRESS=Gugg Heumühlgasse 14 Wien 1040;X-APPLE-RADIUS=500;X-TITLE=Heumühlgasse 14:geo:16.3617969,48.1961598
END:VEVENT
BEGIN:VEVENT
DTSTART;TZID=Europe/Vienna:20151013T190000
DTEND;TZID=Europe/Vienna:20151013T190000
DTSTAMP:20260421T035700
CREATED:20150918T141357Z
LAST-MODIFIED:20150918T141526Z
UID:61726-1444762800-1444762800@archiv.hosiwien.at
SUMMARY:visiBİlity Austria
DESCRIPTION:Auch das dritte Treffen am 15. September war super! Eine Zusammenfassung des Treffens und alle aktuellen Infos zu der Gruppe findet ihr auf der visiBIlity Austria-Facebook-Seite. \nvisiBIlity Austria soll eine Anlaufstelle und Plattform für bisexuelle und pansexuelle Menschen werden sowie für deren FreundInnen\, Angehörige und UnterstützerInnen. Alle Interessierte sind herzlich willkommen vorbeizuschauen! \nAlle Infos zu der Gruppe: https://www.facebook.com/groups/visiBİlity.austria/
URL:https://archiv.hosiwien.at/event/visibility-austria-3/2015-10-13/
LOCATION:Gugg\, Heumühlgasse 14\, Wien\, 1040
CATEGORIES:Gruppen
ATTACH;FMTTYPE=image/png:https://archiv.hosiwien.at/img/image/2015/visiBIlity1.png
GEO:48.1961598;16.3617969
X-APPLE-STRUCTURED-LOCATION;VALUE=URI;X-ADDRESS=Gugg Heumühlgasse 14 Wien 1040;X-APPLE-RADIUS=500;X-TITLE=Heumühlgasse 14:geo:16.3617969,48.1961598
END:VEVENT
BEGIN:VEVENT
DTSTART;TZID=Europe/Vienna:20151013T190000
DTEND;TZID=Europe/Vienna:20151013T190000
DTSTAMP:20260421T035700
CREATED:20150918T154839Z
LAST-MODIFIED:20151202T110735Z
UID:61727-1444762800-1444762800@archiv.hosiwien.at
SUMMARY:Vernissage Fotoausstellung „Unterm Regenbogen haben alle Platz“
DESCRIPTION:Unter dem Motto „Unterm Regenbogen haben alle Platz“ hat MiGaY eine Kampagne gegen Rassismus\, Fremdenfeindlichkeit und Diskriminierung in der LSBTIQ-Community gestartet.\nIn diesem Zusammenhang sind in den letzten Jahren auch einige Fotos entstanden\, die MiGaY nun der Öffentlichkeit präsentiert\, um die Vielfalt in unserer Gesellschaft ein weiteres Mal aufzuzeigen! Kommt zur Vernissage und schaut euch die Bilder an!  \nDer Eintritt ist frei! \n 
URL:https://archiv.hosiwien.at/event/vernissage-fotoausstellung-unterm-regenbogen-ist-fuer-alle-platz/
LOCATION:Gugg\, Heumühlgasse 14\, Wien\, 1040
CATEGORIES:kulturelle Veranstaltung
ATTACH;FMTTYPE=image/jpeg:https://archiv.hosiwien.at/img/image/2015/MIGAY_Vernissage.jpg
GEO:48.1961598;16.3617969
X-APPLE-STRUCTURED-LOCATION;VALUE=URI;X-ADDRESS=Gugg Heumühlgasse 14 Wien 1040;X-APPLE-RADIUS=500;X-TITLE=Heumühlgasse 14:geo:16.3617969,48.1961598
END:VEVENT
END:VCALENDAR