BEGIN:VCALENDAR
VERSION:2.0
PRODID:-//Homosexuelle Initiative (HOSI) Wien - ECPv5.16.4//NONSGML v1.0//EN
CALSCALE:GREGORIAN
METHOD:PUBLISH
X-WR-CALNAME:Homosexuelle Initiative (HOSI) Wien
X-ORIGINAL-URL:https://archiv.hosiwien.at
X-WR-CALDESC:Events for Homosexuelle Initiative (HOSI) Wien
REFRESH-INTERVAL;VALUE=DURATION:PT1H
X-Robots-Tag:noindex
X-PUBLISHED-TTL:PT1H
BEGIN:VTIMEZONE
TZID:Europe/Vienna
BEGIN:DAYLIGHT
TZOFFSETFROM:+0100
TZOFFSETTO:+0200
TZNAME:CEST
DTSTART:20150329T010000
END:DAYLIGHT
BEGIN:STANDARD
TZOFFSETFROM:+0200
TZOFFSETTO:+0100
TZNAME:CET
DTSTART:20151025T010000
END:STANDARD
END:VTIMEZONE
BEGIN:VEVENT
DTSTART;TZID=Europe/Vienna:20151024T180000
DTEND;TZID=Europe/Vienna:20151025T010000
DTSTAMP:20260421T035645
CREATED:20140703T145855Z
LAST-MODIFIED:20170428T164153Z
UID:29850-1445709600-1445734800@archiv.hosiwien.at
SUMMARY:Café-Betrieb
DESCRIPTION:Das Gugg bietet nicht nur Veranstaltungen und Gruppentreffen den passenden Raum\, sondern ist natürlich auch ein gemütlicher Ort zum Verweilen und Plaudern. Wir freuen uns auf deinen Besuch während der Öffnungszeiten!
URL:https://archiv.hosiwien.at/event/cafe-betrieb-13-2015-05-30-2015-01-17/2015-10-24/
LOCATION:Gugg\, Heumühlgasse 14\, Wien\, 1040
CATEGORIES:Café-Betrieb
ATTACH;FMTTYPE=image/jpeg:https://archiv.hosiwien.at/img/image/2011/gugg_logo2011.jpg
GEO:48.1961598;16.3617969
X-APPLE-STRUCTURED-LOCATION;VALUE=URI;X-ADDRESS=Gugg Heumühlgasse 14 Wien 1040;X-APPLE-RADIUS=500;X-TITLE=Heumühlgasse 14:geo:16.3617969,48.1961598
END:VEVENT
BEGIN:VEVENT
DTSTART;TZID=Europe/Vienna:20151024T200000
DTEND;TZID=Europe/Vienna:20151024T200000
DTSTAMP:20260421T035645
CREATED:20150504T112300Z
LAST-MODIFIED:20151020T155943Z
UID:35925-1445716800-1445716800@archiv.hosiwien.at
SUMMARY:Lucy McEvil in Concert
DESCRIPTION:Anlässlich der an diesem Wochenende stattfindenden Jahresversammlung der Gay Cops Austria hat sich Szeneliebling Lucy McEvil bereit erklärt\, eines ihrer feinen kleinen Konzerte zu geben. Sie wird von Martin am Klavier begleitet. Die Veranstaltung ist allgemein zugänglich.\n \nEintritt ist frei\, aber Spenden für die Gay Cops werden gerne entgegengenommen.
URL:https://archiv.hosiwien.at/event/gay-cops-austria/
LOCATION:Gugg\, Heumühlgasse 14\, Wien\, 1040
CATEGORIES:kulturelle Veranstaltung
ATTACH;FMTTYPE=image/jpeg:https://archiv.hosiwien.at/img/image/2015/lucy-singt.jpg
GEO:48.1961598;16.3617969
X-APPLE-STRUCTURED-LOCATION;VALUE=URI;X-ADDRESS=Gugg Heumühlgasse 14 Wien 1040;X-APPLE-RADIUS=500;X-TITLE=Heumühlgasse 14:geo:16.3617969,48.1961598
END:VEVENT
BEGIN:VEVENT
DTSTART;TZID=Europe/Vienna:20151024T200000
DTEND;TZID=Europe/Vienna:20151024T200000
DTSTAMP:20260421T035645
CREATED:20151006T141955Z
LAST-MODIFIED:20151018T172040Z
UID:62172-1445716800-1445716800@archiv.hosiwien.at
SUMMARY:Beziehungskonzepte (Salon)
DESCRIPTION:Die Fortsetzung der August-Diskussionsrunde\, die unter dem Titel „Der Regenbogen hat mehr Farben als rosa und lila!“ von unserem lieben Kollegen Mario Lackner initiiert wurde. Eurem Wunsch entsprechend\, möchten wir die Runde wiederholen. Dieses Mal werden wir uns aber dem spannenden Thema „Beziehungskozepte“ widmen. \nMonogamie und Polygamie kennen wir schon. Aber was ist eigentlich mit den anderen Liebesbeziehungsformen? Kann es überhaupt etwas außerhalb der eingefahrenen und bekannten Beziehungsmodellen geben? Und wie gehen wir damit um? Wie seht ihr das? \nKommt und diskutiert mit! Die Veranstaltung steht Menschen jeglicher sexuellen Orientierung\, Identität und jeden Alters offen. \nModeration: Anastasia Lopez & Anna Szutt \nDer Eintritt ist frei! \n 
URL:https://archiv.hosiwien.at/event/der-regenbogen-hat-mehr-farben-als-rosa-und-lila-beziehungskozepte/
LOCATION:Gugg\, Heumühlgasse 14\, Wien\, 1040
CATEGORIES:kulturelle Veranstaltung
ATTACH;FMTTYPE=image/png:https://archiv.hosiwien.at/img/image/2015/liebesbeziehungskonzepte.png
GEO:48.1961598;16.3617969
X-APPLE-STRUCTURED-LOCATION;VALUE=URI;X-ADDRESS=Gugg Heumühlgasse 14 Wien 1040;X-APPLE-RADIUS=500;X-TITLE=Heumühlgasse 14:geo:16.3617969,48.1961598
END:VEVENT
END:VCALENDAR