BEGIN:VCALENDAR
VERSION:2.0
PRODID:-//Homosexuelle Initiative (HOSI) Wien - ECPv5.16.4//NONSGML v1.0//EN
CALSCALE:GREGORIAN
METHOD:PUBLISH
X-ORIGINAL-URL:https://archiv.hosiwien.at
X-WR-CALDESC:Events for Homosexuelle Initiative (HOSI) Wien
REFRESH-INTERVAL;VALUE=DURATION:PT1H
X-Robots-Tag:noindex
X-PUBLISHED-TTL:PT1H
BEGIN:VTIMEZONE
TZID:Europe/Vienna
BEGIN:DAYLIGHT
TZOFFSETFROM:+0100
TZOFFSETTO:+0200
TZNAME:CEST
DTSTART:20150329T010000
END:DAYLIGHT
BEGIN:STANDARD
TZOFFSETFROM:+0200
TZOFFSETTO:+0100
TZNAME:CET
DTSTART:20151025T010000
END:STANDARD
END:VTIMEZONE
BEGIN:VEVENT
DTSTART;TZID=Europe/Vienna:20151110T100000
DTEND;TZID=Europe/Vienna:20151110T160000
DTSTAMP:20260420T230347
CREATED:20150330T141003Z
LAST-MODIFIED:20160216T120619Z
UID:34468-1447149600-1447171200@archiv.hosiwien.at
SUMMARY:Bürozeiten der HOSI Wien
DESCRIPTION:Während der Bürozeiten kannst du in unserem Vereinszentrum und -lokal\, dem Gugg\, vorbeikommen und dich über die HOSI Wien informieren\, generell Infomaterial über die LSBT-Szene in Wien erhalten\, Dringendes besprechen oder Mitglied werden und sofort deine Mitgliedskarte erhalten. \nDie Bürozeiten sind: \nMontag 12 – 16 Uhr \nDienstag 10 – 16 Uhr \nFreitag 10 – 16 Uhr \nUnsere Mitarbeiterin Anna Szutt ist während der Bürozeiten unter 0660/216 66 05 telefonisch erreichbar.
URL:https://archiv.hosiwien.at/event/buerozeiten-der-hosi-wien-19/2015-11-10/
LOCATION:Gugg\, Heumühlgasse 14\, Wien\, 1040
CATEGORIES:Bürozeiten
GEO:48.1961598;16.3617969
X-APPLE-STRUCTURED-LOCATION;VALUE=URI;X-ADDRESS=Gugg Heumühlgasse 14 Wien 1040;X-APPLE-RADIUS=500;X-TITLE=Heumühlgasse 14:geo:16.3617969,48.1961598
END:VEVENT
BEGIN:VEVENT
DTSTART;TZID=Europe/Vienna:20151110T180000
DTEND;TZID=Europe/Vienna:20151110T220000
DTSTAMP:20260420T230347
CREATED:20150812T071716Z
LAST-MODIFIED:20150915T175014Z
UID:29749-1447178400-1447192800@archiv.hosiwien.at
SUMMARY:Café-Betrieb
DESCRIPTION:Das Gugg bietet nicht nur Veranstaltungen und Gruppentreffen den passenden Raum\, sondern ist natürlich auch ein gemütlicher Ort zum Verweilen und Plaudern. Wir freuen uns auf deinen Besuch während der Öffnungszeiten!
URL:https://archiv.hosiwien.at/event/cafe-betrieb-2015-03-17/2015-11-10/
LOCATION:Gugg\, Heumühlgasse 14\, Wien\, 1040
CATEGORIES:Café-Betrieb
ATTACH;FMTTYPE=image/jpeg:https://archiv.hosiwien.at/img/image/2011/gugg_logo2011.jpg
GEO:48.1961598;16.3617969
X-APPLE-STRUCTURED-LOCATION;VALUE=URI;X-ADDRESS=Gugg Heumühlgasse 14 Wien 1040;X-APPLE-RADIUS=500;X-TITLE=Heumühlgasse 14:geo:16.3617969,48.1961598
END:VEVENT
BEGIN:VEVENT
DTSTART;TZID=Europe/Vienna:20151110T183000
DTEND;TZID=Europe/Vienna:20151110T220000
DTSTAMP:20260420T230347
CREATED:20140716T144953Z
LAST-MODIFIED:20140716T144953Z
UID:34333-1447180200-1447192800@archiv.hosiwien.at
SUMMARY:Orga-Teamsitzung
DESCRIPTION:Die Teamsitzung findet im Veranstaltungsraum statt.
URL:https://archiv.hosiwien.at/event/orga-team-sitzung-5/2015-11-10/
LOCATION:Gugg\, Heumühlgasse 14\, Wien\, 1040
CATEGORIES:Intern
ATTACH;FMTTYPE=image/jpeg:https://archiv.hosiwien.at/img/parade_ball.jpg
GEO:48.1961598;16.3617969
X-APPLE-STRUCTURED-LOCATION;VALUE=URI;X-ADDRESS=Gugg Heumühlgasse 14 Wien 1040;X-APPLE-RADIUS=500;X-TITLE=Heumühlgasse 14:geo:16.3617969,48.1961598
END:VEVENT
BEGIN:VEVENT
DTSTART;TZID=Europe/Vienna:20151110T190000
DTEND;TZID=Europe/Vienna:20151110T210000
DTSTAMP:20260420T230347
CREATED:20151020T153830Z
LAST-MODIFIED:20151020T155153Z
UID:62569-1447182000-1447189200@archiv.hosiwien.at
SUMMARY:HIV und Hirn
DESCRIPTION:Unter dem nicht ganz ernst klingenden Titel HIV und Hirn möchte dieser Infoabend in lockerer Atmosphäre durchaus ernste Themen zusammenfassen\, die im weitesten Sinne das Gehirn betreffen. Es soll ein kleiner Überblick gegeben werden über Aspekte wie z.B.: Blut-Hirn-Schranke und Medikamente der HIV-Therapie\, HIV-assoziierte neurokognitive Beeinträchtigungen\, HIV und psychische Erkrankungen sowie Wechselwirkungen zwischen HIV-Therapie und Psychopharmaka. \nModeration: Birgit Leichsenring (Med. Info/Doku der AIDS-Hilfen Österreichs) \nEintritt frei – Keine Anmeldung erforderlich. \nSnacks und Getränke werden zur Verfügung gestellt.
URL:https://archiv.hosiwien.at/event/hiv-und-hirn/
LOCATION:Gugg\, Heumühlgasse 14\, Wien\, 1040
CATEGORIES:kulturelle Veranstaltung
ATTACH;FMTTYPE=image/jpeg:https://archiv.hosiwien.at/img/image/2015/HIVundHIRN_2.jpg
GEO:48.1961598;16.3617969
X-APPLE-STRUCTURED-LOCATION;VALUE=URI;X-ADDRESS=Gugg Heumühlgasse 14 Wien 1040;X-APPLE-RADIUS=500;X-TITLE=Heumühlgasse 14:geo:16.3617969,48.1961598
END:VEVENT
END:VCALENDAR