BEGIN:VCALENDAR
VERSION:2.0
PRODID:-//Homosexuelle Initiative (HOSI) Wien - ECPv5.16.4//NONSGML v1.0//EN
CALSCALE:GREGORIAN
METHOD:PUBLISH
X-WR-CALNAME:Homosexuelle Initiative (HOSI) Wien
X-ORIGINAL-URL:https://archiv.hosiwien.at
X-WR-CALDESC:Events for Homosexuelle Initiative (HOSI) Wien
REFRESH-INTERVAL;VALUE=DURATION:PT1H
X-Robots-Tag:noindex
X-PUBLISHED-TTL:PT1H
BEGIN:VTIMEZONE
TZID:Europe/Vienna
BEGIN:DAYLIGHT
TZOFFSETFROM:+0100
TZOFFSETTO:+0200
TZNAME:CEST
DTSTART:20150329T010000
END:DAYLIGHT
BEGIN:STANDARD
TZOFFSETFROM:+0200
TZOFFSETTO:+0100
TZNAME:CET
DTSTART:20151025T010000
END:STANDARD
END:VTIMEZONE
BEGIN:VEVENT
DTSTART;TZID=Europe/Vienna:20151124T100000
DTEND;TZID=Europe/Vienna:20151124T160000
DTSTAMP:20260421T003631
CREATED:20150330T141003Z
LAST-MODIFIED:20160216T120619Z
UID:34470-1448359200-1448380800@archiv.hosiwien.at
SUMMARY:Bürozeiten der HOSI Wien
DESCRIPTION:Während der Bürozeiten kannst du in unserem Vereinszentrum und -lokal\, dem Gugg\, vorbeikommen und dich über die HOSI Wien informieren\, generell Infomaterial über die LSBT-Szene in Wien erhalten\, Dringendes besprechen oder Mitglied werden und sofort deine Mitgliedskarte erhalten. \nDie Bürozeiten sind: \nMontag 12 – 16 Uhr \nDienstag 10 – 16 Uhr \nFreitag 10 – 16 Uhr \nUnsere Mitarbeiterin Anna Szutt ist während der Bürozeiten unter 0660/216 66 05 telefonisch erreichbar.
URL:https://archiv.hosiwien.at/event/buerozeiten-der-hosi-wien-19/2015-11-24/
LOCATION:Gugg\, Heumühlgasse 14\, Wien\, 1040
CATEGORIES:Bürozeiten
GEO:48.1961598;16.3617969
X-APPLE-STRUCTURED-LOCATION;VALUE=URI;X-ADDRESS=Gugg Heumühlgasse 14 Wien 1040;X-APPLE-RADIUS=500;X-TITLE=Heumühlgasse 14:geo:16.3617969,48.1961598
END:VEVENT
BEGIN:VEVENT
DTSTART;TZID=Europe/Vienna:20151124T180000
DTEND;TZID=Europe/Vienna:20151124T220000
DTSTAMP:20260421T003631
CREATED:20150812T071716Z
LAST-MODIFIED:20150915T175014Z
UID:29751-1448388000-1448402400@archiv.hosiwien.at
SUMMARY:Café-Betrieb
DESCRIPTION:Das Gugg bietet nicht nur Veranstaltungen und Gruppentreffen den passenden Raum\, sondern ist natürlich auch ein gemütlicher Ort zum Verweilen und Plaudern. Wir freuen uns auf deinen Besuch während der Öffnungszeiten!
URL:https://archiv.hosiwien.at/event/cafe-betrieb-2015-03-17/2015-11-24/
LOCATION:Gugg\, Heumühlgasse 14\, Wien\, 1040
CATEGORIES:Café-Betrieb
ATTACH;FMTTYPE=image/jpeg:https://archiv.hosiwien.at/img/image/2011/gugg_logo2011.jpg
GEO:48.1961598;16.3617969
X-APPLE-STRUCTURED-LOCATION;VALUE=URI;X-ADDRESS=Gugg Heumühlgasse 14 Wien 1040;X-APPLE-RADIUS=500;X-TITLE=Heumühlgasse 14:geo:16.3617969,48.1961598
END:VEVENT
BEGIN:VEVENT
DTSTART;TZID=Europe/Vienna:20151124T183000
DTEND;TZID=Europe/Vienna:20151124T220000
DTSTAMP:20260421T003631
CREATED:20150921T124159Z
LAST-MODIFIED:20150925T145116Z
UID:61753-1448389800-1448402400@archiv.hosiwien.at
SUMMARY:Selbstverteidigungs-Workshop
DESCRIPTION:Wir freuen uns euch unser neues Kursangebot vorstellen zu dürfen: den EinsteigerInnen-Workshop in Selbstverteidigung! Der Kurs wird Elemente aus Jiu Jitsu\, Judo\, Karate und Krav Maga beinhalten und unter der Leitung des staatlich geprüften Sportwarts Karl Nejes stattfinden. Karl Nejes hat in der Vergangenheit u.a. im Auftrag des Innenministeriums Kurse für Frauen und für ExekutivbeamtInnen gemacht und hat seinen Schwerpunkt auf Selbstverteidigung gesetzt. Der Kurs ist offen für alle LSBTI-Personen. Der Kurs findet in Kooperation mit agpro – austrian gay professionals statt. \nTermine: \n\nDienstag\, 20.10.2015\, 18:30 – 22 Uhr\nDienstag\, 24.11.2015\, 18:30 – 22 Uhr\nDienstag\, 15.12.2015\, 18:30 – 22 Uhr\n\nDie maximale Anzahl von TeilnehmerInnen pro Abend beträgt 12. \nUKB: € 10\,- (€ 7\,- für HOSI-Wien-Mitglieder) \nAnmeldung\nThis form does not exist\nHinweis: Wir bieten die EinsteigerInnen-Workshops bis Ende des Jahres an. Bei entsprechendem Interesse wird es 2016 ein Kursangebot geben.
URL:https://archiv.hosiwien.at/event/selbstverteidigungs-workshop-2/
LOCATION:Gugg\, Heumühlgasse 14\, Wien\, 1040
CATEGORIES:Gruppen
ATTACH;FMTTYPE=image/png:https://archiv.hosiwien.at/img/image/2015/selbstverteidigung.png
GEO:48.1961598;16.3617969
X-APPLE-STRUCTURED-LOCATION;VALUE=URI;X-ADDRESS=Gugg Heumühlgasse 14 Wien 1040;X-APPLE-RADIUS=500;X-TITLE=Heumühlgasse 14:geo:16.3617969,48.1961598
END:VEVENT
END:VCALENDAR