BEGIN:VCALENDAR
VERSION:2.0
PRODID:-//Homosexuelle Initiative (HOSI) Wien - ECPv5.16.4//NONSGML v1.0//EN
CALSCALE:GREGORIAN
METHOD:PUBLISH
X-ORIGINAL-URL:https://archiv.hosiwien.at
X-WR-CALDESC:Events for Homosexuelle Initiative (HOSI) Wien
REFRESH-INTERVAL;VALUE=DURATION:PT1H
X-Robots-Tag:noindex
X-PUBLISHED-TTL:PT1H
BEGIN:VTIMEZONE
TZID:Europe/Vienna
BEGIN:DAYLIGHT
TZOFFSETFROM:+0100
TZOFFSETTO:+0200
TZNAME:CEST
DTSTART:20150329T010000
END:DAYLIGHT
BEGIN:STANDARD
TZOFFSETFROM:+0200
TZOFFSETTO:+0100
TZNAME:CET
DTSTART:20151025T010000
END:STANDARD
END:VTIMEZONE
BEGIN:VEVENT
DTSTART;TZID=Europe/Vienna:20151205T180000
DTEND;TZID=Europe/Vienna:20151206T010000
DTSTAMP:20260421T005053
CREATED:20140703T145855Z
LAST-MODIFIED:20170428T164154Z
UID:29856-1449338400-1449363600@archiv.hosiwien.at
SUMMARY:Café-Betrieb
DESCRIPTION:Das Gugg bietet nicht nur Veranstaltungen und Gruppentreffen den passenden Raum\, sondern ist natürlich auch ein gemütlicher Ort zum Verweilen und Plaudern. Wir freuen uns auf deinen Besuch während der Öffnungszeiten!
URL:https://archiv.hosiwien.at/event/cafe-betrieb-13-2015-05-30-2015-01-17/2015-12-05/
LOCATION:Gugg\, Heumühlgasse 14\, Wien\, 1040
CATEGORIES:Café-Betrieb
ATTACH;FMTTYPE=image/jpeg:https://archiv.hosiwien.at/img/image/2011/gugg_logo2011.jpg
GEO:48.1961598;16.3617969
X-APPLE-STRUCTURED-LOCATION;VALUE=URI;X-ADDRESS=Gugg Heumühlgasse 14 Wien 1040;X-APPLE-RADIUS=500;X-TITLE=Heumühlgasse 14:geo:16.3617969,48.1961598
END:VEVENT
BEGIN:VEVENT
DTSTART;TZID=Europe/Vienna:20151205T200000
DTEND;TZID=Europe/Vienna:20151205T230000
DTSTAMP:20260421T005053
CREATED:20150922T094337Z
LAST-MODIFIED:20151130T122934Z
UID:61756-1449345600-1449356400@archiv.hosiwien.at
SUMMARY:Träsh Contest 2015 - IT'S TRÄSHMESS!
DESCRIPTION:Nach dem unbeschreiblichen Revival des TRäSh-Contsts im Frühjahr geht im Winterwonderland des Regenbogen-Herzens der Wiener City am Krampussitag 2015 ein transnationaler Klamauk-Performancewettbewerb der krankenhausreifen Sonderklasse über die Bühne. Mehrere träshulöse Acts werden gegeneinander antreten und versuchen\, den Nerv für schlechten Geschmack der Dschüri und des Saalpublikums zu treffen\, denn: möge der/die Schlechteste gaywinnen!!! Vorjahressiegerin Sue Philis Baker wird natürlich versuchen\, ihren Titel mit allen Träshkräften zu verteidigen. \nModeration: Tana Transwhatever & Träshgnomin Katinka Ferrero-Roché van Channeling geborene di Montalban-Pezzi aka Frau Vodkarova-Zelmerlöw (#teamträshcontest https://www.facebook.com/TanaTrans)\n \nDschüri:\n– Ornella Debakel (https://www.facebook.com/Ornella-de-Bakel-1491647267759166/timeline/)\n– Einfach Marion\n– Maya P.\n– Zonengäby \nDU möchtest teilnehmen und dein SCHLÄCHTESTES geben? Wir freuen uns über Träsh-Mutige\, die performen wollen! Anmeldungen ab sofort unter: trashcontest@gmail.com \nDer Eintritt ist selbstverständlich frei\, denn „Freedom is a kind of part in life\, you cannot buy it\, you must live it“ (Lola). Wir freuen uns aber naturalmente sehr gerne über Spenden für die supertolle HOSI Wien.
URL:https://archiv.hosiwien.at/event/traesh-contest-2015-its-traeshmess/
LOCATION:Gugg\, Heumühlgasse 14\, Wien\, 1040
CATEGORIES:kulturelle Veranstaltung
ATTACH;FMTTYPE=image/jpeg:https://archiv.hosiwien.at/img/image/2015/träshcontest-05.12.2015.jpg
GEO:48.1961598;16.3617969
X-APPLE-STRUCTURED-LOCATION;VALUE=URI;X-ADDRESS=Gugg Heumühlgasse 14 Wien 1040;X-APPLE-RADIUS=500;X-TITLE=Heumühlgasse 14:geo:16.3617969,48.1961598
END:VEVENT
END:VCALENDAR