BEGIN:VCALENDAR
VERSION:2.0
PRODID:-//Homosexuelle Initiative (HOSI) Wien - ECPv5.16.4//NONSGML v1.0//EN
CALSCALE:GREGORIAN
METHOD:PUBLISH
X-WR-CALNAME:Homosexuelle Initiative (HOSI) Wien
X-ORIGINAL-URL:https://archiv.hosiwien.at
X-WR-CALDESC:Events for Homosexuelle Initiative (HOSI) Wien
REFRESH-INTERVAL;VALUE=DURATION:PT1H
X-Robots-Tag:noindex
X-PUBLISHED-TTL:PT1H
BEGIN:VTIMEZONE
TZID:Europe/Vienna
BEGIN:DAYLIGHT
TZOFFSETFROM:+0100
TZOFFSETTO:+0200
TZNAME:CEST
DTSTART:20150329T010000
END:DAYLIGHT
BEGIN:STANDARD
TZOFFSETFROM:+0200
TZOFFSETTO:+0100
TZNAME:CET
DTSTART:20151025T010000
END:STANDARD
END:VTIMEZONE
BEGIN:VEVENT
DTSTART;TZID=Europe/Vienna:20151208T100000
DTEND;TZID=Europe/Vienna:20151208T160000
DTSTAMP:20260420T231348
CREATED:20150330T141003Z
LAST-MODIFIED:20160419T225207Z
UID:63889-1449568800-1449590400@archiv.hosiwien.at
SUMMARY:Büro geschlossen
DESCRIPTION:Während der Bürozeiten kannst du in unserem Vereinszentrum und -lokal\, dem Gugg\, vorbeikommen und dich über die HOSI Wien informieren\, generell Infomaterial über die LSBT-Szene in Wien erhalten\, Dringendes besprechen oder Mitglied werden und sofort deine Mitgliedskarte erhalten. \nDie Bürozeiten sind: \nMontag 12 – 16 Uhr \nDienstag 10 – 16 Uhr \nFreitag 10 – 16 Uhr \nUnsere Mitarbeiterin Anna Szutt ist während der Bürozeiten unter 0660/216 66 05 telefonisch erreichbar.
URL:https://archiv.hosiwien.at/event/buerozeiten-der-hosi-wien-19-2015-12-08-2/
LOCATION:Gugg\, Heumühlgasse 14\, Wien\, 1040
CATEGORIES:Bürozeiten,Sperre
GEO:48.1961598;16.3617969
X-APPLE-STRUCTURED-LOCATION;VALUE=URI;X-ADDRESS=Gugg Heumühlgasse 14 Wien 1040;X-APPLE-RADIUS=500;X-TITLE=Heumühlgasse 14:geo:16.3617969,48.1961598
END:VEVENT
BEGIN:VEVENT
DTSTART;TZID=Europe/Vienna:20151208T180000
DTEND;TZID=Europe/Vienna:20151208T220000
DTSTAMP:20260420T231348
CREATED:20150812T071716Z
LAST-MODIFIED:20150915T175014Z
UID:29753-1449597600-1449612000@archiv.hosiwien.at
SUMMARY:Café-Betrieb
DESCRIPTION:Das Gugg bietet nicht nur Veranstaltungen und Gruppentreffen den passenden Raum\, sondern ist natürlich auch ein gemütlicher Ort zum Verweilen und Plaudern. Wir freuen uns auf deinen Besuch während der Öffnungszeiten!
URL:https://archiv.hosiwien.at/event/cafe-betrieb-2015-03-17/2015-12-08/
LOCATION:Gugg\, Heumühlgasse 14\, Wien\, 1040
CATEGORIES:Café-Betrieb
ATTACH;FMTTYPE=image/jpeg:https://archiv.hosiwien.at/img/image/2011/gugg_logo2011.jpg
GEO:48.1961598;16.3617969
X-APPLE-STRUCTURED-LOCATION;VALUE=URI;X-ADDRESS=Gugg Heumühlgasse 14 Wien 1040;X-APPLE-RADIUS=500;X-TITLE=Heumühlgasse 14:geo:16.3617969,48.1961598
END:VEVENT
BEGIN:VEVENT
DTSTART;TZID=Europe/Vienna:20151208T190000
DTEND;TZID=Europe/Vienna:20151209T010000
DTSTAMP:20260420T231348
CREATED:20151012T105409Z
LAST-MODIFIED:20151201T120332Z
UID:62192-1449601200-1449622800@archiv.hosiwien.at
SUMMARY:Weihnachtsfeier der HOSI Wien
DESCRIPTION:Wir laden alle Mitglieder und FreundInnen herzlich ein ins weihnachtlich besinnliche Kerzenschein-Ambiente des Gugg\, um unser selbstgemachtes Backwerk & deftige Speisen zu verzehren und bei heißem Traubenpunsch & Co. einfach einen gemütlichen Abend mit uns zu verbringen.
URL:https://archiv.hosiwien.at/event/weihnachtsfeier-der-hosi-wien-2/
LOCATION:Gugg\, Heumühlgasse 14\, Wien\, 1040
CATEGORIES:kulturelle Veranstaltung
ATTACH;FMTTYPE=image/jpeg:https://archiv.hosiwien.at/img/image/2015/flyer_weihnachten2015.jpg
GEO:48.1961598;16.3617969
X-APPLE-STRUCTURED-LOCATION;VALUE=URI;X-ADDRESS=Gugg Heumühlgasse 14 Wien 1040;X-APPLE-RADIUS=500;X-TITLE=Heumühlgasse 14:geo:16.3617969,48.1961598
END:VEVENT
END:VCALENDAR