BEGIN:VCALENDAR
VERSION:2.0
PRODID:-//Homosexuelle Initiative (HOSI) Wien - ECPv5.16.4//NONSGML v1.0//EN
CALSCALE:GREGORIAN
METHOD:PUBLISH
X-ORIGINAL-URL:https://archiv.hosiwien.at
X-WR-CALDESC:Events for Homosexuelle Initiative (HOSI) Wien
REFRESH-INTERVAL;VALUE=DURATION:PT1H
X-Robots-Tag:noindex
X-PUBLISHED-TTL:PT1H
BEGIN:VTIMEZONE
TZID:Europe/Vienna
BEGIN:DAYLIGHT
TZOFFSETFROM:+0100
TZOFFSETTO:+0200
TZNAME:CEST
DTSTART:20150329T010000
END:DAYLIGHT
BEGIN:STANDARD
TZOFFSETFROM:+0200
TZOFFSETTO:+0100
TZNAME:CET
DTSTART:20151025T010000
END:STANDARD
END:VTIMEZONE
BEGIN:VEVENT
DTSTART;TZID=Europe/Vienna:20151212T090000
DTEND;TZID=Europe/Vienna:20151212T190000
DTSTAMP:20260420T213832
CREATED:20150414T134917Z
LAST-MODIFIED:20150918T162034Z
UID:34911-1449910800-1449946800@archiv.hosiwien.at
SUMMARY:HOSIsters-Workshop (Salon)
DESCRIPTION:Interner\, nicht öffentlicher Workshop. \nDer HOSIsters (sprich: Ho-Sisters) sind die vereinseigene Showtruppe\, die sich einer großen Fangemeinde erfreut. Sie existiert in wechselnder Besetzung seit über 30 Jahren. \nMit viel Humor werden in bester Tradition des Laien- und Volkstheaters die verschiedensten Genres aufs Korn genommen. Die „singenden BotschafterInnen“ der HOSI Wien sind bei jung und alt\, bei hetero und homo gleichermaßen beliebt.
URL:https://archiv.hosiwien.at/event/hosisters-workshop/2015-12-12/
LOCATION:Gugg\, Heumühlgasse 14\, Wien\, 1040
CATEGORIES:Intern
GEO:48.1961598;16.3617969
X-APPLE-STRUCTURED-LOCATION;VALUE=URI;X-ADDRESS=Gugg Heumühlgasse 14 Wien 1040;X-APPLE-RADIUS=500;X-TITLE=Heumühlgasse 14:geo:16.3617969,48.1961598
END:VEVENT
BEGIN:VEVENT
DTSTART;TZID=Europe/Vienna:20151212T170000
DTEND;TZID=Europe/Vienna:20151212T180000
DTSTAMP:20260420T213832
CREATED:20151012T105921Z
LAST-MODIFIED:20151012T105921Z
UID:62190-1449939600-1449943200@archiv.hosiwien.at
SUMMARY:OGAE Austria-GV
DESCRIPTION:
URL:https://archiv.hosiwien.at/event/ogae-austria-gv/
LOCATION:Gugg\, Heumühlgasse 14\, Wien\, 1040
CATEGORIES:Intern
GEO:48.1961598;16.3617969
X-APPLE-STRUCTURED-LOCATION;VALUE=URI;X-ADDRESS=Gugg Heumühlgasse 14 Wien 1040;X-APPLE-RADIUS=500;X-TITLE=Heumühlgasse 14:geo:16.3617969,48.1961598
END:VEVENT
BEGIN:VEVENT
DTSTART;TZID=Europe/Vienna:20151212T180000
DTEND;TZID=Europe/Vienna:20151213T010000
DTSTAMP:20260420T213832
CREATED:20140703T145855Z
LAST-MODIFIED:20170428T164154Z
UID:64418-1449943200-1449968400@archiv.hosiwien.at
SUMMARY:Café-Betrieb
DESCRIPTION:Das Gugg bietet nicht nur Veranstaltungen und Gruppentreffen den passenden Raum\, sondern ist natürlich auch ein gemütlicher Ort zum Verweilen und Plaudern. Wir freuen uns auf deinen Besuch während der Öffnungszeiten!
URL:https://archiv.hosiwien.at/event/cafe-betrieb-13-2015-05-30-2015-01-17/2015-12-12/
LOCATION:Gugg\, Heumühlgasse 14\, Wien\, 1040
CATEGORIES:Café-Betrieb
ATTACH;FMTTYPE=image/jpeg:https://archiv.hosiwien.at/img/image/2011/gugg_logo2011.jpg
GEO:48.1961598;16.3617969
X-APPLE-STRUCTURED-LOCATION;VALUE=URI;X-ADDRESS=Gugg Heumühlgasse 14 Wien 1040;X-APPLE-RADIUS=500;X-TITLE=Heumühlgasse 14:geo:16.3617969,48.1961598
END:VEVENT
BEGIN:VEVENT
DTSTART;TZID=Europe/Vienna:20151212T190000
DTEND;TZID=Europe/Vienna:20151212T190000
DTSTAMP:20260420T213832
CREATED:20151006T115423Z
LAST-MODIFIED:20151201T155856Z
UID:62170-1449946800-1449946800@archiv.hosiwien.at
SUMMARY:Eurovision Live
DESCRIPTION:Eurovision Live – mit Gaststar-Auftritten ehemaliger ESC-Teilnehmern: Axel Hirsoux (Belgien 2014) und András Kállay-Saunders (Ungarn 2014)! Das X-mas-Event von OGAE Austria findet am Samstag\, den 12. Dezember in den euch allseits bekannten Räumlichkeiten statt. Es wird voll werden! \nDer Eintritt ist frei! \n 
URL:https://archiv.hosiwien.at/event/eurovision-live/
LOCATION:Gugg\, Heumühlgasse 14\, Wien\, 1040
CATEGORIES:kulturelle Veranstaltung
GEO:48.1961598;16.3617969
X-APPLE-STRUCTURED-LOCATION;VALUE=URI;X-ADDRESS=Gugg Heumühlgasse 14 Wien 1040;X-APPLE-RADIUS=500;X-TITLE=Heumühlgasse 14:geo:16.3617969,48.1961598
END:VEVENT
END:VCALENDAR