BEGIN:VCALENDAR
VERSION:2.0
PRODID:-//Homosexuelle Initiative (HOSI) Wien - ECPv5.16.4//NONSGML v1.0//EN
CALSCALE:GREGORIAN
METHOD:PUBLISH
X-ORIGINAL-URL:https://archiv.hosiwien.at
X-WR-CALDESC:Events for Homosexuelle Initiative (HOSI) Wien
REFRESH-INTERVAL;VALUE=DURATION:PT1H
X-Robots-Tag:noindex
X-PUBLISHED-TTL:PT1H
BEGIN:VTIMEZONE
TZID:Europe/Vienna
BEGIN:DAYLIGHT
TZOFFSETFROM:+0100
TZOFFSETTO:+0200
TZNAME:CEST
DTSTART:20150329T010000
END:DAYLIGHT
BEGIN:STANDARD
TZOFFSETFROM:+0200
TZOFFSETTO:+0100
TZNAME:CET
DTSTART:20151025T010000
END:STANDARD
END:VTIMEZONE
BEGIN:VEVENT
DTSTART;TZID=Europe/Vienna:20151215T100000
DTEND;TZID=Europe/Vienna:20151215T160000
DTSTAMP:20260420T213812
CREATED:20150330T141003Z
LAST-MODIFIED:20160216T120619Z
UID:34473-1450173600-1450195200@archiv.hosiwien.at
SUMMARY:Bürozeiten der HOSI Wien
DESCRIPTION:Während der Bürozeiten kannst du in unserem Vereinszentrum und -lokal\, dem Gugg\, vorbeikommen und dich über die HOSI Wien informieren\, generell Infomaterial über die LSBT-Szene in Wien erhalten\, Dringendes besprechen oder Mitglied werden und sofort deine Mitgliedskarte erhalten. \nDie Bürozeiten sind: \nMontag 12 – 16 Uhr \nDienstag 10 – 16 Uhr \nFreitag 10 – 16 Uhr \nUnsere Mitarbeiterin Anna Szutt ist während der Bürozeiten unter 0660/216 66 05 telefonisch erreichbar.
URL:https://archiv.hosiwien.at/event/buerozeiten-der-hosi-wien-19/2015-12-15/
LOCATION:Gugg\, Heumühlgasse 14\, Wien\, 1040
CATEGORIES:Bürozeiten
GEO:48.1961598;16.3617969
X-APPLE-STRUCTURED-LOCATION;VALUE=URI;X-ADDRESS=Gugg Heumühlgasse 14 Wien 1040;X-APPLE-RADIUS=500;X-TITLE=Heumühlgasse 14:geo:16.3617969,48.1961598
END:VEVENT
BEGIN:VEVENT
DTSTART;TZID=Europe/Vienna:20151215T180000
DTEND;TZID=Europe/Vienna:20151215T220000
DTSTAMP:20260420T213812
CREATED:20150812T071716Z
LAST-MODIFIED:20150915T175014Z
UID:29754-1450202400-1450216800@archiv.hosiwien.at
SUMMARY:Café-Betrieb
DESCRIPTION:Das Gugg bietet nicht nur Veranstaltungen und Gruppentreffen den passenden Raum\, sondern ist natürlich auch ein gemütlicher Ort zum Verweilen und Plaudern. Wir freuen uns auf deinen Besuch während der Öffnungszeiten!
URL:https://archiv.hosiwien.at/event/cafe-betrieb-2015-03-17/2015-12-15/
LOCATION:Gugg\, Heumühlgasse 14\, Wien\, 1040
CATEGORIES:Café-Betrieb
ATTACH;FMTTYPE=image/jpeg:https://archiv.hosiwien.at/img/image/2011/gugg_logo2011.jpg
GEO:48.1961598;16.3617969
X-APPLE-STRUCTURED-LOCATION;VALUE=URI;X-ADDRESS=Gugg Heumühlgasse 14 Wien 1040;X-APPLE-RADIUS=500;X-TITLE=Heumühlgasse 14:geo:16.3617969,48.1961598
END:VEVENT
BEGIN:VEVENT
DTSTART;TZID=Europe/Vienna:20151215T180000
DTEND;TZID=Europe/Vienna:20151215T220000
DTSTAMP:20260420T213812
CREATED:20150911T111336Z
LAST-MODIFIED:20150915T175500Z
UID:59494-1450202400-1450216800@archiv.hosiwien.at
SUMMARY:50+ Prime Timers
DESCRIPTION:Die 50+ Prime Timers sind eine Gruppe speziell für Menschen über 50 Jahren. Du suchst Anschluss oder möchtest dich in der gemütlichen Atmosphäre des Guggs mit anderen austauschen? Dann komm‘ doch einfach zum Treffen der Prime Timers\, die sich jeden 3. Dienstag im Monat ab 18 Uhr im Gugg treffen. \nDas Treffen findet im Barbereich statt. \nHINWEIS: Das umfangreiche Serviceangebot der HOSI Wien wird durch ehrenamtliches Engagement erbracht. Wie du die wichtige Arbeit des Vereins durch Spende oder Mitgliedschaft unterstützen kannst\, erfährst du unter archiv.hosiwien.at/mitgliedschaft.
URL:https://archiv.hosiwien.at/event/50-prime-timers-17/2015-12-15/
LOCATION:Gugg\, Heumühlgasse 14\, Wien\, 1040
CATEGORIES:Gruppen
ATTACH;FMTTYPE=image/jpeg:https://archiv.hosiwien.at/img/50+.jpg
GEO:48.1961598;16.3617969
X-APPLE-STRUCTURED-LOCATION;VALUE=URI;X-ADDRESS=Gugg Heumühlgasse 14 Wien 1040;X-APPLE-RADIUS=500;X-TITLE=Heumühlgasse 14:geo:16.3617969,48.1961598
END:VEVENT
BEGIN:VEVENT
DTSTART;TZID=Europe/Vienna:20151215T183000
DTEND;TZID=Europe/Vienna:20151215T220000
DTSTAMP:20260420T213812
CREATED:20150921T124309Z
LAST-MODIFIED:20150925T145155Z
UID:61754-1450204200-1450216800@archiv.hosiwien.at
SUMMARY:Selbstverteidigungs-Workshop
DESCRIPTION:Wir freuen uns euch unser neues Kursangebot vorstellen zu dürfen: den EinsteigerInnen-Workshop in Selbstverteidigung! Der Kurs wird Elemente aus Jiu Jitsu\, Judo\, Karate und Krav Maga beinhalten und unter der Leitung des staatlich geprüften Sportwarts Karl Nejes stattfinden. Karl Nejes hat in der Vergangenheit u.a. im Auftrag des Innenministeriums Kurse für Frauen und für ExekutivbeamtInnen gemacht und hat seinen Schwerpunkt auf Selbstverteidigung gesetzt. Der Kurs ist offen für alle LSBTI-Personen. Der Kurs findet in Kooperation mit agpro – austrian gay professionals statt. \nTermine: \n\nDienstag\, 20.10.2015\, 18:30 – 22 Uhr\nDienstag\, 24.11.2015\, 18:30 – 22 Uhr\nDienstag\, 15.12.2015\, 18:30 – 22 Uhr\n\nDie maximale Anzahl von TeilnehmerInnen pro Abend beträgt 12. \nUKB: € 10\,- (€ 7\,- für HOSI-Wien-Mitglieder) \nAnmeldung\nThis form does not exist\nHinweis: Wir bieten die EinsteigerInnen-Workshops bis Ende des Jahres an. Bei entsprechendem Interesse wird es 2016 ein Kursangebot geben.
URL:https://archiv.hosiwien.at/event/selbstverteidigungs-workshop-3/
LOCATION:Gugg\, Heumühlgasse 14\, Wien\, 1040
CATEGORIES:Gruppen
ATTACH;FMTTYPE=image/png:https://archiv.hosiwien.at/img/image/2015/selbstverteidigung.png
GEO:48.1961598;16.3617969
X-APPLE-STRUCTURED-LOCATION;VALUE=URI;X-ADDRESS=Gugg Heumühlgasse 14 Wien 1040;X-APPLE-RADIUS=500;X-TITLE=Heumühlgasse 14:geo:16.3617969,48.1961598
END:VEVENT
BEGIN:VEVENT
DTSTART;TZID=Europe/Vienna:20151215T190000
DTEND;TZID=Europe/Vienna:20151215T190000
DTSTAMP:20260420T213812
CREATED:20151130T111802Z
LAST-MODIFIED:20151130T154007Z
UID:62873-1450206000-1450206000@archiv.hosiwien.at
SUMMARY:visiBİlity Austria
DESCRIPTION:Alle Bis und Pans aufgepasst! Die visiBIlity-Gruppe trifft sich am Dienstag\, den 15. Dezember wie gewohnt ab 19 Uhr im Gugg\, bleibt dort aber nicht lange! Auf dem letzten Treffen wurde einstimmig vereinbart das gemeinsame Pläneschmieden und Diskutieren auf den Pink Christmas Weihnachtsmarkt zu verlegen. Seid also pünktlich! Neue Gesichter sind immer willkommen! \nvisiBIlity Austria soll eine Anlaufstelle und Plattform für bisexuelle und pansexuelle Menschen werden sowie für deren FreundInnen\, Angehörige und UnterstützerInnen. Alle Interessierte sind herzlich willkommen vorbeizuschauen! \nAlle Infos zu der Gruppe au Facebook unter https://www.facebook.com/groups/visiBİlity.austria/.
URL:https://archiv.hosiwien.at/event/visibility-austria-5/
LOCATION:Gugg\, Heumühlgasse 14\, Wien\, 1040
CATEGORIES:Gruppen
ATTACH;FMTTYPE=image/png:https://archiv.hosiwien.at/img/image/2015/visiBIlity1.png
GEO:48.1961598;16.3617969
X-APPLE-STRUCTURED-LOCATION;VALUE=URI;X-ADDRESS=Gugg Heumühlgasse 14 Wien 1040;X-APPLE-RADIUS=500;X-TITLE=Heumühlgasse 14:geo:16.3617969,48.1961598
END:VEVENT
END:VCALENDAR