BEGIN:VCALENDAR
VERSION:2.0
PRODID:-//Homosexuelle Initiative (HOSI) Wien - ECPv5.16.4//NONSGML v1.0//EN
CALSCALE:GREGORIAN
METHOD:PUBLISH
X-ORIGINAL-URL:https://archiv.hosiwien.at
X-WR-CALDESC:Events for Homosexuelle Initiative (HOSI) Wien
REFRESH-INTERVAL;VALUE=DURATION:PT1H
X-Robots-Tag:noindex
X-PUBLISHED-TTL:PT1H
BEGIN:VTIMEZONE
TZID:Europe/Vienna
BEGIN:DAYLIGHT
TZOFFSETFROM:+0100
TZOFFSETTO:+0200
TZNAME:CEST
DTSTART:20150329T010000
END:DAYLIGHT
BEGIN:STANDARD
TZOFFSETFROM:+0200
TZOFFSETTO:+0100
TZNAME:CET
DTSTART:20151025T010000
END:STANDARD
END:VTIMEZONE
BEGIN:VEVENT
DTSTART;TZID=Europe/Vienna:20151217T103000
DTEND;TZID=Europe/Vienna:20151217T140000
DTSTAMP:20260420T231619
CREATED:20151214T150301Z
LAST-MODIFIED:20151214T150301Z
UID:63080-1450348200-1450360800@archiv.hosiwien.at
SUMMARY:queerconnexion-Workshop
DESCRIPTION:
URL:https://archiv.hosiwien.at/event/queerconnexion-workshop/
CATEGORIES:Intern
END:VEVENT
BEGIN:VEVENT
DTSTART;TZID=Europe/Vienna:20151217T173000
DTEND;TZID=Europe/Vienna:20151218T000000
DTSTAMP:20260420T231619
CREATED:20140703T143151Z
LAST-MODIFIED:20151019T150525Z
UID:35018-1450373400-1450396800@archiv.hosiwien.at
SUMMARY:Jugendabend - Weihnachtsfeier
DESCRIPTION:Wir sind für Jugendliche da\, die Infos und Unterstützung brauchen oder einfach nur einen Ort suchen\, wo man mit Gleichgesinnten zusammensitzen und bei einem Getränk plaudern kann. Bei uns geht es locker und ungezwungen zu. \nWeitere Infos \nHINWEIS: Das umfangreiche Serviceangebot der HOSI Wien wird durch ehrenamtliches Engagement erbracht. Wie du die wichtige Arbeit des Vereins durch Spende oder Mitgliedschaft unterstützen kannst\, erfährst du unter archiv.hosiwien.at/mitgliedschaft.
URL:https://archiv.hosiwien.at/event/jugendabend-3-2015-12-17/
LOCATION:Gugg\, Heumühlgasse 14\, Wien\, 1040
CATEGORIES:Gruppen
ATTACH;FMTTYPE=image/jpeg:https://archiv.hosiwien.at/img/hosijugend.jpg
GEO:48.1961598;16.3617969
X-APPLE-STRUCTURED-LOCATION;VALUE=URI;X-ADDRESS=Gugg Heumühlgasse 14 Wien 1040;X-APPLE-RADIUS=500;X-TITLE=Heumühlgasse 14:geo:16.3617969,48.1961598
END:VEVENT
END:VCALENDAR