BEGIN:VCALENDAR
VERSION:2.0
PRODID:-//Homosexuelle Initiative (HOSI) Wien - ECPv5.16.4//NONSGML v1.0//EN
CALSCALE:GREGORIAN
METHOD:PUBLISH
X-ORIGINAL-URL:https://archiv.hosiwien.at
X-WR-CALDESC:Events for Homosexuelle Initiative (HOSI) Wien
REFRESH-INTERVAL;VALUE=DURATION:PT1H
X-Robots-Tag:noindex
X-PUBLISHED-TTL:PT1H
BEGIN:VTIMEZONE
TZID:Europe/Vienna
BEGIN:DAYLIGHT
TZOFFSETFROM:+0100
TZOFFSETTO:+0200
TZNAME:CEST
DTSTART:20150329T010000
END:DAYLIGHT
BEGIN:STANDARD
TZOFFSETFROM:+0200
TZOFFSETTO:+0100
TZNAME:CET
DTSTART:20151025T010000
END:STANDARD
END:VTIMEZONE
BEGIN:VEVENT
DTSTART;TZID=Europe/Vienna:20151219T180000
DTEND;TZID=Europe/Vienna:20151220T010000
DTSTAMP:20260421T005043
CREATED:20140703T145855Z
LAST-MODIFIED:20170428T164155Z
UID:29858-1450548000-1450573200@archiv.hosiwien.at
SUMMARY:Café-Betrieb
DESCRIPTION:Das Gugg bietet nicht nur Veranstaltungen und Gruppentreffen den passenden Raum\, sondern ist natürlich auch ein gemütlicher Ort zum Verweilen und Plaudern. Wir freuen uns auf deinen Besuch während der Öffnungszeiten!
URL:https://archiv.hosiwien.at/event/cafe-betrieb-13-2015-05-30-2015-01-17/2015-12-19/
LOCATION:Gugg\, Heumühlgasse 14\, Wien\, 1040
CATEGORIES:Café-Betrieb
ATTACH;FMTTYPE=image/jpeg:https://archiv.hosiwien.at/img/image/2011/gugg_logo2011.jpg
GEO:48.1961598;16.3617969
X-APPLE-STRUCTURED-LOCATION;VALUE=URI;X-ADDRESS=Gugg Heumühlgasse 14 Wien 1040;X-APPLE-RADIUS=500;X-TITLE=Heumühlgasse 14:geo:16.3617969,48.1961598
END:VEVENT
BEGIN:VEVENT
DTSTART;TZID=Europe/Vienna:20151219T200000
DTEND;TZID=Europe/Vienna:20151219T200000
DTSTAMP:20260421T005043
CREATED:20150713T124917Z
LAST-MODIFIED:20151219T103800Z
UID:36893-1450555200-1450555200@archiv.hosiwien.at
SUMMARY:Weihnachtstanzabend Resis.danse
DESCRIPTION:Der Weihnachtstanzabend des Resis.danse-Frauentanzklubs. Komm’ am Samstag\, den 19. Dezember ins Gugg und wärm dich auf bei – wie könnte es auch anderes sein? – Punsch und heißer Musik. \nWICHTIGER HINWEIS: Geschlossene Veranstaltung\, daher ausnahmsweise kein generelles Rauchverbot im Lokal! Nichtraucherinnen-Bereich nur im Tanzsaal\, daher müssen Nichtraucherinnen mit erheblichen Einschränkungen und Beeinträchtigungen rechnen.
URL:https://archiv.hosiwien.at/event/weihnachtstanzabend-resis-danse-2/
LOCATION:Gugg\, Heumühlgasse 14\, Wien\, 1040
CATEGORIES:Tanzabende
ATTACH;FMTTYPE=image/jpeg:https://archiv.hosiwien.at/img/resisdanse.jpg
GEO:48.1961598;16.3617969
X-APPLE-STRUCTURED-LOCATION;VALUE=URI;X-ADDRESS=Gugg Heumühlgasse 14 Wien 1040;X-APPLE-RADIUS=500;X-TITLE=Heumühlgasse 14:geo:16.3617969,48.1961598
END:VEVENT
END:VCALENDAR