BEGIN:VCALENDAR
VERSION:2.0
PRODID:-//Homosexuelle Initiative (HOSI) Wien - ECPv5.16.4//NONSGML v1.0//EN
CALSCALE:GREGORIAN
METHOD:PUBLISH
X-WR-CALNAME:Homosexuelle Initiative (HOSI) Wien
X-ORIGINAL-URL:https://archiv.hosiwien.at
X-WR-CALDESC:Events for Homosexuelle Initiative (HOSI) Wien
REFRESH-INTERVAL;VALUE=DURATION:PT1H
X-Robots-Tag:noindex
X-PUBLISHED-TTL:PT1H
BEGIN:VTIMEZONE
TZID:Europe/Vienna
BEGIN:DAYLIGHT
TZOFFSETFROM:+0100
TZOFFSETTO:+0200
TZNAME:CEST
DTSTART:20160327T010000
END:DAYLIGHT
BEGIN:STANDARD
TZOFFSETFROM:+0200
TZOFFSETTO:+0100
TZNAME:CET
DTSTART:20161030T010000
END:STANDARD
END:VTIMEZONE
BEGIN:VEVENT
DTSTART;TZID=Europe/Vienna:20160112T100000
DTEND;TZID=Europe/Vienna:20160112T160000
DTSTAMP:20260420T213623
CREATED:20150330T141003Z
LAST-MODIFIED:20160419T222033Z
UID:34477-1452592800-1452614400@archiv.hosiwien.at
SUMMARY:Büro geschlossen
DESCRIPTION:Das Büro ist heute leider geschlossen. \nDie generellen Bürozeiten sind:\nMontag 12-16 Uhr\nDienstag 10-16 Uhr\nFreitag 10-16 Uhr. \nGerne kannst du unter der Tel. 0660-216 66 05 eine Nachricht hinterlassen. Du wirst sobald wie möglich bzgl. deines Anliegens zurückgerufen.
URL:https://archiv.hosiwien.at/event/buerozeiten-der-hosi-wien-19-2016-01-12/
LOCATION:Gugg\, Heumühlgasse 14\, Wien\, 1040
CATEGORIES:Sperre
GEO:48.1961598;16.3617969
X-APPLE-STRUCTURED-LOCATION;VALUE=URI;X-ADDRESS=Gugg Heumühlgasse 14 Wien 1040;X-APPLE-RADIUS=500;X-TITLE=Heumühlgasse 14:geo:16.3617969,48.1961598
END:VEVENT
BEGIN:VEVENT
DTSTART;TZID=Europe/Vienna:20160112T180000
DTEND;TZID=Europe/Vienna:20160112T220000
DTSTAMP:20260420T213623
CREATED:20150417T114211Z
LAST-MODIFIED:20160329T102325Z
UID:35130-1452621600-1452636000@archiv.hosiwien.at
SUMMARY:Café-Betrieb
DESCRIPTION:Das Gugg bietet nicht nur Veranstaltungen und Gruppentreffen den passenden Raum\, sondern ist natürlich auch ein gemütlicher Ort zum Verweilen und Plaudern. Wir freuen uns auf deinen Besuch während der Öffnungszeiten!
URL:https://archiv.hosiwien.at/event/cafe-betrieb-6-2016-01-12/2016-01-12/
LOCATION:Gugg\, Heumühlgasse 14\, Wien\, 1040
CATEGORIES:Café-Betrieb
ATTACH;FMTTYPE=image/jpeg:https://archiv.hosiwien.at/img/image/2010/gugg_logo.jpg
GEO:48.1961598;16.3617969
X-APPLE-STRUCTURED-LOCATION;VALUE=URI;X-ADDRESS=Gugg Heumühlgasse 14 Wien 1040;X-APPLE-RADIUS=500;X-TITLE=Heumühlgasse 14:geo:16.3617969,48.1961598
END:VEVENT
BEGIN:VEVENT
DTSTART;TZID=Europe/Vienna:20160112T183000
DTEND;TZID=Europe/Vienna:20160112T220000
DTSTAMP:20260420T213623
CREATED:20140720T094552Z
LAST-MODIFIED:20160603T103106Z
UID:30235-1452623400-1452636000@archiv.hosiwien.at
SUMMARY:Besprechung Orga-Team Ball/Parade
DESCRIPTION:Veranstaltungsraum!
URL:https://archiv.hosiwien.at/event/orga-team-sitzung-8/
LOCATION:Gugg\, Heumühlgasse 14\, Wien\, 1040
CATEGORIES:Intern
ATTACH;FMTTYPE=image/jpeg:https://archiv.hosiwien.at/img/parade_ball.jpg
GEO:48.1961598;16.3617969
X-APPLE-STRUCTURED-LOCATION;VALUE=URI;X-ADDRESS=Gugg Heumühlgasse 14 Wien 1040;X-APPLE-RADIUS=500;X-TITLE=Heumühlgasse 14:geo:16.3617969,48.1961598
END:VEVENT
END:VCALENDAR