BEGIN:VCALENDAR
VERSION:2.0
PRODID:-//Homosexuelle Initiative (HOSI) Wien - ECPv5.16.4//NONSGML v1.0//EN
CALSCALE:GREGORIAN
METHOD:PUBLISH
X-ORIGINAL-URL:https://archiv.hosiwien.at
X-WR-CALDESC:Events for Homosexuelle Initiative (HOSI) Wien
REFRESH-INTERVAL;VALUE=DURATION:PT1H
X-Robots-Tag:noindex
X-PUBLISHED-TTL:PT1H
BEGIN:VTIMEZONE
TZID:Europe/Vienna
BEGIN:DAYLIGHT
TZOFFSETFROM:+0100
TZOFFSETTO:+0200
TZNAME:CEST
DTSTART:20160327T010000
END:DAYLIGHT
BEGIN:STANDARD
TZOFFSETFROM:+0200
TZOFFSETTO:+0100
TZNAME:CET
DTSTART:20161030T010000
END:STANDARD
END:VTIMEZONE
BEGIN:VEVENT
DTSTART;TZID=Europe/Vienna:20160220T180000
DTEND;TZID=Europe/Vienna:20160221T010000
DTSTAMP:20260420T172131
CREATED:20140703T145855Z
LAST-MODIFIED:20170428T164156Z
UID:35294-1455991200-1456016400@archiv.hosiwien.at
SUMMARY:Café-Betrieb
DESCRIPTION:Das Gugg bietet nicht nur Veranstaltungen und Gruppentreffen den passenden Raum\, sondern ist natürlich auch ein gemütlicher Ort zum Verweilen und Plaudern. Wir freuen uns auf deinen Besuch während der Öffnungszeiten!
URL:https://archiv.hosiwien.at/event/cafe-betrieb-13-2015-05-30-2015-01-17/2016-02-20/
LOCATION:Gugg\, Heumühlgasse 14\, Wien\, 1040
CATEGORIES:Café-Betrieb
ATTACH;FMTTYPE=image/jpeg:https://archiv.hosiwien.at/img/image/2011/gugg_logo2011.jpg
GEO:48.1961598;16.3617969
X-APPLE-STRUCTURED-LOCATION;VALUE=URI;X-ADDRESS=Gugg Heumühlgasse 14 Wien 1040;X-APPLE-RADIUS=500;X-TITLE=Heumühlgasse 14:geo:16.3617969,48.1961598
END:VEVENT
BEGIN:VEVENT
DTSTART;TZID=Europe/Vienna:20160220T200000
DTEND;TZID=Europe/Vienna:20160220T200000
DTSTAMP:20260420T172131
CREATED:20160122T143726Z
LAST-MODIFIED:20160208T131713Z
UID:63523-1455998400-1455998400@archiv.hosiwien.at
SUMMARY:Happy Valentine’s Party
DESCRIPTION:Für alle Frauen\, die am Valentinstag keine Zeit oder Lust haben. Das Herz in die Hose\, und ab geht’s zu den heißen Beats von DJane Lady Suspect. An der Bar wirst du mit speziellen Valentin’s Shots versorgt! Stoß mit uns an auf die Liebe! Oder etwas anderes… So oder so – wir freuen uns auf dein Kommen! Women only! \nFreier Eintritt!
URL:https://archiv.hosiwien.at/event/happy-valentines-party/
LOCATION:Gugg\, Heumühlgasse 14\, Wien\, 1040
CATEGORIES:kulturelle Veranstaltung
ATTACH;FMTTYPE=image/jpeg:https://archiv.hosiwien.at/img/image/2016/valentinesparty_quer.jpg
GEO:48.1961598;16.3617969
X-APPLE-STRUCTURED-LOCATION;VALUE=URI;X-ADDRESS=Gugg Heumühlgasse 14 Wien 1040;X-APPLE-RADIUS=500;X-TITLE=Heumühlgasse 14:geo:16.3617969,48.1961598
END:VEVENT
END:VCALENDAR