BEGIN:VCALENDAR
VERSION:2.0
PRODID:-//Homosexuelle Initiative (HOSI) Wien - ECPv5.16.4//NONSGML v1.0//EN
CALSCALE:GREGORIAN
METHOD:PUBLISH
X-ORIGINAL-URL:https://archiv.hosiwien.at
X-WR-CALDESC:Events for Homosexuelle Initiative (HOSI) Wien
REFRESH-INTERVAL;VALUE=DURATION:PT1H
X-Robots-Tag:noindex
X-PUBLISHED-TTL:PT1H
BEGIN:VTIMEZONE
TZID:Europe/Vienna
BEGIN:DAYLIGHT
TZOFFSETFROM:+0100
TZOFFSETTO:+0200
TZNAME:CEST
DTSTART:20160327T010000
END:DAYLIGHT
BEGIN:STANDARD
TZOFFSETFROM:+0200
TZOFFSETTO:+0100
TZNAME:CET
DTSTART:20161030T010000
END:STANDARD
END:VTIMEZONE
BEGIN:VEVENT
DTSTART;TZID=Europe/Vienna:20160228T130000
DTEND;TZID=Europe/Vienna:20160228T190000
DTSTAMP:20260420T085058
CREATED:20150414T135457Z
LAST-MODIFIED:20150915T174933Z
UID:34920-1456664400-1456686000@archiv.hosiwien.at
SUMMARY:HOSIsters-Probe
DESCRIPTION:Die HOSIsters (sprich: Ho-Sisters) sind die vereinseigene Showtruppe\, die sich einer großen Fangemeinde erfreut. Sie existiert in wechselnder Besetzung seit über 30 Jahren. \nMit viel Humor werden in bester Tradition des Laien- und Volkstheaters die verschiedensten Genres aufs Korn genommen. Die „singenden BotschafterInnen“ der HOSI Wien sind bei jung und alt\, bei hetero und homo gleichermaßen beliebt.
URL:https://archiv.hosiwien.at/event/hosisters-probe-7/2016-02-28/
LOCATION:Gugg\, Heumühlgasse 14\, Wien\, 1040
CATEGORIES:Intern
GEO:48.1961598;16.3617969
X-APPLE-STRUCTURED-LOCATION;VALUE=URI;X-ADDRESS=Gugg Heumühlgasse 14 Wien 1040;X-APPLE-RADIUS=500;X-TITLE=Heumühlgasse 14:geo:16.3617969,48.1961598
END:VEVENT
BEGIN:VEVENT
DTSTART;TZID=Europe/Vienna:20160228T180000
DTEND;TZID=Europe/Vienna:20160228T220000
DTSTAMP:20260420T085058
CREATED:20140703T145933Z
LAST-MODIFIED:20160329T113618Z
UID:35350-1456682400-1456696800@archiv.hosiwien.at
SUMMARY:Café-Betrieb
DESCRIPTION:Das Gugg bietet nicht nur Veranstaltungen und Gruppentreffen den passenden Raum\, sondern ist natürlich auch ein gemütlicher Ort zum Verweilen und Plaudern. Wir freuen uns auf deinen Besuch während der Öffnungszeiten!
URL:https://archiv.hosiwien.at/event/cafe-betrieb-14-2015-05-31/2016-02-28/
LOCATION:Gugg\, Heumühlgasse 14\, Wien\, 1040
CATEGORIES:Café-Betrieb
ATTACH;FMTTYPE=image/jpeg:https://archiv.hosiwien.at/img/image/2011/gugg_logo2011.jpg
GEO:48.1961598;16.3617969
X-APPLE-STRUCTURED-LOCATION;VALUE=URI;X-ADDRESS=Gugg Heumühlgasse 14 Wien 1040;X-APPLE-RADIUS=500;X-TITLE=Heumühlgasse 14:geo:16.3617969,48.1961598
END:VEVENT
BEGIN:VEVENT
DTSTART;TZID=Europe/Vienna:20160228T190000
DTEND;TZID=Europe/Vienna:20160228T210000
DTSTAMP:20260420T085058
CREATED:20160105T140152Z
LAST-MODIFIED:20160105T162946Z
UID:63248-1456686000-1456693200@archiv.hosiwien.at
SUMMARY:Resis.danse-Tanzworkshop Aufbau III
DESCRIPTION:Ab Aufbau II. \nAlle Termine: 7x sonntags\, jeweils 19 – 21 Uhr \n24.\, 31. Jänner 2016\n07.\, 14.\, 21.\, 28. Februar 2016\n03. April 2016 \nUKB/Person: € 92\,00 \nHOSI-Wien-Mitglieder erhalten Ermäßigungen auf alle Tanzkurse! \n\n\nVorbereitung 18 Uhr! Tanzworkshopbeginn 19 Uhr!
URL:https://archiv.hosiwien.at/event/resis-danse-tanzworkshop-aufbau-iii-6/2016-02-28/
LOCATION:Gugg\, Heumühlgasse 14\, Wien\, 1040
CATEGORIES:Gruppen
ATTACH;FMTTYPE=image/jpeg:https://archiv.hosiwien.at/img/resisdanse.jpg
GEO:48.1961598;16.3617969
X-APPLE-STRUCTURED-LOCATION;VALUE=URI;X-ADDRESS=Gugg Heumühlgasse 14 Wien 1040;X-APPLE-RADIUS=500;X-TITLE=Heumühlgasse 14:geo:16.3617969,48.1961598
END:VEVENT
END:VCALENDAR