BEGIN:VCALENDAR
VERSION:2.0
PRODID:-//Homosexuelle Initiative (HOSI) Wien - ECPv5.16.4//NONSGML v1.0//EN
CALSCALE:GREGORIAN
METHOD:PUBLISH
X-ORIGINAL-URL:https://archiv.hosiwien.at
X-WR-CALDESC:Events for Homosexuelle Initiative (HOSI) Wien
REFRESH-INTERVAL;VALUE=DURATION:PT1H
X-Robots-Tag:noindex
X-PUBLISHED-TTL:PT1H
BEGIN:VTIMEZONE
TZID:Europe/Vienna
BEGIN:DAYLIGHT
TZOFFSETFROM:+0100
TZOFFSETTO:+0200
TZNAME:CEST
DTSTART:20160327T010000
END:DAYLIGHT
BEGIN:STANDARD
TZOFFSETFROM:+0200
TZOFFSETTO:+0100
TZNAME:CET
DTSTART:20161030T010000
END:STANDARD
END:VTIMEZONE
BEGIN:VEVENT
DTSTART;TZID=Europe/Vienna:20160322T100000
DTEND;TZID=Europe/Vienna:20160322T160000
DTSTAMP:20260420T063036
CREATED:20150330T141003Z
LAST-MODIFIED:20160216T120620Z
UID:34487-1458640800-1458662400@archiv.hosiwien.at
SUMMARY:Bürozeiten der HOSI Wien
DESCRIPTION:Während der Bürozeiten kannst du in unserem Vereinszentrum und -lokal\, dem Gugg\, vorbeikommen und dich über die HOSI Wien informieren\, generell Infomaterial über die LSBT-Szene in Wien erhalten\, Dringendes besprechen oder Mitglied werden und sofort deine Mitgliedskarte erhalten. \nDie Bürozeiten sind: \nMontag 12 – 16 Uhr \nDienstag 10 – 16 Uhr \nFreitag 10 – 16 Uhr \nUnsere Mitarbeiterin Anna Szutt ist während der Bürozeiten unter 0660/216 66 05 telefonisch erreichbar.
URL:https://archiv.hosiwien.at/event/buerozeiten-der-hosi-wien-19/2016-03-22/
LOCATION:Gugg\, Heumühlgasse 14\, Wien\, 1040
CATEGORIES:Bürozeiten
GEO:48.1961598;16.3617969
X-APPLE-STRUCTURED-LOCATION;VALUE=URI;X-ADDRESS=Gugg Heumühlgasse 14 Wien 1040;X-APPLE-RADIUS=500;X-TITLE=Heumühlgasse 14:geo:16.3617969,48.1961598
END:VEVENT
BEGIN:VEVENT
DTSTART;TZID=Europe/Vienna:20160322T180000
DTEND;TZID=Europe/Vienna:20160322T220000
DTSTAMP:20260420T063036
CREATED:20150417T114211Z
LAST-MODIFIED:20160329T103618Z
UID:35140-1458669600-1458684000@archiv.hosiwien.at
SUMMARY:Café-Betrieb
DESCRIPTION:Das Gugg bietet nicht nur Veranstaltungen und Gruppentreffen den passenden Raum\, sondern ist natürlich auch ein gemütlicher Ort zum Verweilen und Plaudern. Wir freuen uns auf deinen Besuch während der Öffnungszeiten!
URL:https://archiv.hosiwien.at/event/cafe-betrieb-6-2016-01-12/2016-03-22/
LOCATION:Gugg\, Heumühlgasse 14\, Wien\, 1040
CATEGORIES:Café-Betrieb
ATTACH;FMTTYPE=image/jpeg:https://archiv.hosiwien.at/img/image/2010/gugg_logo.jpg
GEO:48.1961598;16.3617969
X-APPLE-STRUCTURED-LOCATION;VALUE=URI;X-ADDRESS=Gugg Heumühlgasse 14 Wien 1040;X-APPLE-RADIUS=500;X-TITLE=Heumühlgasse 14:geo:16.3617969,48.1961598
END:VEVENT
BEGIN:VEVENT
DTSTART;TZID=Europe/Vienna:20160322T183000
DTEND;TZID=Europe/Vienna:20160322T220000
DTSTAMP:20260420T063036
CREATED:20151218T154611Z
LAST-MODIFIED:20160109T225257Z
UID:63136-1458671400-1458684000@archiv.hosiwien.at
SUMMARY:Selbstverteidigungs-Workshop
DESCRIPTION:Wir freuen uns\, euch unser neues Kursangebot vorstellen zu dürfen: den EinsteigerInnen-Workshop in Selbstverteidigung! Der Kurs wird Elemente aus Jiu Jitsu\, Judo\, Karate und Krav Maga beinhalten und unter der Leitung des staatlich geprüften Sportwarts Karl Nejes stattfinden. Karl Nejes hat in der Vergangenheit u. a. im Auftrag des Innenministeriums Kurse für Frauen und für ExekutivbeamtInnen gemacht und hat seinen Schwerpunkt auf Selbstverteidigung gesetzt. Der Kurs ist offen für alle LSBTI-Personen. Der Kurs findet in Kooperation mit agpro – austrian gay professionals statt. \nTermine: \n\nDienstag\, 23.02.2016\, 18:30–22 Uhr\nDienstag\, 22.03.2015\, 18:30–22 Uhr\n\nDie maximale Anzahl von TeilnehmerInnen pro Abend beträgt 12. \nUKB: € 10\,- (€ 7\,- für HOSI-Wien-Mitglieder) \nAnmeldung\nThis form does not exist
URL:https://archiv.hosiwien.at/event/selbstverteidigungs-workshop-5/
LOCATION:Gugg\, Heumühlgasse 14\, Wien\, 1040
CATEGORIES:Gruppen
ATTACH;FMTTYPE=image/png:https://archiv.hosiwien.at/img/image/2015/selbstverteidigung.png
GEO:48.1961598;16.3617969
X-APPLE-STRUCTURED-LOCATION;VALUE=URI;X-ADDRESS=Gugg Heumühlgasse 14 Wien 1040;X-APPLE-RADIUS=500;X-TITLE=Heumühlgasse 14:geo:16.3617969,48.1961598
END:VEVENT
END:VCALENDAR