BEGIN:VCALENDAR
VERSION:2.0
PRODID:-//Homosexuelle Initiative (HOSI) Wien - ECPv5.16.4//NONSGML v1.0//EN
CALSCALE:GREGORIAN
METHOD:PUBLISH
X-WR-CALNAME:Homosexuelle Initiative (HOSI) Wien
X-ORIGINAL-URL:https://archiv.hosiwien.at
X-WR-CALDESC:Events for Homosexuelle Initiative (HOSI) Wien
REFRESH-INTERVAL;VALUE=DURATION:PT1H
X-Robots-Tag:noindex
X-PUBLISHED-TTL:PT1H
BEGIN:VTIMEZONE
TZID:Europe/Vienna
BEGIN:DAYLIGHT
TZOFFSETFROM:+0100
TZOFFSETTO:+0200
TZNAME:CEST
DTSTART:20160327T010000
END:DAYLIGHT
BEGIN:STANDARD
TZOFFSETFROM:+0200
TZOFFSETTO:+0100
TZNAME:CET
DTSTART:20161030T010000
END:STANDARD
END:VTIMEZONE
BEGIN:VEVENT
DTSTART;TZID=Europe/Vienna:20160415T100000
DTEND;TZID=Europe/Vienna:20160415T160000
DTSTAMP:20260420T050629
CREATED:20150330T141340Z
LAST-MODIFIED:20160216T120617Z
UID:34544-1460714400-1460736000@archiv.hosiwien.at
SUMMARY:Bürozeiten der HOSI Wien
DESCRIPTION:Während der Bürozeiten kannst du in unserem Vereinszentrum und -lokal\, dem Gugg\, vorbeikommen und dich über die HOSI Wien informieren\, generell Infomaterial über die LSBT-Szene in Wien erhalten\, Dringendes besprechen oder Mitglied werden und sofort deine Mitgliedskarte erhalten. \nDie Bürozeiten sind: \nMontag 12 – 16 Uhr \nDienstag 10 – 16 Uhr \nFreitag 10 – 16 Uhr \nUnsere Mitarbeiterin Anna Szutt ist während der Bürozeiten unter 0660/216 66 05 telefonisch erreichbar.
URL:https://archiv.hosiwien.at/event/buerozeiten-der-hosi-wien-20/2016-04-15/
LOCATION:Gugg\, Heumühlgasse 14\, Wien\, 1040
CATEGORIES:Bürozeiten
GEO:48.1961598;16.3617969
X-APPLE-STRUCTURED-LOCATION;VALUE=URI;X-ADDRESS=Gugg Heumühlgasse 14 Wien 1040;X-APPLE-RADIUS=500;X-TITLE=Heumühlgasse 14:geo:16.3617969,48.1961598
END:VEVENT
BEGIN:VEVENT
DTSTART;TZID=Europe/Vienna:20160415T180000
DTEND;TZID=Europe/Vienna:20160416T010000
DTSTAMP:20260420T050629
CREATED:20150417T115438Z
LAST-MODIFIED:20160329T103615Z
UID:35247-1460743200-1460768400@archiv.hosiwien.at
SUMMARY:Café-Betrieb
DESCRIPTION:Das Gugg bietet nicht nur Veranstaltungen und Gruppentreffen den passenden Raum\, sondern ist natürlich auch ein gemütlicher Ort zum Verweilen und Plaudern. Wir freuen uns auf deinen Besuch während der Öffnungszeiten!
URL:https://archiv.hosiwien.at/event/cafe-betrieb-13/2016-04-15/
LOCATION:Gugg\, Heumühlgasse 14\, Wien\, 1040
CATEGORIES:Café-Betrieb
ATTACH;FMTTYPE=image/jpeg:https://archiv.hosiwien.at/img/image/2010/gugg_logo.jpg
GEO:48.1961598;16.3617969
X-APPLE-STRUCTURED-LOCATION;VALUE=URI;X-ADDRESS=Gugg Heumühlgasse 14 Wien 1040;X-APPLE-RADIUS=500;X-TITLE=Heumühlgasse 14:geo:16.3617969,48.1961598
END:VEVENT
BEGIN:VEVENT
DTSTART;TZID=Europe/Vienna:20160415T190000
DTEND;TZID=Europe/Vienna:20160415T210000
DTSTAMP:20260420T050629
CREATED:20160105T134304Z
LAST-MODIFIED:20160105T134304Z
UID:63233-1460746800-1460754000@archiv.hosiwien.at
SUMMARY:Resis.danse-Tanzworkshop Aufbau I
DESCRIPTION:Ab Anfängerinnen\n \nAlle Termine: 6x freitags\, jeweils 19 – 21 Uhr\, danach Tanzabend! \n25. März 2016\n01.\, 08.\, 15.\, 22.\, 29. April 2016 \nUKB/Person: € 78\,00 \nHOSI-Wien-Mitglieder erhalten Ermäßigungen auf alle Tanzkurse! \n\n\nVorbereitung 18 Uhr! Tanzworkshopbeginn 19 Uhr!
URL:https://archiv.hosiwien.at/event/resis-danse-tanzworkshop-aufbau-i-8/2016-04-15/
LOCATION:Gugg\, Heumühlgasse 14\, Wien\, 1040
CATEGORIES:Gruppen
ATTACH;FMTTYPE=image/jpeg:https://archiv.hosiwien.at/img/resisdanse.jpg
GEO:48.1961598;16.3617969
X-APPLE-STRUCTURED-LOCATION;VALUE=URI;X-ADDRESS=Gugg Heumühlgasse 14 Wien 1040;X-APPLE-RADIUS=500;X-TITLE=Heumühlgasse 14:geo:16.3617969,48.1961598
END:VEVENT
BEGIN:VEVENT
DTSTART;TZID=Europe/Vienna:20160415T210000
DTEND;TZID=Europe/Vienna:20160416T010000
DTSTAMP:20260420T050629
CREATED:20150713T105915Z
LAST-MODIFIED:20150713T105915Z
UID:62788-1460754000-1460768400@archiv.hosiwien.at
SUMMARY:Tanzabend Resis.danse
DESCRIPTION:Eine Übungsmöglichkeit für alle tanzbegeisterten Frauen! Einfach vorbeikommen und mittanzen. \nFreitags ab 21 Uhr immer nach den Tanzworkshops in der gemütlichen Atmosphäre des Gugg. \nDer Barbereich ist für Männer zugänglich! \nGenauere Informationen auf der eigenen Website: www.resisdanse.at.
URL:https://archiv.hosiwien.at/event/tanzabend-resis-danse-14/2016-04-15/
LOCATION:Gugg\, Heumühlgasse 14\, Wien\, 1040
CATEGORIES:Tanzabende
ATTACH;FMTTYPE=image/jpeg:https://archiv.hosiwien.at/img/resisdanse.jpg
GEO:48.1961598;16.3617969
X-APPLE-STRUCTURED-LOCATION;VALUE=URI;X-ADDRESS=Gugg Heumühlgasse 14 Wien 1040;X-APPLE-RADIUS=500;X-TITLE=Heumühlgasse 14:geo:16.3617969,48.1961598
END:VEVENT
END:VCALENDAR