BEGIN:VCALENDAR
VERSION:2.0
PRODID:-//Homosexuelle Initiative (HOSI) Wien - ECPv5.16.4//NONSGML v1.0//EN
CALSCALE:GREGORIAN
METHOD:PUBLISH
X-ORIGINAL-URL:https://archiv.hosiwien.at
X-WR-CALDESC:Events for Homosexuelle Initiative (HOSI) Wien
REFRESH-INTERVAL;VALUE=DURATION:PT1H
X-Robots-Tag:noindex
X-PUBLISHED-TTL:PT1H
BEGIN:VTIMEZONE
TZID:Europe/Vienna
BEGIN:DAYLIGHT
TZOFFSETFROM:+0100
TZOFFSETTO:+0200
TZNAME:CEST
DTSTART:20160327T010000
END:DAYLIGHT
BEGIN:STANDARD
TZOFFSETFROM:+0200
TZOFFSETTO:+0100
TZNAME:CET
DTSTART:20161030T010000
END:STANDARD
END:VTIMEZONE
BEGIN:VEVENT
DTSTART;TZID=Europe/Vienna:20160416T150000
DTEND;TZID=Europe/Vienna:20160416T180000
DTSTAMP:20260420T085130
CREATED:20160105T141533Z
LAST-MODIFIED:20160105T141533Z
UID:63261-1460818800-1460829600@archiv.hosiwien.at
SUMMARY:Resis.danse – Rock I
DESCRIPTION:Boogie & Jive für Anfängerinnen und leicht Fortgeschrittene! \nTermine: Sa\, 16. & So\, 17. April 2016\, 15-18 Uhr \nUKB: € 50\,00
URL:https://archiv.hosiwien.at/event/resis-danse-rock-i-4/2016-04-16/
LOCATION:Gugg\, Heumühlgasse 14\, Wien\, 1040
CATEGORIES:Gruppen
ATTACH;FMTTYPE=image/jpeg:https://archiv.hosiwien.at/img/resisdanse.jpg
GEO:48.1961598;16.3617969
X-APPLE-STRUCTURED-LOCATION;VALUE=URI;X-ADDRESS=Gugg Heumühlgasse 14 Wien 1040;X-APPLE-RADIUS=500;X-TITLE=Heumühlgasse 14:geo:16.3617969,48.1961598
END:VEVENT
BEGIN:VEVENT
DTSTART;TZID=Europe/Vienna:20160416T180000
DTEND;TZID=Europe/Vienna:20160417T010000
DTSTAMP:20260420T085130
CREATED:20140703T145855Z
LAST-MODIFIED:20170428T164156Z
UID:35302-1460829600-1460854800@archiv.hosiwien.at
SUMMARY:Café-Betrieb
DESCRIPTION:Das Gugg bietet nicht nur Veranstaltungen und Gruppentreffen den passenden Raum\, sondern ist natürlich auch ein gemütlicher Ort zum Verweilen und Plaudern. Wir freuen uns auf deinen Besuch während der Öffnungszeiten!
URL:https://archiv.hosiwien.at/event/cafe-betrieb-13-2015-05-30-2015-01-17/2016-04-16/
LOCATION:Gugg\, Heumühlgasse 14\, Wien\, 1040
CATEGORIES:Café-Betrieb
ATTACH;FMTTYPE=image/jpeg:https://archiv.hosiwien.at/img/image/2011/gugg_logo2011.jpg
GEO:48.1961598;16.3617969
X-APPLE-STRUCTURED-LOCATION;VALUE=URI;X-ADDRESS=Gugg Heumühlgasse 14 Wien 1040;X-APPLE-RADIUS=500;X-TITLE=Heumühlgasse 14:geo:16.3617969,48.1961598
END:VEVENT
BEGIN:VEVENT
DTSTART;TZID=Europe/Vienna:20160416T200000
DTEND;TZID=Europe/Vienna:20160417T000000
DTSTAMP:20260420T085130
CREATED:20160126T171227Z
LAST-MODIFIED:20160412T075254Z
UID:63586-1460836800-1460851200@archiv.hosiwien.at
SUMMARY:100 % strictly tanzbar – Eurovision Song Contest
DESCRIPTION:Offen für alle (!)\,  die gern tanzen – ein Resis.danse-Spezial-Tanzabend! Genieße bekannte und weniger bekannte Grand-Prix-Lieder von 1956 bis heute als Standard- oder Lateintänze\, Discofox\, Tango\, ChaCha\, Samba\, Walzer und vieles mehr!
URL:https://archiv.hosiwien.at/event/100-strictly-tanzbar-eurovision-song-contest/
LOCATION:Gugg\, Heumühlgasse 14\, Wien\, 1040
CATEGORIES:kulturelle Veranstaltung
ATTACH;FMTTYPE=image/jpeg:https://archiv.hosiwien.at/img/image/2016/Wiki-background.jpg
GEO:48.1961598;16.3617969
X-APPLE-STRUCTURED-LOCATION;VALUE=URI;X-ADDRESS=Gugg Heumühlgasse 14 Wien 1040;X-APPLE-RADIUS=500;X-TITLE=Heumühlgasse 14:geo:16.3617969,48.1961598
END:VEVENT
END:VCALENDAR