BEGIN:VCALENDAR
VERSION:2.0
PRODID:-//Homosexuelle Initiative (HOSI) Wien - ECPv5.16.4//NONSGML v1.0//EN
CALSCALE:GREGORIAN
METHOD:PUBLISH
X-ORIGINAL-URL:https://archiv.hosiwien.at
X-WR-CALDESC:Events for Homosexuelle Initiative (HOSI) Wien
REFRESH-INTERVAL;VALUE=DURATION:PT1H
X-Robots-Tag:noindex
X-PUBLISHED-TTL:PT1H
BEGIN:VTIMEZONE
TZID:Europe/Vienna
BEGIN:DAYLIGHT
TZOFFSETFROM:+0100
TZOFFSETTO:+0200
TZNAME:CEST
DTSTART:20160327T010000
END:DAYLIGHT
BEGIN:STANDARD
TZOFFSETFROM:+0200
TZOFFSETTO:+0100
TZNAME:CET
DTSTART:20161030T010000
END:STANDARD
END:VTIMEZONE
BEGIN:VEVENT
DTSTART;TZID=Europe/Vienna:20160503T100000
DTEND;TZID=Europe/Vienna:20160503T160000
DTSTAMP:20260420T005542
CREATED:20150330T141003Z
LAST-MODIFIED:20160216T120620Z
UID:34493-1462269600-1462291200@archiv.hosiwien.at
SUMMARY:Bürozeiten der HOSI Wien
DESCRIPTION:Während der Bürozeiten kannst du in unserem Vereinszentrum und -lokal\, dem Gugg\, vorbeikommen und dich über die HOSI Wien informieren\, generell Infomaterial über die LSBT-Szene in Wien erhalten\, Dringendes besprechen oder Mitglied werden und sofort deine Mitgliedskarte erhalten. \nDie Bürozeiten sind: \nMontag 12 – 16 Uhr \nDienstag 10 – 16 Uhr \nFreitag 10 – 16 Uhr \nUnsere Mitarbeiterin Anna Szutt ist während der Bürozeiten unter 0660/216 66 05 telefonisch erreichbar.
URL:https://archiv.hosiwien.at/event/buerozeiten-der-hosi-wien-19/2016-05-03/
LOCATION:Gugg\, Heumühlgasse 14\, Wien\, 1040
CATEGORIES:Bürozeiten
GEO:48.1961598;16.3617969
X-APPLE-STRUCTURED-LOCATION;VALUE=URI;X-ADDRESS=Gugg Heumühlgasse 14 Wien 1040;X-APPLE-RADIUS=500;X-TITLE=Heumühlgasse 14:geo:16.3617969,48.1961598
END:VEVENT
BEGIN:VEVENT
DTSTART;TZID=Europe/Vienna:20160503T180000
DTEND;TZID=Europe/Vienna:20160503T220000
DTSTAMP:20260420T005542
CREATED:20150417T114211Z
LAST-MODIFIED:20160329T103619Z
UID:35146-1462298400-1462312800@archiv.hosiwien.at
SUMMARY:Café-Betrieb
DESCRIPTION:Das Gugg bietet nicht nur Veranstaltungen und Gruppentreffen den passenden Raum\, sondern ist natürlich auch ein gemütlicher Ort zum Verweilen und Plaudern. Wir freuen uns auf deinen Besuch während der Öffnungszeiten!
URL:https://archiv.hosiwien.at/event/cafe-betrieb-6-2016-01-12/2016-05-03/
LOCATION:Gugg\, Heumühlgasse 14\, Wien\, 1040
CATEGORIES:Café-Betrieb
ATTACH;FMTTYPE=image/jpeg:https://archiv.hosiwien.at/img/image/2010/gugg_logo.jpg
GEO:48.1961598;16.3617969
X-APPLE-STRUCTURED-LOCATION;VALUE=URI;X-ADDRESS=Gugg Heumühlgasse 14 Wien 1040;X-APPLE-RADIUS=500;X-TITLE=Heumühlgasse 14:geo:16.3617969,48.1961598
END:VEVENT
BEGIN:VEVENT
DTSTART;TZID=Europe/Vienna:20160503T190000
DTEND;TZID=Europe/Vienna:20160503T190000
DTSTAMP:20260420T005542
CREATED:20160408T133412Z
LAST-MODIFIED:20160408T133412Z
UID:64607-1462302000-1462302000@archiv.hosiwien.at
SUMMARY:visiBIlity Austria
DESCRIPTION:ab jetzt jeden 1. Dienstag im Monat!
URL:https://archiv.hosiwien.at/event/visibility-austria-8/
LOCATION:Gugg\, Heumühlgasse 14\, Wien\, 1040
CATEGORIES:Gruppen
ATTACH;FMTTYPE=image/png:https://archiv.hosiwien.at/img/image/2015/visiBIlity1.png
GEO:48.1961598;16.3617969
X-APPLE-STRUCTURED-LOCATION;VALUE=URI;X-ADDRESS=Gugg Heumühlgasse 14 Wien 1040;X-APPLE-RADIUS=500;X-TITLE=Heumühlgasse 14:geo:16.3617969,48.1961598
END:VEVENT
BEGIN:VEVENT
DTSTART;TZID=Europe/Vienna:20160503T190000
DTEND;TZID=Europe/Vienna:20160503T210000
DTSTAMP:20260420T005542
CREATED:20160216T113338Z
LAST-MODIFIED:20160411T152524Z
UID:63863-1462302000-1462309200@archiv.hosiwien.at
SUMMARY:Infoabend: STDs - ein Überblick
DESCRIPTION:Was sind die häufigsten sexuell übertragbaren Krankheiten (STDs)? Wie werden sie übertragen und wie schützt man sich am besten? Woran kann man sie erkennen und welche Therapien stehen zur Verfügung? Gibt es Aspekte\, die in Zusammenhang mit einer HIV-Infektion bedacht werden sollten? \nDiese und weitere Fragen werden in unkomplizierter Atmosphäre besprochen. \nModeration: Mag.a Birgit Leichsenring (Med. Info/Doku der AIDS-Hilfen Österreichs) \nExperte: Dr. Horst Schalk \nDatum/Uhrzeit: Dienstag\, 3. Mai 2016\, 19 Uhr\nOrt: Gugg\, Heumühlgasse 14\, 1040 Wien\nEintritt frei – Keine Anmeldung erforderlich. \nSnacks und Getränke werden zur Verfügung gestellt.
URL:https://archiv.hosiwien.at/event/aids-abend/
LOCATION:Gugg\, Heumühlgasse 14\, Wien\, 1040
CATEGORIES:kulturelle Veranstaltung
ATTACH;FMTTYPE=image/jpeg:https://archiv.hosiwien.at/img/image/2016/STDs_Überblick_vorne.jpg
GEO:48.1961598;16.3617969
X-APPLE-STRUCTURED-LOCATION;VALUE=URI;X-ADDRESS=Gugg Heumühlgasse 14 Wien 1040;X-APPLE-RADIUS=500;X-TITLE=Heumühlgasse 14:geo:16.3617969,48.1961598
END:VEVENT
END:VCALENDAR