BEGIN:VCALENDAR
VERSION:2.0
PRODID:-//Homosexuelle Initiative (HOSI) Wien - ECPv5.16.4//NONSGML v1.0//EN
CALSCALE:GREGORIAN
METHOD:PUBLISH
X-ORIGINAL-URL:https://archiv.hosiwien.at
X-WR-CALDESC:Events for Homosexuelle Initiative (HOSI) Wien
REFRESH-INTERVAL;VALUE=DURATION:PT1H
X-Robots-Tag:noindex
X-PUBLISHED-TTL:PT1H
BEGIN:VTIMEZONE
TZID:Europe/Vienna
BEGIN:DAYLIGHT
TZOFFSETFROM:+0100
TZOFFSETTO:+0200
TZNAME:CEST
DTSTART:20160327T010000
END:DAYLIGHT
BEGIN:STANDARD
TZOFFSETFROM:+0200
TZOFFSETTO:+0100
TZNAME:CET
DTSTART:20161030T010000
END:STANDARD
END:VTIMEZONE
BEGIN:VEVENT
DTSTART;TZID=Europe/Vienna:20160504T140000
DTEND;TZID=Europe/Vienna:20160504T200000
DTSTAMP:20260420T051319
CREATED:20160415T100522Z
LAST-MODIFIED:20160415T103933Z
UID:64724-1462370400-1462392000@archiv.hosiwien.at
SUMMARY:queerconnexion
DESCRIPTION:Raum: Helgas Salon
URL:https://archiv.hosiwien.at/event/queerconnexion-6/
LOCATION:Gugg\, Heumühlgasse 14\, Wien\, 1040
CATEGORIES:Intern
GEO:48.1961598;16.3617969
X-APPLE-STRUCTURED-LOCATION;VALUE=URI;X-ADDRESS=Gugg Heumühlgasse 14 Wien 1040;X-APPLE-RADIUS=500;X-TITLE=Heumühlgasse 14:geo:16.3617969,48.1961598
END:VEVENT
BEGIN:VEVENT
DTSTART;TZID=Europe/Vienna:20160504T190000
DTEND;TZID=Europe/Vienna:20160504T210000
DTSTAMP:20260420T051319
CREATED:20160105T143256Z
LAST-MODIFIED:20160105T143449Z
UID:63267-1462388400-1462395600@archiv.hosiwien.at
SUMMARY:Resis.danse-Tanzworkshop Aufbau VI
DESCRIPTION:Ab Aufbau IV. \nAlle Termine: 7x mittwochs\, jeweils 19 – 21 Uhr\, danach Tanzabend! (Achtung: im Barbereich ist das Rauchen an dem Abend ausnahmsweise gestattet) \n20.\, 27. April 2016\n04.\, 11.\, 18.\, 25. Mai 2016\n01. Juni 2016 \nUKB/Person: € 100\,00 \nHOSI-Wien-Mitglieder erhalten Ermäßigungen auf alle Tanzkurse! \n\n\nVorbereitung 18 Uhr! Tanzworkshopbeginn 19 Uhr!
URL:https://archiv.hosiwien.at/event/resis-danse-tanzworkshop-aufbau-vi/2016-05-04/
LOCATION:Gugg\, Heumühlgasse 14\, Wien\, 1040
CATEGORIES:Gruppen
ATTACH;FMTTYPE=image/jpeg:https://archiv.hosiwien.at/img/resisdanse.jpg
GEO:48.1961598;16.3617969
X-APPLE-STRUCTURED-LOCATION;VALUE=URI;X-ADDRESS=Gugg Heumühlgasse 14 Wien 1040;X-APPLE-RADIUS=500;X-TITLE=Heumühlgasse 14:geo:16.3617969,48.1961598
END:VEVENT
BEGIN:VEVENT
DTSTART;TZID=Europe/Vienna:20160504T190000
DTEND;TZID=Europe/Vienna:20160504T230000
DTSTAMP:20260420T051319
CREATED:20150417T113144Z
LAST-MODIFIED:20161217T101134Z
UID:62270-1462388400-1462402800@archiv.hosiwien.at
SUMMARY:Lesbenabend
DESCRIPTION:Seit über 20 Jahren bietet die HOSI Wien jeden Mittwoch einen Raum für Frauen. Wir sind eine Gruppe aus den verschiedensten Berufen und mit den unterschiedlichsten Interessen\, doch eines ist uns allen gemeinsam: Wir sind lesbisch. \nDie Lesbengruppe wurde 1981 innerhalb der HOSI Wien von einigen Frauen gegründet\, und seither treffen wir uns jeden Mittwoch ab 19 Uhr im HOSI-Zentrum. Austausch\, Kennenlernen und Kontakt zu Gleichgesinnten sind uns besonders wichtig. \nHINWEIS: Das umfangreiche Serviceangebot der HOSI Wien wird durch ehrenamtliches Engagement erbracht. Wie du die wichtige Arbeit des Vereins durch Spende oder Mitgliedschaft unterstützen kannst\, erfährst du unter archiv.hosiwien.at/mitgliedschaft.
URL:https://archiv.hosiwien.at/event/lesbenabend-7-2015-12-30/2016-05-04/
LOCATION:Gugg\, Heumühlgasse 14\, Wien\, 1040
CATEGORIES:Gruppen
ATTACH;FMTTYPE=image/png:https://archiv.hosiwien.at/img/lesben-frauen.png
GEO:48.1961598;16.3617969
X-APPLE-STRUCTURED-LOCATION;VALUE=URI;X-ADDRESS=Gugg Heumühlgasse 14 Wien 1040;X-APPLE-RADIUS=500;X-TITLE=Heumühlgasse 14:geo:16.3617969,48.1961598
END:VEVENT
END:VCALENDAR