BEGIN:VCALENDAR
VERSION:2.0
PRODID:-//Homosexuelle Initiative (HOSI) Wien - ECPv5.16.4//NONSGML v1.0//EN
CALSCALE:GREGORIAN
METHOD:PUBLISH
X-WR-CALNAME:Homosexuelle Initiative (HOSI) Wien
X-ORIGINAL-URL:https://archiv.hosiwien.at
X-WR-CALDESC:Events for Homosexuelle Initiative (HOSI) Wien
REFRESH-INTERVAL;VALUE=DURATION:PT1H
X-Robots-Tag:noindex
X-PUBLISHED-TTL:PT1H
BEGIN:VTIMEZONE
TZID:Europe/Vienna
BEGIN:DAYLIGHT
TZOFFSETFROM:+0100
TZOFFSETTO:+0200
TZNAME:CEST
DTSTART:20210328T010000
END:DAYLIGHT
BEGIN:STANDARD
TZOFFSETFROM:+0200
TZOFFSETTO:+0100
TZNAME:CET
DTSTART:20211031T010000
END:STANDARD
END:VTIMEZONE
BEGIN:VEVENT
DTSTART;TZID=Europe/Vienna:20210907T090000
DTEND;TZID=Europe/Vienna:20210907T170000
DTSTAMP:20260419T233418
CREATED:20210115T104346Z
LAST-MODIFIED:20210921T112259Z
UID:87980-1631005200-1631034000@archiv.hosiwien.at
SUMMARY:Bürozeiten der HOSI Wien
DESCRIPTION:Unsere Bürozeiten sind: \n\nMontag 9 – 17 Uhr \nDienstag 9 – 17 Uhr \nMittwoch 9 – 12 Uhr \nFreitag 9 – 17 Uhr \n 
URL:https://archiv.hosiwien.at/event/buerozeiten-der-hosi-wien-achtung-kontakt-nur-per-mail-tel-moeglich-2021-07-26/2021-09-07/
LOCATION:Gugg\, Heumühlgasse 14\, Wien\, 1040
CATEGORIES:Bürozeiten
GEO:48.1961598;16.3617969
X-APPLE-STRUCTURED-LOCATION;VALUE=URI;X-ADDRESS=Gugg Heumühlgasse 14 Wien 1040;X-APPLE-RADIUS=500;X-TITLE=Heumühlgasse 14:geo:16.3617969,48.1961598
END:VEVENT
BEGIN:VEVENT
DTSTART;TZID=Europe/Vienna:20210907T183000
DTEND;TZID=Europe/Vienna:20210907T220000
DTSTAMP:20260419T233418
CREATED:20210728T082955Z
LAST-MODIFIED:20220926T132843Z
UID:88857-1631039400-1631052000@archiv.hosiwien.at
SUMMARY:Pubquiz
DESCRIPTION:Es wird wieder gerätselt im Gugg! \nBeim Pub-Quiz-Abend gilt es\, kniffelige Fragen und kuriose Aufgaben in Kleingruppen zu lösen. Die Teams formen wir am Abend spontan. Dem Sieger*innenteam winkt am Ende natürlich auch ein Preis! Komm allein oder mit Freund*innen und zeig uns\, was du kannst! Ellen und Berni werden schwungvoll durch den Abend moderieren und freuen sich schon sehr auf dein Kommen! \nEinlass: 18:30\nBeginn: 19:00 \nEintritt frei!
URL:https://archiv.hosiwien.at/event/pubquiz-3/2021-09-07/
LOCATION:Gugg\, Heumühlgasse 14\, Wien\, 1040
CATEGORIES:kulturelle Veranstaltung
ATTACH;FMTTYPE=image/jpeg:https://archiv.hosiwien.at/img/image/2021/pubquiz.jpg
ORGANIZER;CN="HOSI%20Wien":MAILTO:office@archiv.hosiwien.at
GEO:48.1961598;16.3617969
X-APPLE-STRUCTURED-LOCATION;VALUE=URI;X-ADDRESS=Gugg Heumühlgasse 14 Wien 1040;X-APPLE-RADIUS=500;X-TITLE=Heumühlgasse 14:geo:16.3617969,48.1961598
END:VEVENT
END:VCALENDAR