BEGIN:VCALENDAR
VERSION:2.0
PRODID:-//Homosexuelle Initiative (HOSI) Wien - ECPv5.16.4//NONSGML v1.0//EN
CALSCALE:GREGORIAN
METHOD:PUBLISH
X-ORIGINAL-URL:https://archiv.hosiwien.at
X-WR-CALDESC:Events for Homosexuelle Initiative (HOSI) Wien
REFRESH-INTERVAL;VALUE=DURATION:PT1H
X-Robots-Tag:noindex
X-PUBLISHED-TTL:PT1H
BEGIN:VTIMEZONE
TZID:Europe/Vienna
BEGIN:DAYLIGHT
TZOFFSETFROM:+0100
TZOFFSETTO:+0200
TZNAME:CEST
DTSTART:20210328T010000
END:DAYLIGHT
BEGIN:STANDARD
TZOFFSETFROM:+0200
TZOFFSETTO:+0100
TZNAME:CET
DTSTART:20211031T010000
END:STANDARD
END:VTIMEZONE
BEGIN:VEVENT
DTSTART;TZID=Europe/Vienna:20210914T090000
DTEND;TZID=Europe/Vienna:20210914T170000
DTSTAMP:20260419T215849
CREATED:20210115T104346Z
LAST-MODIFIED:20210921T112259Z
UID:87983-1631610000-1631638800@archiv.hosiwien.at
SUMMARY:Bürozeiten der HOSI Wien
DESCRIPTION:Unsere Bürozeiten sind: \n\nMontag 9 – 17 Uhr \nDienstag 9 – 17 Uhr \nMittwoch 9 – 12 Uhr \nFreitag 9 – 17 Uhr \n 
URL:https://archiv.hosiwien.at/event/buerozeiten-der-hosi-wien-achtung-kontakt-nur-per-mail-tel-moeglich-2021-07-26/2021-09-14/
LOCATION:Gugg\, Heumühlgasse 14\, Wien\, 1040
CATEGORIES:Bürozeiten
GEO:48.1961598;16.3617969
X-APPLE-STRUCTURED-LOCATION;VALUE=URI;X-ADDRESS=Gugg Heumühlgasse 14 Wien 1040;X-APPLE-RADIUS=500;X-TITLE=Heumühlgasse 14:geo:16.3617969,48.1961598
END:VEVENT
BEGIN:VEVENT
DTSTART;TZID=Europe/Vienna:20210914T183000
DTEND;TZID=Europe/Vienna:20210914T203000
DTSTAMP:20260419T215849
CREATED:20210903T090837Z
LAST-MODIFIED:20210903T090837Z
UID:89189-1631644200-1631651400@archiv.hosiwien.at
SUMMARY:Orga-Teamsitzung
DESCRIPTION:
URL:https://archiv.hosiwien.at/event/orga-teamsitzung-6/
LOCATION:Gugg\, Heumühlgasse 14\, Wien\, 1040
CATEGORIES:Intern
GEO:48.1961598;16.3617969
X-APPLE-STRUCTURED-LOCATION;VALUE=URI;X-ADDRESS=Gugg Heumühlgasse 14 Wien 1040;X-APPLE-RADIUS=500;X-TITLE=Heumühlgasse 14:geo:16.3617969,48.1961598
END:VEVENT
END:VCALENDAR