BEGIN:VCALENDAR
VERSION:2.0
PRODID:-//Homosexuelle Initiative (HOSI) Wien - ECPv5.16.4//NONSGML v1.0//EN
CALSCALE:GREGORIAN
METHOD:PUBLISH
X-ORIGINAL-URL:https://archiv.hosiwien.at
X-WR-CALDESC:Events for Homosexuelle Initiative (HOSI) Wien
REFRESH-INTERVAL;VALUE=DURATION:PT1H
X-Robots-Tag:noindex
X-PUBLISHED-TTL:PT1H
BEGIN:VTIMEZONE
TZID:Europe/Vienna
BEGIN:DAYLIGHT
TZOFFSETFROM:+0100
TZOFFSETTO:+0200
TZNAME:CEST
DTSTART:20210328T010000
END:DAYLIGHT
BEGIN:STANDARD
TZOFFSETFROM:+0200
TZOFFSETTO:+0100
TZNAME:CET
DTSTART:20211031T010000
END:STANDARD
END:VTIMEZONE
BEGIN:VEVENT
DTSTART;TZID=Europe/Vienna:20211008T130000
DTEND;TZID=Europe/Vienna:20211008T190000
DTSTAMP:20260420T010743
CREATED:20210903T083212Z
LAST-MODIFIED:20210928T110728Z
UID:89185-1633698000-1633719600@archiv.hosiwien.at
SUMMARY:Pornfilmfestival 2021
DESCRIPTION:„The Porn Film Festival Vienna wants to create an open and welcoming space for reception\, discussion\, and reflection. It aims to challenge and broaden horizons. Our vision is to create a safe space to collectively discuss and reflect on pornography\, sexuality and sexual identity. Because porn can be: sensual\, honest\, friendly and self-determined!“ \nHOSI Wien ist offizielle Partnerin des Pornfilmfestivals. Wir freuen uns euch in Kooperation mit den Veranstalter*innen folgende Workshops im Gugg präsentieren zu dürfen: \n\nFreitag\, 8.10.2021\, 14-16 Uhr\, „Sexual Observation – With 4 elements to enjoy and develop your personal sexuality“\nFreitag\, 8.10.2021\, 16-18 Uhr\, „Solosex and Porn“\nSamstag\, 9.10.2021\, 14-16 Uhr\,“Let’s be Sex-positive!“\nSamstag\, 9.10.2021\, 16-18 Uhr\, „Power\, Sex & Consent“\n\nProgramm\, Tickets und Anmeldung: https://www.pornfilmfestivalvienna.at/ \n 
URL:https://archiv.hosiwien.at/event/pornfilmfestival-2021/2021-10-08/
LOCATION:Gugg\, Heumühlgasse 14\, Wien\, 1040
CATEGORIES:Intern
ATTACH;FMTTYPE=image/jpeg:https://archiv.hosiwien.at/img/image/2021/pornfilfestival-2021.jpg
GEO:48.1961598;16.3617969
X-APPLE-STRUCTURED-LOCATION;VALUE=URI;X-ADDRESS=Gugg Heumühlgasse 14 Wien 1040;X-APPLE-RADIUS=500;X-TITLE=Heumühlgasse 14:geo:16.3617969,48.1961598
END:VEVENT
BEGIN:VEVENT
DTSTART;TZID=Europe/Vienna:20211008T163000
DTEND;TZID=Europe/Vienna:20211008T210000
DTSTAMP:20260420T010743
CREATED:20210728T081022Z
LAST-MODIFIED:20211122T124510Z
UID:89095-1633710600-1633726800@archiv.hosiwien.at
SUMMARY:Resis.danse-Tanzworkshop
DESCRIPTION:Tanzworkshop-Beginn ist jeweils ab 17 und 19 Uhr. Alle Informationen zu den Workshops auf: www.resisdanse.at  \nAb 21 Uhr findet im Anschluss der Tanzabend statt zu dem alle tanzbegeisterten Frauen herzlich eingeladen sind. \n 
URL:https://archiv.hosiwien.at/event/resis-danse-tanzworkshop-10/2021-10-08/
LOCATION:Gugg\, Heumühlgasse 14\, Wien\, 1040
CATEGORIES:Gruppen
ATTACH;FMTTYPE=image/png:https://archiv.hosiwien.at/img/image/2016/resisdanse-logo-trans.png
GEO:48.1961598;16.3617969
X-APPLE-STRUCTURED-LOCATION;VALUE=URI;X-ADDRESS=Gugg Heumühlgasse 14 Wien 1040;X-APPLE-RADIUS=500;X-TITLE=Heumühlgasse 14:geo:16.3617969,48.1961598
END:VEVENT
BEGIN:VEVENT
DTSTART;TZID=Europe/Vienna:20211008T210000
DTEND;TZID=Europe/Vienna:20211009T000000
DTSTAMP:20260420T010743
CREATED:20210728T080045Z
LAST-MODIFIED:20220110T135443Z
UID:89108-1633726800-1633737600@archiv.hosiwien.at
SUMMARY:Resis.danse-Tanzabend
DESCRIPTION:Eine Übungsmöglichkeit für alle tanzbegeisterten Frauen! Einfach vorbeikommen und mittanzen. Immer nach den Resis.danse-Tanzworkshops in der gemütlichen Atmosphäre des Gugg ab 21 Uhr. \nGenauere Informationen auf der eigenen Website: www.resisdanse.at. \nAlle Tanzabende sind bei freiem Eintritt!
URL:https://archiv.hosiwien.at/event/resis-danse-tanzabend-2/2021-10-08/
LOCATION:Gugg\, Heumühlgasse 14\, Wien\, 1040
CATEGORIES:Gruppen
ATTACH;FMTTYPE=image/jpeg:https://archiv.hosiwien.at/img/image/2018/resisdance-5.jpg
GEO:48.1961598;16.3617969
X-APPLE-STRUCTURED-LOCATION;VALUE=URI;X-ADDRESS=Gugg Heumühlgasse 14 Wien 1040;X-APPLE-RADIUS=500;X-TITLE=Heumühlgasse 14:geo:16.3617969,48.1961598
END:VEVENT
END:VCALENDAR