BEGIN:VCALENDAR
VERSION:2.0
PRODID:-//Homosexuelle Initiative (HOSI) Wien - ECPv5.16.4//NONSGML v1.0//EN
CALSCALE:GREGORIAN
METHOD:PUBLISH
X-WR-CALNAME:Homosexuelle Initiative (HOSI) Wien
X-ORIGINAL-URL:https://archiv.hosiwien.at
X-WR-CALDESC:Events for Homosexuelle Initiative (HOSI) Wien
REFRESH-INTERVAL;VALUE=DURATION:PT1H
X-Robots-Tag:noindex
X-PUBLISHED-TTL:PT1H
BEGIN:VTIMEZONE
TZID:Europe/Vienna
BEGIN:DAYLIGHT
TZOFFSETFROM:+0100
TZOFFSETTO:+0200
TZNAME:CEST
DTSTART:20210328T010000
END:DAYLIGHT
BEGIN:STANDARD
TZOFFSETFROM:+0200
TZOFFSETTO:+0100
TZNAME:CET
DTSTART:20211031T010000
END:STANDARD
END:VTIMEZONE
BEGIN:VEVENT
DTSTART;TZID=Europe/Vienna:20211009T130000
DTEND;TZID=Europe/Vienna:20211009T190000
DTSTAMP:20260419T233539
CREATED:20210903T083212Z
LAST-MODIFIED:20210928T110728Z
UID:89187-1633784400-1633806000@archiv.hosiwien.at
SUMMARY:Pornfilmfestival 2021
DESCRIPTION:„The Porn Film Festival Vienna wants to create an open and welcoming space for reception\, discussion\, and reflection. It aims to challenge and broaden horizons. Our vision is to create a safe space to collectively discuss and reflect on pornography\, sexuality and sexual identity. Because porn can be: sensual\, honest\, friendly and self-determined!“ \nHOSI Wien ist offizielle Partnerin des Pornfilmfestivals. Wir freuen uns euch in Kooperation mit den Veranstalter*innen folgende Workshops im Gugg präsentieren zu dürfen: \n\nFreitag\, 8.10.2021\, 14-16 Uhr\, „Sexual Observation – With 4 elements to enjoy and develop your personal sexuality“\nFreitag\, 8.10.2021\, 16-18 Uhr\, „Solosex and Porn“\nSamstag\, 9.10.2021\, 14-16 Uhr\,“Let’s be Sex-positive!“\nSamstag\, 9.10.2021\, 16-18 Uhr\, „Power\, Sex & Consent“\n\nProgramm\, Tickets und Anmeldung: https://www.pornfilmfestivalvienna.at/ \n 
URL:https://archiv.hosiwien.at/event/pornfilmfestival-2021/2021-10-09/
LOCATION:Gugg\, Heumühlgasse 14\, Wien\, 1040
CATEGORIES:Intern
ATTACH;FMTTYPE=image/jpeg:https://archiv.hosiwien.at/img/image/2021/pornfilfestival-2021.jpg
GEO:48.1961598;16.3617969
X-APPLE-STRUCTURED-LOCATION;VALUE=URI;X-ADDRESS=Gugg Heumühlgasse 14 Wien 1040;X-APPLE-RADIUS=500;X-TITLE=Heumühlgasse 14:geo:16.3617969,48.1961598
END:VEVENT
END:VCALENDAR