BEGIN:VCALENDAR
VERSION:2.0
PRODID:-//Homosexuelle Initiative (HOSI) Wien - ECPv5.16.4//NONSGML v1.0//EN
CALSCALE:GREGORIAN
METHOD:PUBLISH
X-WR-CALNAME:Homosexuelle Initiative (HOSI) Wien
X-ORIGINAL-URL:https://archiv.hosiwien.at
X-WR-CALDESC:Events for Homosexuelle Initiative (HOSI) Wien
REFRESH-INTERVAL;VALUE=DURATION:PT1H
X-Robots-Tag:noindex
X-PUBLISHED-TTL:PT1H
BEGIN:VTIMEZONE
TZID:Europe/Vienna
BEGIN:DAYLIGHT
TZOFFSETFROM:+0100
TZOFFSETTO:+0200
TZNAME:CEST
DTSTART:20210328T010000
END:DAYLIGHT
BEGIN:STANDARD
TZOFFSETFROM:+0200
TZOFFSETTO:+0100
TZNAME:CET
DTSTART:20211031T010000
END:STANDARD
END:VTIMEZONE
BEGIN:VEVENT
DTSTART;TZID=Europe/Vienna:20211016T203000
DTEND;TZID=Europe/Vienna:20211016T203000
DTSTAMP:20260420T040048
CREATED:20210713T131138Z
LAST-MODIFIED:20210928T142355Z
UID:88741-1634416200-1634416200@archiv.hosiwien.at
SUMMARY:Lipstick Ball
DESCRIPTION:Did you really think Miss Rona knocked us out ?! 🧐\nWell… think again and train your lips 💋 because the ball is back !!! 🥳 And we are ready !!! Are you ?! 👏🏻💄\nThe countdown just started !!!⏳ But this time we’re doing things a little bit different.\nSo read carefully and you’ll know all the T 😜 \n▪️Hard facts:\n_When: 16.10.2021\n_Doors: 20h00\n_Start: 20h30\n_Where: Das Gugg | HOSI Wien – Heumühlgasse 14\, 1040 Wien \n▪️⚠️ Entry ONLY with VALID 2\,5-G rules !!! \n▪️But most important … the TICKETS 🎟\n_Tickets are limited !\n_FIRST come\, FIRST served !\n_Tickets are ONLY available through reservation and will be paid at the entrance !\n_Max 2 tickets per person !\n_Reservations will be taken ONLY on Instagram (DM) and Facebook (Messenger) !\n_Reservations will start on Sunday 26.09 at 14h00 ! \n🔔 But don’t worry\, we’ll remind you 😉😇 \nWe can’t wait to see you at the Ball 💃🏻👏🏻🥳 Until then\, stay safe and stay strong ❤️🏳️‍🌈😘 \nhttps://fb.watch/89GiMCRYS1/ \nhttps://www.instagram.com/p/CUAVDUCgVCR/?utm_source=ig_web_copy_link \n 
URL:https://archiv.hosiwien.at/event/lipstick-ball/
LOCATION:Gugg\, Heumühlgasse 14\, Wien\, 1040
CATEGORIES:kulturelle Veranstaltung
ATTACH;FMTTYPE=image/jpeg:https://archiv.hosiwien.at/img/image/2021/lipstick-scaled.jpg
GEO:48.1961598;16.3617969
X-APPLE-STRUCTURED-LOCATION;VALUE=URI;X-ADDRESS=Gugg Heumühlgasse 14 Wien 1040;X-APPLE-RADIUS=500;X-TITLE=Heumühlgasse 14:geo:16.3617969,48.1961598
END:VEVENT
END:VCALENDAR