BEGIN:VCALENDAR
VERSION:2.0
PRODID:-//Homosexuelle Initiative (HOSI) Wien - ECPv5.16.4//NONSGML v1.0//EN
CALSCALE:GREGORIAN
METHOD:PUBLISH
X-ORIGINAL-URL:https://archiv.hosiwien.at
X-WR-CALDESC:Events for Homosexuelle Initiative (HOSI) Wien
REFRESH-INTERVAL;VALUE=DURATION:PT1H
X-Robots-Tag:noindex
X-PUBLISHED-TTL:PT1H
BEGIN:VTIMEZONE
TZID:Europe/Vienna
BEGIN:DAYLIGHT
TZOFFSETFROM:+0100
TZOFFSETTO:+0200
TZNAME:CEST
DTSTART:20210328T010000
END:DAYLIGHT
BEGIN:STANDARD
TZOFFSETFROM:+0200
TZOFFSETTO:+0100
TZNAME:CET
DTSTART:20211031T010000
END:STANDARD
END:VTIMEZONE
BEGIN:VEVENT
DTSTART;TZID=Europe/Vienna:20211023T190000
DTEND;TZID=Europe/Vienna:20211023T190000
DTSTAMP:20260420T023215
CREATED:20210803T135417Z
LAST-MODIFIED:20211004T090734Z
UID:89074-1635015600-1635015600@archiv.hosiwien.at
SUMMARY:SICHTBAR – 40 Jahre HOSI-Wien-Lesben*gruppe
DESCRIPTION:Vernissage und Buchpräsentation \nWir freuen uns\, euch zu einem besonderen Abend einzuladen: Die HOSI-Wien-Lesben*gruppe feiert ihren „40er“. Am 4. November 1981 wurde in der 1979 gegründeten Homosexuellen Initiative Wien die Lesbengruppe von Doris Hauberger und Helga Pangratz ins Leben gerufen. \nDie Geburtstagsfeier findet am 23. Oktober 2021 ab 19:00 im Gugg statt. \nAus diesem Anlass wird die Ausstellung SICHTBAR mit zahlreichen historischen Fotografien\, die die Geschichte der HOSI-Lesben*gruppe von ihren Anfängen bis heute zeigen\, das Fotoprojekt SICHTBAR von Petra Paul und eine Schau zeitgenössischer Fotografinnen – mit Werken von Alice Moe Anouk Erik\, Krista Beinstein\, Christa Biedermann\, Magaly Cureau\, AnnaLisa Erdemgil-Brandstätter\, Sophie Krüger\, Leila Lohman\, Petra Röbl und Sabine Schwaighofer – gezeigt. \nDes Weiteren findet die Buchpräsentation SICHTBAR – 40 Jahre HOSI-Wien-Lesben*gruppe statt. Eine der Herausgeberinnen\, Petra M. Springer\, wird das Buch präsentieren. Zum Buch: Beiträge und Texte beschreiben die bewegte Geschichte und die Bedeutung der Lesben*gruppe. Mitstreiterinnen* und Weggefährtinnen* kommen dabei ausführlich zu Wort: Ann-Sophie Otte\, derzeit Obfrau der HOSI Wien\, Lisa Hermanns\, Lesben*referentin\, Ewa Ernst-Dziedzic\, Nationalratsabgeordnete und LGBTI-Sprecherin der Grünen\, Ulrike Lunacek\, Österreichs erste offen lesbische Politikerin und Tatjana Gabrielli von der SoHo. Auch Luan Pertl schickte im Namen des Vereins Intergeschlechtlicher Menschen Österreich Glückwünsche. Margit Hauser und Birge Krondorfer geben einen Überblick über die Geschichte der FrauenLesbenbewegung in Österreich. Das anlässlich des 5-jährigen Bestehens der Lesbengruppe von Waltraud Riegler geführte Interview mit den Gründerinnen der HOSI-Lesbengruppe – Helga Pankratz und Doris Hauberger – zeigt die Anfänge der Gruppe auf. In einem Text\, der anlässlich des 10-jährigen Bestehens der HOSI Wien im Buch Homosexualität in Österreich veröffentlicht wurde\, beschreibt Waltraud Riegler die Lesbengruppe und deren Aktivitäten. Texte\, die anlässlich des 20-jährigen Bestehens in den LAMBDA-Nachrichten erschienen sind\, geben weitere Einblicke. Aus diesem Anlass interviewte damals Helga Pankratz die langjährige Lesbenreferentin Waltraud Riegler. Barbara Fröhlich\, ebenfalls langjährige Lesbenreferentin\, gibt in zwei Texten Einblicke in die Gruppe. Auch Evien Tjabbes und Leila Lohman von der Eurocentralasian Lesbian* Community (EL*C) haben einen Text für diese Jubiläumspublikation verfasst. Petra M. Springer befasst sich in diesem Buch mit dem Foto-Projekt SICHTBAR von Petra Paul und der Geschichte der Ausstellungen im HOSI-Zentrum in der Novaragasse\, im Gugg bzw. die Ausstellungen außerhalb. \nAnschließend laden wir euch zu einem Umtrunk und Buffet ein. \nCOVID-Hinweis: Es gelten die aktuellen Gastro-Regeln\, also die 2\,5-G-Regel (geimpft\, genesen\, PCR-getestet) und Registrierungspflicht.
URL:https://archiv.hosiwien.at/event/vernissage-40-jahre-hosi-wien-lesbengruppe/
LOCATION:Gugg\, Heumühlgasse 14\, Wien\, 1040
CATEGORIES:kulturelle Veranstaltung
ATTACH;FMTTYPE=image/jpeg:https://archiv.hosiwien.at/img/image/2021/40-jahre-lesben.jpg
GEO:48.1961598;16.3617969
X-APPLE-STRUCTURED-LOCATION;VALUE=URI;X-ADDRESS=Gugg Heumühlgasse 14 Wien 1040;X-APPLE-RADIUS=500;X-TITLE=Heumühlgasse 14:geo:16.3617969,48.1961598
END:VEVENT
END:VCALENDAR