BEGIN:VCALENDAR
VERSION:2.0
PRODID:-//Homosexuelle Initiative (HOSI) Wien - ECPv5.16.4//NONSGML v1.0//EN
CALSCALE:GREGORIAN
METHOD:PUBLISH
X-WR-CALNAME:Homosexuelle Initiative (HOSI) Wien
X-ORIGINAL-URL:https://archiv.hosiwien.at
X-WR-CALDESC:Events for Homosexuelle Initiative (HOSI) Wien
REFRESH-INTERVAL;VALUE=DURATION:PT1H
X-Robots-Tag:noindex
X-PUBLISHED-TTL:PT1H
BEGIN:VTIMEZONE
TZID:Europe/Vienna
BEGIN:DAYLIGHT
TZOFFSETFROM:+0100
TZOFFSETTO:+0200
TZNAME:CEST
DTSTART:20210328T010000
END:DAYLIGHT
BEGIN:STANDARD
TZOFFSETFROM:+0200
TZOFFSETTO:+0100
TZNAME:CET
DTSTART:20211031T010000
END:STANDARD
END:VTIMEZONE
BEGIN:VEVENT
DTSTART;TZID=Europe/Vienna:20211102T110000
DTEND;TZID=Europe/Vienna:20211102T120000
DTSTAMP:20260420T010432
CREATED:20210928T131133Z
LAST-MODIFIED:20220405T090446Z
UID:89925-1635850800-1635854400@archiv.hosiwien.at
SUMMARY:Queer Base - Yoga for you!
DESCRIPTION:geschlossene Veranstaltung
URL:https://archiv.hosiwien.at/event/trauma-sensitives-yoga/2021-11-02/
LOCATION:Gugg – Giovannis Room\, Heumühlgasse 14\, Wien\, 1040\, Österreich
CATEGORIES:Intern
ATTACH;FMTTYPE=image/jpeg:https://archiv.hosiwien.at/img/image/2021/Yogaforyou-scaled.jpg
ORGANIZER;CN="Queer%20Base%20%E2%80%93%20Welcome%20and%20Support%20for%20LGBTIQ%20Refugees":MAILTO:office@queerbase.at
GEO:48.1961598;16.3617969
X-APPLE-STRUCTURED-LOCATION;VALUE=URI;X-ADDRESS=Gugg – Giovannis Room Heumühlgasse 14 Wien 1040 Österreich;X-APPLE-RADIUS=500;X-TITLE=Heumühlgasse 14:geo:16.3617969,48.1961598
END:VEVENT
BEGIN:VEVENT
DTSTART;TZID=Europe/Vienna:20211102T150000
DTEND;TZID=Europe/Vienna:20211102T163000
DTSTAMP:20260420T010432
CREATED:20210914T085237Z
LAST-MODIFIED:20221025T113653Z
UID:89352-1635865200-1635870600@archiv.hosiwien.at
SUMMARY:Männergruppe / Projekt P.I.L.O.T. / Integration Wien
DESCRIPTION:geschlossene Veranstaltung. \nLeitung: Armin Knöbl \nKontakt:\nMag.a Stefanie Hiller\nTannhäuserplatz 2/1\n1150 Wien\n01 7892642-29\nstefanie.hiller@integrationwien.at\nwww.integrationwien.at
URL:https://archiv.hosiwien.at/event/maennergruppe-projekt-p-i-l-o-t-integration-wien-2021-10-26/2021-11-02/
LOCATION:Gugg – Giovannis Room\, Heumühlgasse 14\, Wien\, 1040\, Österreich
CATEGORIES:Intern
ATTACH;FMTTYPE=image/png:https://archiv.hosiwien.at/img/image/2022/download___iwi_logo.png
GEO:48.1961598;16.3617969
X-APPLE-STRUCTURED-LOCATION;VALUE=URI;X-ADDRESS=Gugg – Giovannis Room Heumühlgasse 14 Wien 1040 Österreich;X-APPLE-RADIUS=500;X-TITLE=Heumühlgasse 14:geo:16.3617969,48.1961598
END:VEVENT
BEGIN:VEVENT
DTSTART;TZID=Europe/Vienna:20211102T190000
DTEND;TZID=Europe/Vienna:20211102T190000
DTSTAMP:20260420T010432
CREATED:20211029T104459Z
LAST-MODIFIED:20211029T110424Z
UID:90335-1635879600-1635879600@archiv.hosiwien.at
SUMMARY:SICHTBAR – 40 Jahre HOSI-Wien-Lesben*gruppe. Lesung & Gespräch: Kaśka Bryla
DESCRIPTION:Die Autorin Kaśka Bryla liest aus ihrem Roman “Roter Affe” und “Im September sterben die Wespen”.\nModeriert von Barbara Fröhlich\, ehem. langjährige Lesben*gruppenreferentin. \nKAŚKA BRYLA\nzwischen Wien und Warschau aufgewachsen. Studium der Volkswirtschaft in Wien\, Studium am Deutschen Literaturinstitut in Leipzig\, wo sie 2015 die Literaturzeitschrift und das Autor*innennetzwerk „PS-Politisch Schreiben“ mitbegründet. Sie lebt und arbeitet am liebsten in kollektiven Zusammenhängen. Sie war Redakteurin des Monatsmagazins an.schläge\, erhielt 2013 das STARTStipendium\, 2018 den Exil Preis für Prosa. 2021 wurde ihr Theaterstück „Das verkommene Land“ uraufgeführt. 2020 erschien ihr hochgelobter Debütroman „Roter Affe“\, 2022 der Roman „Die Eistaucher“. www.kaskabryla.com \nNebenbei kann die Ausstellung SICHTBAR\, kuratiert von Petra M. Springer\, anlässlich 40 Jahre HOSI Wien Lesben*gruppe besucht werden. \nEs gelten die aktuellen Gastro-Regeln: 2\,5-G-Regel (geimpft\, genesen\, PCR-getestet) und Registrierungspflicht.
URL:https://archiv.hosiwien.at/event/sichtbar-40-jahre-hosi-wien-lesbengruppe-lesung-gespraech-kaska-bryla/
LOCATION:Gugg\, Heumühlgasse 14\, Wien\, 1040
CATEGORIES:kulturelle Veranstaltung
ATTACH;FMTTYPE=image/jpeg:https://archiv.hosiwien.at/img/image/2021/40JahreLesben-gruppeLesungKaśkaBryla-scaled.jpg
GEO:48.1961598;16.3617969
X-APPLE-STRUCTURED-LOCATION;VALUE=URI;X-ADDRESS=Gugg Heumühlgasse 14 Wien 1040;X-APPLE-RADIUS=500;X-TITLE=Heumühlgasse 14:geo:16.3617969,48.1961598
END:VEVENT
BEGIN:VEVENT
DTSTART;TZID=Europe/Vienna:20211102T190000
DTEND;TZID=Europe/Vienna:20211103T000000
DTSTAMP:20260420T010432
CREATED:20211027T071105Z
LAST-MODIFIED:20250217T140321Z
UID:90235-1635879600-1635897600@archiv.hosiwien.at
SUMMARY:Offener Abend
DESCRIPTION:Jeden Dienstag findet im HOSI Vereinslokal “Das Gugg” der Offene Abend in ungezwungener Atmosphäre statt.\nBei einem Bier\, Wein\, Spritzer\, Kaffee\, Tee und dem gelegentlichen Käsetoast kann man im Gugg bestmöglich den Abend ausklingen lassen. \nAm Dienstag gibts bei uns im Gugg die ideale Gelegenheit\, um Kontakte in die Community zu knüpfen\, neue Leute kennenzulernen\, oder einfach nur ein Getränk bei (hoffentlich) guter Musik zu trinken.\nAlle\, die sich der LGBTIQ-Community und/oder der HOSI Wien verbunden fühlen\, sind herzlich eingeladen!
URL:https://archiv.hosiwien.at/event/offener-abend-2/2021-11-02/
LOCATION:Gugg\, Heumühlgasse 14\, Wien\, 1040
CATEGORIES:Bar service,Café-Betrieb,Gruppen
ATTACH;FMTTYPE=image/jpeg:https://archiv.hosiwien.at/img/image/2022/3-scaled.jpg
GEO:48.1961598;16.3617969
X-APPLE-STRUCTURED-LOCATION;VALUE=URI;X-ADDRESS=Gugg Heumühlgasse 14 Wien 1040;X-APPLE-RADIUS=500;X-TITLE=Heumühlgasse 14:geo:16.3617969,48.1961598
END:VEVENT
END:VCALENDAR