BEGIN:VCALENDAR
VERSION:2.0
PRODID:-//Homosexuelle Initiative (HOSI) Wien - ECPv5.16.4//NONSGML v1.0//EN
CALSCALE:GREGORIAN
METHOD:PUBLISH
X-WR-CALNAME:Homosexuelle Initiative (HOSI) Wien
X-ORIGINAL-URL:https://archiv.hosiwien.at
X-WR-CALDESC:Events for Homosexuelle Initiative (HOSI) Wien
REFRESH-INTERVAL;VALUE=DURATION:PT1H
X-Robots-Tag:noindex
X-PUBLISHED-TTL:PT1H
BEGIN:VTIMEZONE
TZID:Europe/Vienna
BEGIN:DAYLIGHT
TZOFFSETFROM:+0100
TZOFFSETTO:+0200
TZNAME:CEST
DTSTART:20210328T010000
END:DAYLIGHT
BEGIN:STANDARD
TZOFFSETFROM:+0200
TZOFFSETTO:+0100
TZNAME:CET
DTSTART:20211031T010000
END:STANDARD
END:VTIMEZONE
BEGIN:VEVENT
DTSTART;TZID=Europe/Vienna:20211117T090000
DTEND;TZID=Europe/Vienna:20211117T120000
DTSTAMP:20260420T064740
CREATED:20210115T105109Z
LAST-MODIFIED:20211104T072812Z
UID:88075-1637139600-1637150400@archiv.hosiwien.at
SUMMARY:Büro geschlossen
DESCRIPTION:  \n 
URL:https://archiv.hosiwien.at/event/buerozeiten-der-hosi-wien-achtung-kontakt-nur-per-mail-tel-moeglich-2-2021-07-28-2021-11-17/
LOCATION:Gugg\, Heumühlgasse 14\, Wien\, 1040
CATEGORIES:Sperre
GEO:48.1961598;16.3617969
X-APPLE-STRUCTURED-LOCATION;VALUE=URI;X-ADDRESS=Gugg Heumühlgasse 14 Wien 1040;X-APPLE-RADIUS=500;X-TITLE=Heumühlgasse 14:geo:16.3617969,48.1961598
END:VEVENT
BEGIN:VEVENT
DTSTART;TZID=Europe/Vienna:20211117T090000
DTEND;TZID=Europe/Vienna:20211117T170000
DTSTAMP:20260420T064740
CREATED:20210115T104346Z
LAST-MODIFIED:20210115T104346Z
UID:90572-1637139600-1637168400@archiv.hosiwien.at
SUMMARY:Büro geschlossen
DESCRIPTION:
URL:https://archiv.hosiwien.at/event/buerozeiten-der-hosi-wien-achtung-kontakt-nur-per-mail-tel-moeglich-2021-09-20-2021-09-21-2021-11-05/2021-11-17/
LOCATION:Gugg\, Heumühlgasse 14\, Wien\, 1040
CATEGORIES:Sperre
GEO:48.1961598;16.3617969
X-APPLE-STRUCTURED-LOCATION;VALUE=URI;X-ADDRESS=Gugg Heumühlgasse 14 Wien 1040;X-APPLE-RADIUS=500;X-TITLE=Heumühlgasse 14:geo:16.3617969,48.1961598
END:VEVENT
BEGIN:VEVENT
DTSTART;TZID=Europe/Vienna:20211117T190000
DTEND;TZID=Europe/Vienna:20211117T210000
DTSTAMP:20260420T064740
CREATED:20210831T083841Z
LAST-MODIFIED:20220113T094515Z
UID:89137-1637175600-1637182800@archiv.hosiwien.at
SUMMARY:Resis.danse-Tanzworkshop
DESCRIPTION:Alle Informationen zu den Workshops auf: www.resisdanse.at
URL:https://archiv.hosiwien.at/event/resis-danse-tanzworkshop-11/2021-11-17/
LOCATION:Gugg\, Heumühlgasse 14\, Wien\, 1040
CATEGORIES:Gruppen
ATTACH;FMTTYPE=image/png:https://archiv.hosiwien.at/img/image/2016/resisdanse-logo-trans.png
GEO:48.1961598;16.3617969
X-APPLE-STRUCTURED-LOCATION;VALUE=URI;X-ADDRESS=Gugg Heumühlgasse 14 Wien 1040;X-APPLE-RADIUS=500;X-TITLE=Heumühlgasse 14:geo:16.3617969,48.1961598
END:VEVENT
END:VCALENDAR