BEGIN:VCALENDAR
VERSION:2.0
PRODID:-//Homosexuelle Initiative (HOSI) Wien - ECPv5.16.4//NONSGML v1.0//EN
CALSCALE:GREGORIAN
METHOD:PUBLISH
X-WR-CALNAME:Homosexuelle Initiative (HOSI) Wien
X-ORIGINAL-URL:https://archiv.hosiwien.at
X-WR-CALDESC:Events for Homosexuelle Initiative (HOSI) Wien
REFRESH-INTERVAL;VALUE=DURATION:PT1H
X-Robots-Tag:noindex
X-PUBLISHED-TTL:PT1H
BEGIN:VTIMEZONE
TZID:Europe/Vienna
BEGIN:DAYLIGHT
TZOFFSETFROM:+0100
TZOFFSETTO:+0200
TZNAME:CEST
DTSTART:20220327T010000
END:DAYLIGHT
BEGIN:STANDARD
TZOFFSETFROM:+0200
TZOFFSETTO:+0100
TZNAME:CET
DTSTART:20221030T010000
END:STANDARD
END:VTIMEZONE
BEGIN:VEVENT
DTSTART;TZID=Europe/Vienna:20220115T190000
DTEND;TZID=Europe/Vienna:20220115T220000
DTSTAMP:20260420T092841
CREATED:20220112T131815Z
LAST-MODIFIED:20220112T133924Z
UID:90820-1642273200-1642284000@archiv.hosiwien.at
SUMMARY:Ho Ho HOSI! - Weihnachtsfeier
DESCRIPTION:Liebe Mitglieder der HOSI Wien\, \npünktlich zum Jahresende stecken wir schon wieder in einem weiteren unsäglichen Lockdown. Aber wir wollen uns die Feiertagsstimmung trotzdem noch nicht verderben lassen und euch eine frohe Botschaft verkünden: Wir laden euch ganz herzlich zur HOSI Wien Neujahrsfeier am Samstag\, den 15. Jänner 2022 ab 19 Uhr im Gugg ein. Freut euch auf Kekse\, Glühwein\, Last Christmas und weitere Weihnachtsklassiker sowie die eine oder andere Showeinlage. \nGerade weil diese Zeiten schwierig sind\, wollen wir es uns nicht nehmen lassen\, mit unserer queeren Familie Weihnachten nachzufeiern. Um dies so sicher wie möglich zu tun\, wird die Feier nur für Menschen mit 2G+ Nachweis zugänglich sein\, d.h. geimpft/genesen UND PCR-getestet. \nHerzliche Grüße\nEuer Vorstand
URL:https://archiv.hosiwien.at/event/ho-ho-hosi-weihnachtsfeier/
LOCATION:Gugg\, Heumühlgasse 14\, Wien\, 1040
CATEGORIES:Party
GEO:48.1961598;16.3617969
X-APPLE-STRUCTURED-LOCATION;VALUE=URI;X-ADDRESS=Gugg Heumühlgasse 14 Wien 1040;X-APPLE-RADIUS=500;X-TITLE=Heumühlgasse 14:geo:16.3617969,48.1961598
END:VEVENT
END:VCALENDAR