BEGIN:VCALENDAR
VERSION:2.0
PRODID:-//Homosexuelle Initiative (HOSI) Wien - ECPv5.16.4//NONSGML v1.0//EN
CALSCALE:GREGORIAN
METHOD:PUBLISH
X-ORIGINAL-URL:https://archiv.hosiwien.at
X-WR-CALDESC:Events for Homosexuelle Initiative (HOSI) Wien
REFRESH-INTERVAL;VALUE=DURATION:PT1H
X-Robots-Tag:noindex
X-PUBLISHED-TTL:PT1H
BEGIN:VTIMEZONE
TZID:Europe/Vienna
BEGIN:DAYLIGHT
TZOFFSETFROM:+0100
TZOFFSETTO:+0200
TZNAME:CEST
DTSTART:20220327T010000
END:DAYLIGHT
BEGIN:STANDARD
TZOFFSETFROM:+0200
TZOFFSETTO:+0100
TZNAME:CET
DTSTART:20221030T010000
END:STANDARD
END:VTIMEZONE
BEGIN:VEVENT
DTSTART;TZID=Europe/Vienna:20220116T130000
DTEND;TZID=Europe/Vienna:20220116T190000
DTSTAMP:20260420T052118
CREATED:20210903T093952Z
LAST-MODIFIED:20220321T151456Z
UID:89201-1642338000-1642359600@archiv.hosiwien.at
SUMMARY:HOSIsters-Probe
DESCRIPTION:
URL:https://archiv.hosiwien.at/event/hosisters-probe-24/2022-01-16/
LOCATION:Gugg\, Heumühlgasse 14\, Wien\, 1040
CATEGORIES:Intern
GEO:48.1961598;16.3617969
X-APPLE-STRUCTURED-LOCATION;VALUE=URI;X-ADDRESS=Gugg Heumühlgasse 14 Wien 1040;X-APPLE-RADIUS=500;X-TITLE=Heumühlgasse 14:geo:16.3617969,48.1961598
END:VEVENT
BEGIN:VEVENT
DTSTART;TZID=Europe/Vienna:20220116T190000
DTEND;TZID=Europe/Vienna:20220116T203000
DTSTAMP:20260420T052118
CREATED:20220104T164329Z
LAST-MODIFIED:20220115T133500Z
UID:90692-1642359600-1642365000@archiv.hosiwien.at
SUMMARY:Queer-Yoga
DESCRIPTION:Warum Queer-Yoga? Dafür gibt es so viele Gründe wie Farben im Regenbogen. Gemeinsam im Hier und Jetzt ankommen. Die Dinge\, deine Gefühle\, deinen Körper\, so anzunehmen\, wie sie sind. Achtsam mit sich und dem Umfeld umgehen. Die Abwehrkräfte stärken\, gerade in diesen Zeiten so wichtig. Tief einatmen\, tief ausatmen. Den Körper spüren\, alle Muskeln einsetzen vom kleinsten zum größten. Die Verbundenheit untereinander in einer Gruppe erleben. \nMatías ist unser Yogi\, der uns auf eine Reise durch die Welt von Hatha und Vinyasa Yoga mitnimmt. Du kannst mit diesen Begriffen nichts anfangen? Kein Problem\, er holt dich als Anfänger*in dort ab wo du gerade bist. Leitet an\, wo nötig\, gibt Tipps für leichtere Varianten und achtet bei jedem/r Teilnehmer*in auf die richtige Ausführung. \nIn jeder Yoga-Einheit werden deine Chakras\, Muskeln und Sehnen durch Dreh-\, Beuge- und Dehnübungen der verschiedenen Asanas aktiviert\, vom Kronen Chakra bis hin zu den Zehenspitzen. \nJede*r ist willkommen\, das Angebot richtet sich an alle LGBTIQs und ihre Freund*innen. \nBitte kommt in bequemer\, lockerer Kleidung und bringt eine eigene Yogamatte mit. \nAm Einlass müssen alle den Grünen Pass vorweisen\, derzeit gilt die 2G Regel (entweder geimpft oder genesen). Während des Yoga dürfen wir die Maske abnehmen\, sonst muss in den zugänglichen Bereichen eine FFP2-Maske getragen werden.\n \nEintritt: freie Spende \nDatum und Uhrzeit: am Sonntag\, 16.1. von 19:00 – 20:30. Achtung: eventuelle Terminänderungen sind möglich\, daher bitte immer vorher den online-Kalender und/oder die Facebook-Seite checken! \nWir beginnen pünktlich und öffnen bereits um 17:30 für euch\, damit ihr euch umziehen könnt. \nOrt: Gugg – Heumühlgasse 14\, 1040 Wien \nKontakt: yoga@archiv.hosiwien.at
URL:https://archiv.hosiwien.at/event/queer-yoga-2022_01_16/
LOCATION:Gugg\, Heumühlgasse 14\, Wien\, 1040
CATEGORIES:Gruppen
ATTACH;FMTTYPE=image/jpeg:https://archiv.hosiwien.at/img/image/2019/yoga-hosi-0001.jpg
GEO:48.1961598;16.3617969
X-APPLE-STRUCTURED-LOCATION;VALUE=URI;X-ADDRESS=Gugg Heumühlgasse 14 Wien 1040;X-APPLE-RADIUS=500;X-TITLE=Heumühlgasse 14:geo:16.3617969,48.1961598
END:VEVENT
END:VCALENDAR