BEGIN:VCALENDAR
VERSION:2.0
PRODID:-//Homosexuelle Initiative (HOSI) Wien - ECPv5.16.4//NONSGML v1.0//EN
CALSCALE:GREGORIAN
METHOD:PUBLISH
X-ORIGINAL-URL:https://archiv.hosiwien.at
X-WR-CALDESC:Events for Homosexuelle Initiative (HOSI) Wien
REFRESH-INTERVAL;VALUE=DURATION:PT1H
X-Robots-Tag:noindex
X-PUBLISHED-TTL:PT1H
BEGIN:VTIMEZONE
TZID:Europe/Vienna
BEGIN:DAYLIGHT
TZOFFSETFROM:+0100
TZOFFSETTO:+0200
TZNAME:CEST
DTSTART:20220327T010000
END:DAYLIGHT
BEGIN:STANDARD
TZOFFSETFROM:+0200
TZOFFSETTO:+0100
TZNAME:CET
DTSTART:20221030T010000
END:STANDARD
END:VTIMEZONE
BEGIN:VEVENT
DTSTART;TZID=Europe/Vienna:20220201T150000
DTEND;TZID=Europe/Vienna:20220201T163000
DTSTAMP:20260420T052143
CREATED:20210914T085237Z
LAST-MODIFIED:20221025T113653Z
UID:90705-1643727600-1643733000@archiv.hosiwien.at
SUMMARY:Männergruppe / Projekt P.I.L.O.T. / Integration Wien
DESCRIPTION:geschlossene Veranstaltung. \nLeitung: Armin Knöbl \nKontakt:\nMag.a Stefanie Hiller\nTannhäuserplatz 2/1\n1150 Wien\n01 7892642-29\nstefanie.hiller@integrationwien.at\nwww.integrationwien.at
URL:https://archiv.hosiwien.at/event/maennergruppe-projekt-p-i-l-o-t-integration-wien-2021-10-26/2022-02-01/
LOCATION:Gugg – Giovannis Room\, Heumühlgasse 14\, Wien\, 1040\, Österreich
CATEGORIES:Intern
ATTACH;FMTTYPE=image/png:https://archiv.hosiwien.at/img/image/2022/download___iwi_logo.png
GEO:48.1961598;16.3617969
X-APPLE-STRUCTURED-LOCATION;VALUE=URI;X-ADDRESS=Gugg – Giovannis Room Heumühlgasse 14 Wien 1040 Österreich;X-APPLE-RADIUS=500;X-TITLE=Heumühlgasse 14:geo:16.3617969,48.1961598
END:VEVENT
END:VCALENDAR