BEGIN:VCALENDAR
VERSION:2.0
PRODID:-//Homosexuelle Initiative (HOSI) Wien - ECPv5.16.4//NONSGML v1.0//EN
CALSCALE:GREGORIAN
METHOD:PUBLISH
X-ORIGINAL-URL:https://archiv.hosiwien.at
X-WR-CALDESC:Events for Homosexuelle Initiative (HOSI) Wien
REFRESH-INTERVAL;VALUE=DURATION:PT1H
X-Robots-Tag:noindex
X-PUBLISHED-TTL:PT1H
BEGIN:VTIMEZONE
TZID:Europe/Vienna
BEGIN:DAYLIGHT
TZOFFSETFROM:+0100
TZOFFSETTO:+0200
TZNAME:CEST
DTSTART:20220327T010000
END:DAYLIGHT
BEGIN:STANDARD
TZOFFSETFROM:+0200
TZOFFSETTO:+0100
TZNAME:CET
DTSTART:20221030T010000
END:STANDARD
END:VTIMEZONE
BEGIN:VEVENT
DTSTART;TZID=Europe/Vienna:20220214T183000
DTEND;TZID=Europe/Vienna:20220214T183000
DTSTAMP:20260420T080446
CREATED:20210803T073415Z
LAST-MODIFIED:20221011T090440Z
UID:91108-1644863400-1644863400@archiv.hosiwien.at
SUMMARY:Vorstandssitzung
DESCRIPTION:Der Vorstand der HOSI Wien ist gemäß Statuten das leitende und geschäftsführende Organ des Vereins. Er tritt monatlich mindestens einmal zu einer allen Mitgliedern zugänglichen Sitzung zusammen.
URL:https://archiv.hosiwien.at/event/vorstandssitzung-26-2021-10-04-2021-12-06/2022-02-14/
LOCATION:Gugg – Salon Helga\, Heumühlgasse 14\, Vienna\, 1040\, Österreich
CATEGORIES:Intern
ATTACH;FMTTYPE=image/jpeg:https://archiv.hosiwien.at/img/image/2022/hosi-wien-logo-ohne-Schein-ab-2022-scaled.jpg
GEO:48.1961598;16.3617969
X-APPLE-STRUCTURED-LOCATION;VALUE=URI;X-ADDRESS=Gugg – Salon Helga Heumühlgasse 14 Vienna 1040 Österreich;X-APPLE-RADIUS=500;X-TITLE=Heumühlgasse 14:geo:16.3617969,48.1961598
END:VEVENT
END:VCALENDAR