BEGIN:VCALENDAR
VERSION:2.0
PRODID:-//Homosexuelle Initiative (HOSI) Wien - ECPv5.16.4//NONSGML v1.0//EN
CALSCALE:GREGORIAN
METHOD:PUBLISH
X-ORIGINAL-URL:https://archiv.hosiwien.at
X-WR-CALDESC:Events for Homosexuelle Initiative (HOSI) Wien
REFRESH-INTERVAL;VALUE=DURATION:PT1H
X-Robots-Tag:noindex
X-PUBLISHED-TTL:PT1H
BEGIN:VTIMEZONE
TZID:Europe/Vienna
BEGIN:DAYLIGHT
TZOFFSETFROM:+0100
TZOFFSETTO:+0200
TZNAME:CEST
DTSTART:20220327T010000
END:DAYLIGHT
BEGIN:STANDARD
TZOFFSETFROM:+0200
TZOFFSETTO:+0100
TZNAME:CET
DTSTART:20221030T010000
END:STANDARD
END:VTIMEZONE
BEGIN:VEVENT
DTSTART;TZID=Europe/Vienna:20220228T190000
DTEND;TZID=Europe/Vienna:20220228T210000
DTSTAMP:20260420T080346
CREATED:20220215T112406Z
LAST-MODIFIED:20220217T144011Z
UID:91154-1646074800-1646082000@archiv.hosiwien.at
SUMMARY:Lesung mit Jürgen Pettinger
DESCRIPTION:Am Montag\, den 28. Februar 2022\, laden wir euch um 19 Uhr zur Lesung von „Franz. Schwul unterm Hakenkreuz“ mit Autor Jürgen Pettinger ein. Im Anschluss besteht die Möglichkeit mit dem Autor zu diskutieren\, Fragen zu stellen und sein Buch zu erwerben. \n  \nModeration: Cherry T Joystick \nBüchertisch: Buchhandlung Löwenherz \nFranz Doms ist eines der vergessenen Opfer der NS-Justiz. Wie tausende andere schwule Männer wurde er verfolgt\, diskriminiert\, inhaftiert und schließlich zum Tode verurteilt. 1944 starb er im Alter von 21 Jahren im Hinrichtungsraum des Landesgerichts Wien. Bis zu seinem Tod blieb er loyal und denunzierte nie andere\, um sich selbst zu retten. Jürgen Pettinger hat sich intensiv mit Franz Doms Leidensweg auseinandergesetzt\, erzählt bildhaft\, was über sein Leben bekannt ist\, zitiert aus überlieferten Ermittlungs- und Gerichtsakten und bildet Dialoge anhand von Gesprächsprotokollen nach. Doch Pettingers Zugang ist mehr als eine bloße Rekonstruktion der Fakten. Er taucht tief in die Welt Franz Doms’ ein und zeichnet dessen letzte Lebensjahre auf intime und packende Weise nach\, wodurch sein tragisches Schicksal\, das exemplarisch für die systematische Verfolgung Homosexueller während des NS-Regimes steht\, nah und spürbar wird. \nEinlass: 18:30 Uhr \nStart der Lesung: 19:00 Uhr \nEintritt frei. \nBeitragsbild: (c) Manfred Weiß \n[es gelten\, die entsprechenden Corona-Maßnahmen der Gastronomie in Wien\, die zum Zeitpunkt der Veranstaltung Gültigkeit haben.]
URL:https://archiv.hosiwien.at/event/lesung-mit-juergen-pettinger/
LOCATION:Gugg – Giovannis Room\, Heumühlgasse 14\, Wien\, 1040\, Österreich
CATEGORIES:kulturelle Veranstaltung
ATTACH;FMTTYPE=image/jpeg:https://archiv.hosiwien.at/img/image/2022/Pettinger-Juergen_c_Manfred-Weis-scaled.jpg
GEO:48.1961598;16.3617969
X-APPLE-STRUCTURED-LOCATION;VALUE=URI;X-ADDRESS=Gugg – Giovannis Room Heumühlgasse 14 Wien 1040 Österreich;X-APPLE-RADIUS=500;X-TITLE=Heumühlgasse 14:geo:16.3617969,48.1961598
END:VEVENT
END:VCALENDAR