BEGIN:VCALENDAR
VERSION:2.0
PRODID:-//Homosexuelle Initiative (HOSI) Wien - ECPv5.16.4//NONSGML v1.0//EN
CALSCALE:GREGORIAN
METHOD:PUBLISH
X-ORIGINAL-URL:https://archiv.hosiwien.at
X-WR-CALDESC:Events for Homosexuelle Initiative (HOSI) Wien
REFRESH-INTERVAL;VALUE=DURATION:PT1H
X-Robots-Tag:noindex
X-PUBLISHED-TTL:PT1H
BEGIN:VTIMEZONE
TZID:Europe/Vienna
BEGIN:DAYLIGHT
TZOFFSETFROM:+0100
TZOFFSETTO:+0200
TZNAME:CEST
DTSTART:20220327T010000
END:DAYLIGHT
BEGIN:STANDARD
TZOFFSETFROM:+0200
TZOFFSETTO:+0100
TZNAME:CET
DTSTART:20221030T010000
END:STANDARD
END:VTIMEZONE
BEGIN:VEVENT
DTSTART;TZID=Europe/Vienna:20220305T203000
DTEND;TZID=Europe/Vienna:20220306T000000
DTSTAMP:20260420T081430
CREATED:20220112T145724Z
LAST-MODIFIED:20220310T115355Z
UID:90836-1646512200-1646524800@archiv.hosiwien.at
SUMMARY:Lipstick Ball
DESCRIPTION:The Lipstick Ball proudly presents:  „Haus of Lipstick“ – eine bunte Revue Show mit euren Lieblingen des Lipsticks.  \nEgal ob Lipsync\, Tanz\, Live-Gesang oder Comedy – da ist für jede/n was dabei! \n Worauf wartet ihr noch?  \nReserviert eure Tickets ab dem 20.2.2022 um 14h\, direkt über „The Lipstick Ball“ auf FB oder Instagram. \nEinlass: 20:00\nStart der Show: 20:30\n\nAchtung:\nEs gelten die Corona-Richtlinien für Gastronomie bzw. Veranstaltungen.\nAktuell: 3G (PCR-Tests 48h gültig)\, Während der Veranstaltung FFP2-Maskenpflicht\, Am Sitzplatz im Cafe-Bereich keine Maskenpflicht.\nRegistrierungspflicht für alle Gäste.\nÄnderungen in den Verordnungen können sich noch ergeben.
URL:https://archiv.hosiwien.at/event/lipstick-ball-3/2022-03-05/
LOCATION:Gugg\, Heumühlgasse 14\, Wien\, 1040
CATEGORIES:kulturelle Veranstaltung
ATTACH;FMTTYPE=image/jpeg:https://archiv.hosiwien.at/img/image/2022/LipstickBallLogoandTitle-scaled.jpg
ORGANIZER;CN="Kulturverein%20The%20Lipstick%20Ball":MAILTO:thelipstickball@gmail.com
GEO:48.1961598;16.3617969
X-APPLE-STRUCTURED-LOCATION;VALUE=URI;X-ADDRESS=Gugg Heumühlgasse 14 Wien 1040;X-APPLE-RADIUS=500;X-TITLE=Heumühlgasse 14:geo:16.3617969,48.1961598
END:VEVENT
END:VCALENDAR