BEGIN:VCALENDAR
VERSION:2.0
PRODID:-//Homosexuelle Initiative (HOSI) Wien - ECPv5.16.4//NONSGML v1.0//EN
CALSCALE:GREGORIAN
METHOD:PUBLISH
X-WR-CALNAME:Homosexuelle Initiative (HOSI) Wien
X-ORIGINAL-URL:https://archiv.hosiwien.at
X-WR-CALDESC:Events for Homosexuelle Initiative (HOSI) Wien
REFRESH-INTERVAL;VALUE=DURATION:PT1H
X-Robots-Tag:noindex
X-PUBLISHED-TTL:PT1H
BEGIN:VTIMEZONE
TZID:Europe/Vienna
BEGIN:DAYLIGHT
TZOFFSETFROM:+0100
TZOFFSETTO:+0200
TZNAME:CEST
DTSTART:20220327T010000
END:DAYLIGHT
BEGIN:STANDARD
TZOFFSETFROM:+0200
TZOFFSETTO:+0100
TZNAME:CET
DTSTART:20221030T010000
END:STANDARD
END:VTIMEZONE
BEGIN:VEVENT
DTSTART;TZID=Europe/Vienna:20220315T110000
DTEND;TZID=Europe/Vienna:20220315T120000
DTSTAMP:20260420T115336
CREATED:20210928T131133Z
LAST-MODIFIED:20220405T090459Z
UID:89944-1647342000-1647345600@archiv.hosiwien.at
SUMMARY:Queer Base - Yoga for you!
DESCRIPTION:geschlossene Veranstaltung
URL:https://archiv.hosiwien.at/event/trauma-sensitives-yoga/2022-03-15/
LOCATION:Gugg – Giovannis Room\, Heumühlgasse 14\, Wien\, 1040\, Österreich
CATEGORIES:Intern
ATTACH;FMTTYPE=image/jpeg:https://archiv.hosiwien.at/img/image/2021/Yogaforyou-scaled.jpg
ORGANIZER;CN="Queer%20Base%20%E2%80%93%20Welcome%20and%20Support%20for%20LGBTIQ%20Refugees":MAILTO:office@queerbase.at
GEO:48.1961598;16.3617969
X-APPLE-STRUCTURED-LOCATION;VALUE=URI;X-ADDRESS=Gugg – Giovannis Room Heumühlgasse 14 Wien 1040 Österreich;X-APPLE-RADIUS=500;X-TITLE=Heumühlgasse 14:geo:16.3617969,48.1961598
END:VEVENT
BEGIN:VEVENT
DTSTART;TZID=Europe/Vienna:20220315T150000
DTEND;TZID=Europe/Vienna:20220315T163000
DTSTAMP:20260420T115336
CREATED:20210914T085237Z
LAST-MODIFIED:20221025T113653Z
UID:91120-1647356400-1647361800@archiv.hosiwien.at
SUMMARY:Männergruppe / Projekt P.I.L.O.T. / Integration Wien
DESCRIPTION:geschlossene Veranstaltung. \nLeitung: Armin Knöbl \nKontakt:\nMag.a Stefanie Hiller\nTannhäuserplatz 2/1\n1150 Wien\n01 7892642-29\nstefanie.hiller@integrationwien.at\nwww.integrationwien.at
URL:https://archiv.hosiwien.at/event/maennergruppe-projekt-p-i-l-o-t-integration-wien-2021-10-26/2022-03-15/
LOCATION:Gugg – Giovannis Room\, Heumühlgasse 14\, Wien\, 1040\, Österreich
CATEGORIES:Intern
ATTACH;FMTTYPE=image/png:https://archiv.hosiwien.at/img/image/2022/download___iwi_logo.png
GEO:48.1961598;16.3617969
X-APPLE-STRUCTURED-LOCATION;VALUE=URI;X-ADDRESS=Gugg – Giovannis Room Heumühlgasse 14 Wien 1040 Österreich;X-APPLE-RADIUS=500;X-TITLE=Heumühlgasse 14:geo:16.3617969,48.1961598
END:VEVENT
BEGIN:VEVENT
DTSTART;TZID=Europe/Vienna:20220315T180000
DTEND;TZID=Europe/Vienna:20220316T000000
DTSTAMP:20260420T115336
CREATED:20210528T110055Z
LAST-MODIFIED:20221117T111441Z
UID:88439-1647367200-1647388800@archiv.hosiwien.at
SUMMARY:50+ Prime Timers
DESCRIPTION:Die 50+ Prime Timers sind eine Gruppe speziell für Menschen über 50 Jahren.\nDu suchst Anschluss oder möchtest dich in der gemütlichen Atmosphäre des Guggs mit anderen austauschen?\nDann komm‘ doch einfach zum Treffen der Prime Timers\, die sich jeden 3. Dienstag im Monat ab 18 Uhr im Gugg treffen. \nDas Treffen findet im Barbereich statt. \nHINWEIS: Das umfangreiche Serviceangebot der HOSI Wien wird durch ehrenamtliches Engagement erbracht. Wie du die wichtige Arbeit des Vereins durch Spende oder Mitgliedschaft unterstützen kannst\, erfährst du unter archiv.hosiwien.at/mitgliedschaft.
URL:https://archiv.hosiwien.at/event/50-prime-timers-31/2022-03-15/
LOCATION:Gugg\, Heumühlgasse 14\, Wien\, 1040
CATEGORIES:Gruppen
ATTACH;FMTTYPE=image/jpeg:https://archiv.hosiwien.at/img/50+.jpg
GEO:48.1961598;16.3617969
X-APPLE-STRUCTURED-LOCATION;VALUE=URI;X-ADDRESS=Gugg Heumühlgasse 14 Wien 1040;X-APPLE-RADIUS=500;X-TITLE=Heumühlgasse 14:geo:16.3617969,48.1961598
END:VEVENT
BEGIN:VEVENT
DTSTART;TZID=Europe/Vienna:20220315T190000
DTEND;TZID=Europe/Vienna:20220316T000000
DTSTAMP:20260420T115336
CREATED:20220216T124155Z
LAST-MODIFIED:20220216T124155Z
UID:91156-1647370800-1647388800@archiv.hosiwien.at
SUMMARY:Get-together zum Lambda Release
DESCRIPTION:
URL:https://archiv.hosiwien.at/event/get-together-zum-lambda-release/
LOCATION:Gugg\, Heumühlgasse 14\, Wien\, 1040
CATEGORIES:Gruppen
ATTACH;FMTTYPE=image/png:https://archiv.hosiwien.at/img/image/2022/lambda-logo.png
ORGANIZER;CN="HOSI%20Wien":MAILTO:office@archiv.hosiwien.at
GEO:48.1961598;16.3617969
X-APPLE-STRUCTURED-LOCATION;VALUE=URI;X-ADDRESS=Gugg Heumühlgasse 14 Wien 1040;X-APPLE-RADIUS=500;X-TITLE=Heumühlgasse 14:geo:16.3617969,48.1961598
END:VEVENT
END:VCALENDAR